PDS_VERSION_ID = PDS3
/* FILE DATA ELEMENTS */
RECORD_TYPE = STREAM
/* POINTERS TO DATA OBJECTS */
^COMPRESSED_FILE = "H2990_0000_S13.JP2"
/* IDENTIFICATION DATA ELEMENTS */
DATA_SET_ID = "MEX-M-HRSC-5-REFDR-MAPPROJECTED-V3.0"
DATA_SET_NAME = "MARS EXPRESS HRSC MAP PROJECTED REFDR V3.0"
DETECTOR_ID = MEX_HRSC_S1
EVENT_TYPE = "MARS-REGIONAL-STEREO-Vo-Te-La"
INSTRUMENT_HOST_ID = MEX
INSTRUMENT_HOST_NAME = "MARS EXPRESS"
INSTRUMENT_ID = HRSC
INSTRUMENT_NAME = "HIGH RESOLUTION STEREO CAMERA"
MISSION_NAME = "MARS EXPRESS"
MISSION_PHASE_NAME = ME_Phase_3
PROCESSING_LEVEL_ID = 3
PRODUCT_CREATION_TIME = 2016-04-08T13:52:43.000Z
PRODUCT_ID = "H2990_0000_S13.JP2"
RELEASE_ID = 0036
REVISION_ID = 0000
/* QUALITY DATA ELEMENTS */
DATA_QUALITY_ID = 1
DATA_QUALITY_DESC = "Data calculated based on original SPICE kernels"
/* TIME DATA ELEMENTS */
SPACECRAFT_CLOCK_START_COUNT = "1/0095291510.09053"
SPACECRAFT_CLOCK_STOP_COUNT = "1/0095291693.48565"
START_TIME = 2006-05-09T21:51:55.578Z
STOP_TIME = 2006-05-09T21:54:05.449Z
/* ORBITAL DATA ELEMENTS */
ASCENDING_NODE_LONGITUDE = 165.52
MAXIMUM_RESOLUTION = 24.7
FOOTPRINT_POINT_LATITUDE = (-1.8784,-1.87447,-1.87108,-1.86787, -1.86484,-1.86199,-1.85927,-2.00776, -2.17917,-2.35084,-2.60908,-2.78127, -2.95365,-3.21258,-3.3854,-3.55709, -3.80826,-3.97596,-4.14317,-4.31293, -4.50724,-4.68368,-4.8447,-5.1523, -5.31929,-5.48979,-5.65702,-5.82631, -6.07873,-6.24224,-6.41999,-6.59499, -6.76397,-6.92948,-7.09386,-7.25508, -7.56695,-7.7211,-7.96827,-8.13833, -8.29734,-8.46161,-8.62665,-8.79186, -8.9572,-9.1227,-9.28821,-9.45434, -9.61938,-9.86808,-10.0339,-10.193, -10.1969,-10.2,-10.2028,-10.206, -10.1298,-9.88399,-9.71811,-9.55237, -9.3869,-9.22175,-9.0562,-8.89404, -8.72675,-8.49472,-8.32393,-8.06618, -7.90455,-7.60623,-7.43968,-7.28818, -7.12634,-6.95761,-6.77463,-6.50651, -6.34246,-6.09691,-5.84401,-5.67451, -5.50572,-5.33768,-5.0915,-4.93714, -4.77692,-4.60274,-4.4386,-4.1784, -4.00035,-3.82452,-3.65816,-3.48936, -3.31663,-3.05767,-2.88524,-2.71298, -2.45523,-2.28324,-2.11166,-1.8784)
FOOTPRINT_POINT_LONGITUDE = (275.762,275.561,275.384,275.207,275.03 ,274.854,274.679,274.626,274.627, 274.628,274.63,274.631,274.632,274.634, 274.635,274.635,274.637,274.638,274.639 ,274.639,274.635,274.634,274.636, 274.643,274.644,274.645,274.646,274.646 ,274.647,274.648,274.646,274.644, 274.643,274.644,274.644,274.645,274.649 ,274.652,274.653,274.652,274.653, 274.654,274.654,274.655,274.655,274.655 ,274.656,274.656,274.656,274.657, 274.657,274.657,274.905,275.095,275.265 ,275.456,275.691,275.692,275.692, 275.692,275.693,275.693,275.694,275.696 ,275.695,275.703,275.701,275.697, 275.699,275.714,275.714,275.72,275.722, 275.721,275.714,275.706,275.707,275.708 ,275.71,275.711,275.712,275.714,275.719 ,275.726,275.731,275.73,275.733,275.732 ,275.73,275.728,275.73,275.732,275.734, 275.737,275.739,275.741,275.744,275.746 ,275.749,275.762)
ORBIT_NUMBER = 2990
ORBITAL_ECCENTRICITY = 0.573
ORBITAL_INCLINATION = 86.63
ORBITAL_SEMIMAJOR_AXIS = 8627.58
PERIAPSIS_ALTITUDE = 291.61
PERIAPSIS_ARGUMENT_ANGLE = 192.97
PERIAPSIS_TIME = 2006-05-09T21:55:12.000Z
SPACECRAFT_ORIENTATION = (0.0,-1.0,0.0)
^MEX_ORIENTATION_DESC = "MEX_ORIENTATION_DESC.TXT"
SPACECRAFT_POINTING_MODE = ACROSSTRACK
^MEX_POINTING_DESC = "MEX_POINTING_DESC.TXT"
RIGHT_ASCENSION = -1e+32
DECLINATION = -1e+32
OFFSET_ANGLE = 0.2
SPACECRAFT_SOLAR_DISTANCE = 2.47592e+08
TARGET_NAME = MARS
/* CAMERA DATA ELEMENTS */
DETECTOR_TEMPERATURE = 17.1471
FOCAL_PLANE_TEMPERATURE = 7.9716
INST_CMPRS_NAME = "DISCRETE COSINE TRANSFORMATION (DCT)"
INST_CMPRS_RATIO = 11.4322
INST_CMPRS_QUALITY = 0
INST_CMPRS_QUANTZ_TBL_ID = 0
INSTRUMENT_TEMPERATURE = 11.0301
LENS_TEMPERATURE = 8.1755
MACROPIXEL_SIZE = 2
MISSING_FRAMES = 0
PIXEL_SUBSAMPLING_FLAG = N
SIGNAL_CHAIN_ID = 1
/* RADIOMETRIC DATA ELEMENTS */
BANDWIDTH = 180.0
CENTER_FILTER_WAVELENGTH = 677.0
RADIANCE_OFFSET = 0.744198
RADIANCE_SCALING_FACTOR = 0.0170936
REFLECTANCE_SCALING_FACTOR = 0.000546699
MEX:REFLECTANCE_OFFSET = 0.0238014
/* IMAGE OBJECT DEFINITIONS */
OBJECT = IMAGE
  INTERCHANGE_FORMAT = BINARY
  LINES = 19861
  LINE_SAMPLES = 2809
  SAMPLE_TYPE = UNSIGNED_INTEGER
  SAMPLE_BITS = 8
  BANDS = 1
  BAND_STORAGE_TYPE = BAND_SEQUENTIAL
  MAXIMUM = 255
  MEAN = 85.7217
  MINIMUM = 1
  STANDARD_DEVIATION = 34.3989
END_OBJECT = IMAGE
/* MAP OBJECT DEFINITIONS */
OBJECT = IMAGE_MAP_PROJECTION
  ^DATA_SET_MAP_PROJECTION_CATALOG= "DSMAP.CAT"
  A_AXIS_RADIUS = 3396.0
  B_AXIS_RADIUS = 3396.0
  C_AXIS_RADIUS = 3396.0
  CENTER_LATITUDE = 0.0
  CENTER_LONGITUDE = 275.0
  COORDINATE_SYSTEM_NAME = PLANETOGRAPHIC
  COORDINATE_SYSTEM_TYPE = "BODY-FIXED ROTATING"
  EASTERNMOST_LONGITUDE = 275.762
  FIRST_STANDARD_PARALLEL = "N/A"
  LINE_FIRST_PIXEL = 1
  LINE_LAST_PIXEL = 19861
  LINE_PROJECTION_OFFSET = -4390.25
  MAP_PROJECTION_ROTATION = 0.0
  MAP_PROJECTION_TYPE = SINUSOIDAL
  MAP_RESOLUTION = 2370.85521546667
  MAP_SCALE = 0.025
  MAXIMUM_LATITUDE = -1.85927
  MINIMUM_LATITUDE = -10.206
  POSITIVE_LONGITUDE_DIRECTION = EAST
  REFERENCE_LATITUDE = "N/A"
  REFERENCE_LONGITUDE = "N/A"
  SAMPLE_FIRST_PIXEL = 1
  SAMPLE_LAST_PIXEL = 2809
  SAMPLE_PROJECTION_OFFSET = 922.25
  SECOND_STANDARD_PARALLEL = "N/A"
  WESTERNMOST_LONGITUDE = 274.626
END_OBJECT = IMAGE_MAP_PROJECTION
/* The JPEG2000 image data file associated with this label. */
OBJECT = COMPRESSED_FILE
  FILE_NAME = "H2990_0000_S13.JP2"
  RECORD_TYPE = UNDEFINED
  FILE_RECORDS = UNK
  ENCODING_TYPE = "JP2"
  INTERCHANGE_FORMAT = BINARY
  UNCOMPRESSED_FILE_NAME = "H2990_0000_S13.IMG"
  REQUIRED_STORAGE_BYTES = "55812021"
  ^DESCRIPTION = "JP2INFO.TXT"
END_OBJECT = COMPRESSED_FILE
END
