PDS_VERSION_ID = PDS3
/* FILE DATA ELEMENTS */
RECORD_TYPE = STREAM
/* POINTERS TO DATA OBJECTS */
^COMPRESSED_FILE = "H2991_0000_RE3.JP2"
/* IDENTIFICATION DATA ELEMENTS */
DATA_SET_ID = "MEX-M-HRSC-5-REFDR-MAPPROJECTED-V3.0"
DATA_SET_NAME = "MARS EXPRESS HRSC MAP PROJECTED REFDR V3.0"
DETECTOR_ID = MEX_HRSC_RED
EVENT_TYPE = "MARS-REGIONAL-MAPPING-Vo-Gl-Eo"
INSTRUMENT_HOST_ID = MEX
INSTRUMENT_HOST_NAME = "MARS EXPRESS"
INSTRUMENT_ID = HRSC
INSTRUMENT_NAME = "HIGH RESOLUTION STEREO CAMERA"
MISSION_NAME = "MARS EXPRESS"
MISSION_PHASE_NAME = ME_Phase_3
PROCESSING_LEVEL_ID = 3
PRODUCT_CREATION_TIME = 2016-04-08T13:52:43.000Z
PRODUCT_ID = "H2991_0000_RE3.JP2"
RELEASE_ID = 0036
REVISION_ID = 0000
/* QUALITY DATA ELEMENTS */
DATA_QUALITY_ID = 2
DATA_QUALITY_DESC = "Data calculated based on photogrammetrically improved orbit and attitude data"
/* TIME DATA ELEMENTS */
SPACECRAFT_CLOCK_START_COUNT = "1/0095315511.08422"
SPACECRAFT_CLOCK_STOP_COUNT = "1/0095315777.23398"
START_TIME = 2006-05-10T04:33:04.903Z
STOP_TIME = 2006-05-10T04:36:16.082Z
/* ORBITAL DATA ELEMENTS */
ASCENDING_NODE_LONGITUDE = 165.5
MAXIMUM_RESOLUTION = 103.2
FOOTPRINT_POINT_LATITUDE = (9.51495,9.52177,9.5286,9.55519,9.24697 ,8.93824,8.62916,8.16891,7.9096,7.65015 ,7.39054,7.13082,6.871,6.6111,6.35107, 6.09091,5.83062,5.57021,5.30972,5.04911 ,4.78845,4.52766,4.26679,4.00584, 3.61799,3.36527,3.11247,2.85962,2.60669 ,2.35372,2.10069,1.84872,1.60381, 1.35857,1.11361,0.746522,0.501549, 0.134338,-0.110714,-0.471105,-0.826365, -1.06347,-1.29935,-1.53625,-1.77304, -2.01013,-2.24511,-2.48417,-2.72057, -2.95609,-3.18677,-3.19231,-3.19783, -3.08869,-2.50007,-2.14452,-1.90716, -1.67148,-1.43458,-1.1979,-0.842891, -0.605863,-0.370188,-0.128277,0.117267, 0.362405,0.607816,0.852828,1.09762, 1.46462,1.70955,1.95751,2.21105,2.46434 ,2.84354,3.09635,3.34911,3.6018,3.85928 ,4.12023,4.38109,4.64186,5.03284, 5.29338,5.55385,5.81423,6.07448,6.33461 ,6.59458,6.85449,7.11429,7.37394, 7.63345,7.89291,8.15219,8.4589,8.76801, 9.07682,9.38552,9.51495)
FOOTPRINT_POINT_LONGITUDE = (176.976,176.539,176.137,175.841, 175.845,175.848,175.852,175.858,175.861 ,175.863,175.866,175.869,175.872, 175.874,175.877,175.879,175.882,175.884 ,175.887,175.889,175.891,175.893, 175.895,175.897,175.9,175.902,175.903, 175.905,175.907,175.908,175.91,175.911, 175.913,175.914,175.915,175.917,175.918 ,175.92,175.921,175.923,175.924,175.925 ,175.926,175.927,175.927,175.928, 175.928,175.93,175.93,175.93,176.113, 176.397,176.639,177.008,177.013,177.016 ,177.019,177.021,177.024,177.026,177.03 ,177.032,177.035,177.038,177.041, 177.044,177.047,177.05,177.053,177.057, 177.061,177.064,177.068,177.071,177.076 ,177.08,177.084,177.088,177.091,177.095 ,177.099,177.104,177.11,177.114,177.118 ,177.123,177.127,177.132,177.136, 177.141,177.146,177.151,177.155,177.16, 177.165,177.171,177.177,177.183,177.189 ,176.976)
ORBIT_NUMBER = 2991
ORBITAL_ECCENTRICITY = 0.572
ORBITAL_INCLINATION = 86.63
ORBITAL_SEMIMAJOR_AXIS = 8615.77
PERIAPSIS_ALTITUDE = 292.4
PERIAPSIS_ARGUMENT_ANGLE = 192.77
PERIAPSIS_TIME = 2006-05-10T04:38:18.000Z
SPACECRAFT_ORIENTATION = (0.0,-1.0,0.0)
^MEX_ORIENTATION_DESC = "MEX_ORIENTATION_DESC.TXT"
SPACECRAFT_POINTING_MODE = ACROSSTRACK
^MEX_POINTING_DESC = "MEX_POINTING_DESC.TXT"
RIGHT_ASCENSION = -1e+32
DECLINATION = -1e+32
OFFSET_ANGLE = -0.25
SPACECRAFT_SOLAR_DISTANCE = 2.47611e+08
TARGET_NAME = MARS
/* CAMERA DATA ELEMENTS */
DETECTOR_TEMPERATURE = 18.3705
FOCAL_PLANE_TEMPERATURE = 7.7677
INST_CMPRS_NAME = "DISCRETE COSINE TRANSFORMATION (DCT)"
INST_CMPRS_RATIO = 14.4283
INST_CMPRS_QUALITY = 0
INST_CMPRS_QUANTZ_TBL_ID = 0
INSTRUMENT_TEMPERATURE = 11.234
LENS_TEMPERATURE = 8.1755
MACROPIXEL_SIZE = 8
MISSING_FRAMES = 0
PIXEL_SUBSAMPLING_FLAG = N
SIGNAL_CHAIN_ID = 2
/* RADIOMETRIC DATA ELEMENTS */
BANDWIDTH = 48.0
CENTER_FILTER_WAVELENGTH = 748.0
RADIANCE_OFFSET = 0.534996
RADIANCE_SCALING_FACTOR = 0.00311525
REFLECTANCE_SCALING_FACTOR = 0.000435873
MEX:REFLECTANCE_OFFSET = 0.0748546
/* IMAGE OBJECT DEFINITIONS */
OBJECT = IMAGE
  INTERCHANGE_FORMAT = BINARY
  LINES = 7562
  LINE_SAMPLES = 869
  SAMPLE_TYPE = UNSIGNED_INTEGER
  SAMPLE_BITS = 8
  BANDS = 1
  BAND_STORAGE_TYPE = BAND_SEQUENTIAL
  MAXIMUM = 255
  MEAN = 100.813
  MINIMUM = 1
  STANDARD_DEVIATION = 26.0684
END_OBJECT = IMAGE
/* MAP OBJECT DEFINITIONS */
OBJECT = IMAGE_MAP_PROJECTION
  ^DATA_SET_MAP_PROJECTION_CATALOG= "DSMAP.CAT"
  A_AXIS_RADIUS = 3396.0
  B_AXIS_RADIUS = 3396.0
  C_AXIS_RADIUS = 3396.0
  CENTER_LATITUDE = 0.0
  CENTER_LONGITUDE = 176.0
  COORDINATE_SYSTEM_NAME = PLANETOGRAPHIC
  COORDINATE_SYSTEM_TYPE = "BODY-FIXED ROTATING"
  EASTERNMOST_LONGITUDE = 177.189
  FIRST_STANDARD_PARALLEL = "N/A"
  LINE_FIRST_PIXEL = 1
  LINE_LAST_PIXEL = 7562
  LINE_PROJECTION_OFFSET = 5654.8125
  MAP_PROJECTION_ROTATION = 0.0
  MAP_PROJECTION_TYPE = SINUSOIDAL
  MAP_RESOLUTION = 592.713803866667
  MAP_SCALE = 0.1
  MAXIMUM_LATITUDE = 9.55519
  MINIMUM_LATITUDE = -3.19783
  POSITIVE_LONGITUDE_DIRECTION = EAST
  REFERENCE_LATITUDE = "N/A"
  REFERENCE_LONGITUDE = "N/A"
  SAMPLE_FIRST_PIXEL = 1
  SAMPLE_LAST_PIXEL = 869
  SAMPLE_PROJECTION_OFFSET = 140.0625
  SECOND_STANDARD_PARALLEL = "N/A"
  WESTERNMOST_LONGITUDE = 175.841
END_OBJECT = IMAGE_MAP_PROJECTION
/* The JPEG2000 image data file associated with this label. */
OBJECT = COMPRESSED_FILE
  FILE_NAME = "H2991_0000_RE3.JP2"
  RECORD_TYPE = UNDEFINED
  FILE_RECORDS = UNK
  ENCODING_TYPE = "JP2"
  INTERCHANGE_FORMAT = BINARY
  UNCOMPRESSED_FILE_NAME = "H2991_0000_RE3.IMG"
  REQUIRED_STORAGE_BYTES = "6589627"
  ^DESCRIPTION = "JP2INFO.TXT"
END_OBJECT = COMPRESSED_FILE
END
