PDS_VERSION_ID = PDS3
/* FILE DATA ELEMENTS */
RECORD_TYPE = STREAM
/* POINTERS TO DATA OBJECTS */
^COMPRESSED_FILE = "H2991_0000_S23.JP2"
/* IDENTIFICATION DATA ELEMENTS */
DATA_SET_ID = "MEX-M-HRSC-5-REFDR-MAPPROJECTED-V3.0"
DATA_SET_NAME = "MARS EXPRESS HRSC MAP PROJECTED REFDR V3.0"
DETECTOR_ID = MEX_HRSC_S2
EVENT_TYPE = "MARS-REGIONAL-MAPPING-Vo-Gl-Eo"
INSTRUMENT_HOST_ID = MEX
INSTRUMENT_HOST_NAME = "MARS EXPRESS"
INSTRUMENT_ID = HRSC
INSTRUMENT_NAME = "HIGH RESOLUTION STEREO CAMERA"
MISSION_NAME = "MARS EXPRESS"
MISSION_PHASE_NAME = ME_Phase_3
PROCESSING_LEVEL_ID = 3
PRODUCT_CREATION_TIME = 2016-04-08T13:52:43.000Z
PRODUCT_ID = "H2991_0000_S23.JP2"
RELEASE_ID = 0036
REVISION_ID = 0000
/* QUALITY DATA ELEMENTS */
DATA_QUALITY_ID = 2
DATA_QUALITY_DESC = "Data calculated based on photogrammetrically improved orbit and attitude data"
/* TIME DATA ELEMENTS */
SPACECRAFT_CLOCK_START_COUNT = "1/0095315511.08422"
SPACECRAFT_CLOCK_STOP_COUNT = "1/0095315777.23398"
START_TIME = 2006-05-10T04:33:10.472Z
STOP_TIME = 2006-05-10T04:36:20.809Z
/* ORBITAL DATA ELEMENTS */
ASCENDING_NODE_LONGITUDE = 165.5
MAXIMUM_RESOLUTION = 26.2
FOOTPRINT_POINT_LATITUDE = (9.52357,9.5272,9.53103,9.53508,9.53934 ,9.54376,9.41798,9.10608,8.79344, 8.49409,8.23184,7.96946,7.70699,7.44441 ,7.05028,6.78746,6.52459,6.26165, 5.86698,5.60378,5.34052,5.07717,4.81379 ,4.55033,4.28682,4.02491,3.7698,3.5147, 3.2595,3.00427,2.62136,2.36607,2.11429, 1.86743,1.49673,1.2494,0.879244, 0.508523,0.261546,0.0166258,-0.222092, -0.46077,-0.699001,-0.938439,-1.17694, -1.53412,-1.77262,-2.01128,-2.36808, -2.60813,-2.8402,-3.06845,-3.19018, -3.19717,-3.20705,-3.21233,-2.98359, -2.75353,-2.39806,-2.15956,-1.91999, -1.6828,-1.4441,-1.08629,-0.847926, -0.608726,-0.371601,-0.133251,0.232008, 0.479145,0.850214,1.09708,1.46723, 1.71435,2.08483,2.46495,2.72004,3.1028, 3.35799,3.61309,3.99568,4.38918,4.6526, 4.916,5.17927,5.57417,5.83735,6.10043, 6.3634,6.62627,7.02052,7.28318,7.54575, 7.93954,8.20187,8.46416,8.76257,9.07518 ,9.54414,9.52357)
FOOTPRINT_POINT_LONGITUDE = (177.004,176.798,176.59,176.383,176.175 ,175.965,175.833,175.837,175.841, 175.845,175.848,175.851,175.854,175.856 ,175.861,175.863,175.866,175.868, 175.872,175.875,175.877,175.879,175.881 ,175.883,175.885,175.887,175.889, 175.891,175.893,175.895,175.897,175.899 ,175.9,175.901,175.904,175.905,175.907, 175.909,175.91,175.911,175.912,175.913, 175.914,175.915,175.916,175.917,175.917 ,175.918,175.919,175.92,175.921,175.92, 176.027,176.302,176.68,177.007,177.009, 177.011,177.014,177.016,177.018,177.021 ,177.023,177.027,177.029,177.032, 177.034,177.037,177.041,177.044,177.049 ,177.052,177.056,177.06,177.065,177.07, 177.073,177.079,177.082,177.086,177.092 ,177.098,177.102,177.106,177.11,177.117 ,177.121,177.126,177.13,177.135,177.142 ,177.146,177.151,177.159,177.163, 177.168,177.174,177.18,177.19,177.004)
ORBIT_NUMBER = 2991
ORBITAL_ECCENTRICITY = 0.572
ORBITAL_INCLINATION = 86.63
ORBITAL_SEMIMAJOR_AXIS = 8615.77
PERIAPSIS_ALTITUDE = 292.4
PERIAPSIS_ARGUMENT_ANGLE = 192.77
PERIAPSIS_TIME = 2006-05-10T04:38:18.000Z
SPACECRAFT_ORIENTATION = (0.0,-1.0,0.0)
^MEX_ORIENTATION_DESC = "MEX_ORIENTATION_DESC.TXT"
SPACECRAFT_POINTING_MODE = ACROSSTRACK
^MEX_POINTING_DESC = "MEX_POINTING_DESC.TXT"
RIGHT_ASCENSION = -1e+32
DECLINATION = -1e+32
OFFSET_ANGLE = -0.25
SPACECRAFT_SOLAR_DISTANCE = 2.47611e+08
TARGET_NAME = MARS
/* CAMERA DATA ELEMENTS */
DETECTOR_TEMPERATURE = 18.3705
FOCAL_PLANE_TEMPERATURE = 7.7677
INST_CMPRS_NAME = "DISCRETE COSINE TRANSFORMATION (DCT)"
INST_CMPRS_RATIO = 8.74831
INST_CMPRS_QUALITY = 0
INST_CMPRS_QUANTZ_TBL_ID = 0
INSTRUMENT_TEMPERATURE = 11.234
LENS_TEMPERATURE = 8.1755
MACROPIXEL_SIZE = 2
MISSING_FRAMES = 0
PIXEL_SUBSAMPLING_FLAG = N
SIGNAL_CHAIN_ID = 1
/* RADIOMETRIC DATA ELEMENTS */
BANDWIDTH = 178.0
CENTER_FILTER_WAVELENGTH = 679.0
RADIANCE_OFFSET = 2.03201
RADIANCE_SCALING_FACTOR = 0.0118969
REFLECTANCE_SCALING_FACTOR = 0.00038628
MEX:REFLECTANCE_OFFSET = 0.0659774
/* IMAGE OBJECT DEFINITIONS */
OBJECT = IMAGE
  INTERCHANGE_FORMAT = BINARY
  LINES = 30245
  LINE_SAMPLES = 3474
  SAMPLE_TYPE = UNSIGNED_INTEGER
  SAMPLE_BITS = 8
  BANDS = 1
  BAND_STORAGE_TYPE = BAND_SEQUENTIAL
  MAXIMUM = 255
  MEAN = 94.7497
  MINIMUM = 1
  STANDARD_DEVIATION = 24.9438
END_OBJECT = IMAGE
/* MAP OBJECT DEFINITIONS */
OBJECT = IMAGE_MAP_PROJECTION
  ^DATA_SET_MAP_PROJECTION_CATALOG= "DSMAP.CAT"
  A_AXIS_RADIUS = 3396.0
  B_AXIS_RADIUS = 3396.0
  C_AXIS_RADIUS = 3396.0
  CENTER_LATITUDE = 0.0
  CENTER_LONGITUDE = 176.0
  COORDINATE_SYSTEM_NAME = PLANETOGRAPHIC
  COORDINATE_SYSTEM_TYPE = "BODY-FIXED ROTATING"
  EASTERNMOST_LONGITUDE = 177.19
  FIRST_STANDARD_PARALLEL = "N/A"
  LINE_FIRST_PIXEL = 1
  LINE_LAST_PIXEL = 30245
  LINE_PROJECTION_OFFSET = 22620.75
  MAP_PROJECTION_ROTATION = 0.0
  MAP_PROJECTION_TYPE = SINUSOIDAL
  MAP_RESOLUTION = 2370.85521546667
  MAP_SCALE = 0.025
  MAXIMUM_LATITUDE = 9.544140000000001
  MINIMUM_LATITUDE = -3.21233
  POSITIVE_LONGITUDE_DIRECTION = EAST
  REFERENCE_LATITUDE = "N/A"
  REFERENCE_LONGITUDE = "N/A"
  SAMPLE_FIRST_PIXEL = 1
  SAMPLE_LAST_PIXEL = 3474
  SAMPLE_PROJECTION_OFFSET = 561.75
  SECOND_STANDARD_PARALLEL = "N/A"
  WESTERNMOST_LONGITUDE = 175.833
END_OBJECT = IMAGE_MAP_PROJECTION
/* The JPEG2000 image data file associated with this label. */
OBJECT = COMPRESSED_FILE
  FILE_NAME = "H2991_0000_S23.JP2"
  RECORD_TYPE = UNDEFINED
  FILE_RECORDS = UNK
  ENCODING_TYPE = "JP2"
  INTERCHANGE_FORMAT = BINARY
  UNCOMPRESSED_FILE_NAME = "H2991_0000_S23.IMG"
  REQUIRED_STORAGE_BYTES = "105095448"
  ^DESCRIPTION = "JP2INFO.TXT"
END_OBJECT = COMPRESSED_FILE
END
