PDS_VERSION_ID = PDS3
/* FILE DATA ELEMENTS */
RECORD_TYPE = STREAM
/* POINTERS TO DATA OBJECTS */
^COMPRESSED_FILE = "H2996_0000_ND3.JP2"
/* IDENTIFICATION DATA ELEMENTS */
DATA_SET_ID = "MEX-M-HRSC-5-REFDR-MAPPROJECTED-V3.0"
DATA_SET_NAME = "MARS EXPRESS HRSC MAP PROJECTED REFDR V3.0"
DETECTOR_ID = MEX_HRSC_NADIR
EVENT_TYPE = "MARS-REGIONAL-MAPPING-Te-Im-Fl"
INSTRUMENT_HOST_ID = MEX
INSTRUMENT_HOST_NAME = "MARS EXPRESS"
INSTRUMENT_ID = HRSC
INSTRUMENT_NAME = "HIGH RESOLUTION STEREO CAMERA"
MISSION_NAME = "MARS EXPRESS"
MISSION_PHASE_NAME = ME_Phase_3
PROCESSING_LEVEL_ID = 3
PRODUCT_CREATION_TIME = 2016-04-08T13:52:43.000Z
PRODUCT_ID = "H2996_0000_ND3.JP2"
RELEASE_ID = 0036
REVISION_ID = 0000
/* QUALITY DATA ELEMENTS */
DATA_QUALITY_ID = 2
DATA_QUALITY_DESC = "Data calculated based on photogrammetrically improved orbit and attitude data"
/* TIME DATA ELEMENTS */
SPACECRAFT_CLOCK_START_COUNT = "1/0095436015.08436"
SPACECRAFT_CLOCK_STOP_COUNT = "1/0095436330.21750"
START_TIME = 2006-05-11T14:01:54.551Z
STOP_TIME = 2006-05-11T14:04:42.582Z
/* ORBITAL DATA ELEMENTS */
ASCENDING_NODE_LONGITUDE = 165.4
MAXIMUM_RESOLUTION = 22.1
FOOTPRINT_POINT_LATITUDE = (32.4655,32.4655,32.4649,32.464,32.4625 ,32.4607,32.4584,32.4557,32.4525, 32.4489,32.4443,32.4381,32.1272,31.9205 ,31.7159,31.5109,31.3084,31.005,30.8044 ,30.6038,30.4054,30.1083,29.9119, 29.6178,29.4235,29.2293,28.9412,28.749, 28.5592,28.369,28.0862,27.8982,27.7111, 27.5255,27.2477,27.0645,26.8809,26.6081 ,26.4269,26.2457,26.067,25.888,25.7094, 25.533,25.3563,25.1797,24.8312,24.3127, 24.0546,23.7155,23.4612,23.1268,23.1065 ,23.1082,23.11,23.1107,23.1106,23.1101, 23.1098,23.4448,23.699,24.0387,24.2968, 24.8158,25.1649,25.3415,25.5185,25.6954 ,25.8738,26.0532,26.2323,26.4134, 26.5951,26.7765,26.9602,27.1441,27.4209 ,27.607,27.8872,28.0756,28.2638,28.4542 ,28.7399,29.0285,29.2211,29.513,29.8063 ,30.0034,30.2002,30.3996,30.5985, 30.9001,31.1011,31.3046,31.5078,31.7132 ,31.9185,32.1256,32.333,32.4655)
FOOTPRINT_POINT_LONGITUDE = (46.1874,45.8383,45.6053,45.3717, 45.1377,44.9034,44.6689,44.4341,44.1985 ,43.9626,43.6959,43.3657,43.388,43.4028 ,43.4175,43.4319,43.4459,43.4664, 43.4796,43.4928,43.5063,43.5245,43.5366 ,43.555,43.5667,43.5786,43.5956,43.6067 ,43.6176,43.6286,43.6437,43.6544, 43.6646,43.6747,43.6899,43.6998,43.7096 ,43.7208,43.7271,43.7382,43.75,43.7593, 43.7681,43.7765,43.7848,43.7932,43.8094 ,43.8345,43.8458,43.8606,43.8721, 43.8864,44.2034,44.4761,44.914,45.2667, 45.4735,45.8031,45.9982,46.0096,46.0182 ,46.0297,46.0388,46.057,46.0698,46.0763 ,46.0827,46.0893,46.0959,46.103,46.1095 ,46.1164,46.1233,46.1307,46.1379, 46.1454,46.1565,46.1638,46.175,46.1825, 46.1901,46.1979,46.2097,46.2216,46.2296 ,46.2417,46.254,46.2624,46.2707,46.2792 ,46.2876,46.3013,46.3104,46.3186, 46.3277,46.3371,46.3462,46.3557,46.3651 ,46.1874)
ORBIT_NUMBER = 2996
ORBITAL_ECCENTRICITY = 0.572
ORBITAL_INCLINATION = 86.63
ORBITAL_SEMIMAJOR_AXIS = 8625.31
PERIAPSIS_ALTITUDE = 292.01
PERIAPSIS_ARGUMENT_ANGLE = 191.92
PERIAPSIS_TIME = 2006-05-11T14:13:55.000Z
SPACECRAFT_ORIENTATION = (0.0,-1.0,0.0)
^MEX_ORIENTATION_DESC = "MEX_ORIENTATION_DESC.TXT"
SPACECRAFT_POINTING_MODE = ACROSSTRACK
^MEX_POINTING_DESC = "MEX_POINTING_DESC.TXT"
RIGHT_ASCENSION = -1e+32
DECLINATION = -1e+32
OFFSET_ANGLE = -0.5
SPACECRAFT_SOLAR_DISTANCE = 2.47706e+08
TARGET_NAME = MARS
/* CAMERA DATA ELEMENTS */
DETECTOR_TEMPERATURE = 18.3705
FOCAL_PLANE_TEMPERATURE = 8.7872
INST_CMPRS_NAME = "DISCRETE COSINE TRANSFORMATION (DCT)"
INST_CMPRS_RATIO = 6.95226
INST_CMPRS_QUALITY = 0
INST_CMPRS_QUANTZ_TBL_ID = 0
INSTRUMENT_TEMPERATURE = 11.234
LENS_TEMPERATURE = 8.7872
MACROPIXEL_SIZE = 1
MISSING_FRAMES = 0
PIXEL_SUBSAMPLING_FLAG = N
SIGNAL_CHAIN_ID = 0
/* RADIOMETRIC DATA ELEMENTS */
BANDWIDTH = 177.0
CENTER_FILTER_WAVELENGTH = 677.5
RADIANCE_OFFSET = 2.28929
RADIANCE_SCALING_FACTOR = 0.0167842
REFLECTANCE_SCALING_FACTOR = 0.000547088
MEX:REFLECTANCE_OFFSET = 0.0746203
/* IMAGE OBJECT DEFINITIONS */
OBJECT = IMAGE
  INTERCHANGE_FORMAT = BINARY
  LINES = 22203
  LINE_SAMPLES = 6100
  SAMPLE_TYPE = UNSIGNED_INTEGER
  SAMPLE_BITS = 8
  BANDS = 1
  BAND_STORAGE_TYPE = BAND_SEQUENTIAL
  MAXIMUM = 255
  MEAN = 116.745
  MINIMUM = 1
  STANDARD_DEVIATION = 20.7237
END_OBJECT = IMAGE
/* MAP OBJECT DEFINITIONS */
OBJECT = IMAGE_MAP_PROJECTION
  ^DATA_SET_MAP_PROJECTION_CATALOG= "DSMAP.CAT"
  A_AXIS_RADIUS = 3396.0
  B_AXIS_RADIUS = 3396.0
  C_AXIS_RADIUS = 3396.0
  CENTER_LATITUDE = 0.0
  CENTER_LONGITUDE = 45.0
  COORDINATE_SYSTEM_NAME = PLANETOGRAPHIC
  COORDINATE_SYSTEM_TYPE = "BODY-FIXED ROTATING"
  EASTERNMOST_LONGITUDE = 46.3651
  FIRST_STANDARD_PARALLEL = "N/A"
  LINE_FIRST_PIXEL = 1
  LINE_LAST_PIXEL = 22203
  LINE_PROJECTION_OFFSET = 76982.0
  MAP_PROJECTION_ROTATION = 0.0
  MAP_PROJECTION_TYPE = SINUSOIDAL
  MAP_RESOLUTION = 2370.85521546667
  MAP_SCALE = 0.025
  MAXIMUM_LATITUDE = 32.4655
  MINIMUM_LATITUDE = 23.1065
  POSITIVE_LONGITUDE_DIRECTION = EAST
  REFERENCE_LATITUDE = "N/A"
  REFERENCE_LONGITUDE = "N/A"
  SAMPLE_FIRST_PIXEL = 1
  SAMPLE_LAST_PIXEL = 6100
  SAMPLE_PROJECTION_OFFSET = 3337.0
  SECOND_STANDARD_PARALLEL = "N/A"
  WESTERNMOST_LONGITUDE = 43.3657
END_OBJECT = IMAGE_MAP_PROJECTION
/* The JPEG2000 image data file associated with this label. */
OBJECT = COMPRESSED_FILE
  FILE_NAME = "H2996_0000_ND3.JP2"
  RECORD_TYPE = UNDEFINED
  FILE_RECORDS = UNK
  ENCODING_TYPE = "JP2"
  INTERCHANGE_FORMAT = BINARY
  UNCOMPRESSED_FILE_NAME = "H2996_0000_ND3.IMG"
  REQUIRED_STORAGE_BYTES = "135468800"
  ^DESCRIPTION = "JP2INFO.TXT"
END_OBJECT = COMPRESSED_FILE
END
