PDS_VERSION_ID = PDS3
/* FILE DATA ELEMENTS */
RECORD_TYPE = STREAM
/* POINTERS TO DATA OBJECTS */
^COMPRESSED_FILE = "H3000_0000_S23.JP2"
/* IDENTIFICATION DATA ELEMENTS */
DATA_SET_ID = "MEX-M-HRSC-5-REFDR-MAPPROJECTED-V3.0"
DATA_SET_NAME = "MARS EXPRESS HRSC MAP PROJECTED REFDR V3.0"
DETECTOR_ID = MEX_HRSC_S2
EVENT_TYPE = "MARS-REGIONAL-STEREO-Im-La"
INSTRUMENT_HOST_ID = MEX
INSTRUMENT_HOST_NAME = "MARS EXPRESS"
INSTRUMENT_ID = HRSC
INSTRUMENT_NAME = "HIGH RESOLUTION STEREO CAMERA"
MISSION_NAME = "MARS EXPRESS"
MISSION_PHASE_NAME = ME_Phase_3
PROCESSING_LEVEL_ID = 3
PRODUCT_CREATION_TIME = 2016-04-08T13:52:43.000Z
PRODUCT_ID = "H3000_0000_S23.JP2"
RELEASE_ID = 0036
REVISION_ID = 0000
/* QUALITY DATA ELEMENTS */
DATA_QUALITY_ID = 2
DATA_QUALITY_DESC = "Data calculated based on photogrammetrically improved orbit and attitude data"
/* TIME DATA ELEMENTS */
SPACECRAFT_CLOCK_START_COUNT = "1/0095533142.09056"
SPACECRAFT_CLOCK_STOP_COUNT = "1/0095533402.17089"
START_TIME = 2006-05-12T17:00:29.953Z
STOP_TIME = 2006-05-12T17:03:25.708Z
/* ORBITAL DATA ELEMENTS */
ASCENDING_NODE_LONGITUDE = 165.32
MAXIMUM_RESOLUTION = 27.6
FOOTPRINT_POINT_LATITUDE = (14.5275,14.5304,14.5334,14.5366,14.54, 14.5616,14.2985,14.0369,13.7762,13.5124 ,13.2479,12.9934,12.7194,12.4593,12.065 ,11.8014,11.5392,11.274,11.01,10.7459, 10.4816,10.2158,9.85585,9.634,9.41254, 9.19015,8.973,8.7569,8.53043,8.30499, 7.96998,7.7479,7.41491,7.19248,6.86154, 6.6382,6.41634,6.19556,5.97101,5.74653, 5.52491,5.30964,5.09366,4.77033,4.44773 ,4.12446,3.801,3.58707,3.37832,3.06672, 2.85781,2.81564,2.80912,2.80376,3.01139 ,3.22049,3.53307,3.74575,3.96048, 4.17637,4.49968,4.71547,5.03885,5.25449 ,5.46959,5.69091,5.91306,6.1352,6.35713 ,6.5799,6.91395,7.24631,7.46833,7.69017 ,7.91236,8.13462,8.35683,8.57784, 8.91355,9.13993,9.36033,9.57833,9.79878 ,10.0204,10.2819,10.5456,10.8112, 11.0757,11.3418,11.6048,11.8646,12.1336 ,12.3954,12.6591,13.0536,13.317,13.7131 ,14.1047,14.367,14.5275)
FOOTPRINT_POINT_LONGITUDE = (12.735,12.5074,12.2794,12.0509,11.822, 11.4513,11.4566,11.4611,11.4652,11.4703 ,11.4755,11.4766,11.4853,11.4883, 11.4943,11.4984,11.5018,11.5062,11.51, 11.5138,11.5175,11.5216,11.5268,11.5297 ,11.5324,11.5354,11.5362,11.5365, 11.5408,11.5446,11.549,11.5513,11.5546, 11.5569,11.5591,11.5616,11.5634,11.5647 ,11.5675,11.5701,11.5716,11.5732, 11.5751,11.5776,11.5797,11.5819,11.5841 ,11.5861,11.5875,11.589,11.5903,12.0229 ,12.3536,12.6497,12.7328,12.7355, 12.7395,12.7426,12.7453,12.7483,12.7527 ,12.7558,12.7604,12.7635,12.7666, 12.7699,12.7732,12.7765,12.7798,12.7833 ,12.7887,12.7939,12.7975,12.8011, 12.8049,12.8087,12.8126,12.8162,12.8227 ,12.8276,12.8314,12.8347,12.8385, 12.8427,12.8475,12.8524,12.8578,12.8631 ,12.8689,12.874,12.8785,12.8851,12.8902 ,12.8959,12.9043,12.9101,12.9191, 12.9274,12.9333,12.735)
ORBIT_NUMBER = 3000
ORBITAL_ECCENTRICITY = 0.572
ORBITAL_INCLINATION = 86.61
ORBITAL_SEMIMAJOR_AXIS = 8622.9
PERIAPSIS_ALTITUDE = 293.08
PERIAPSIS_ARGUMENT_ANGLE = 191.17
PERIAPSIS_TIME = 2006-05-12T17:06:29.000Z
SPACECRAFT_ORIENTATION = (0.0,-1.0,0.0)
^MEX_ORIENTATION_DESC = "MEX_ORIENTATION_DESC.TXT"
SPACECRAFT_POINTING_MODE = ACROSSTRACK
^MEX_POINTING_DESC = "MEX_POINTING_DESC.TXT"
RIGHT_ASCENSION = -1e+32
DECLINATION = -1e+32
OFFSET_ANGLE = -0.2
SPACECRAFT_SOLAR_DISTANCE = 2.4778e+08
TARGET_NAME = MARS
/* CAMERA DATA ELEMENTS */
DETECTOR_TEMPERATURE = 18.9822
FOCAL_PLANE_TEMPERATURE = 8.5833
INST_CMPRS_NAME = "DISCRETE COSINE TRANSFORMATION (DCT)"
INST_CMPRS_RATIO = 13.7763
INST_CMPRS_QUALITY = 0
INST_CMPRS_QUANTZ_TBL_ID = 0
INSTRUMENT_TEMPERATURE = 11.0301
LENS_TEMPERATURE = 8.7872
MACROPIXEL_SIZE = 2
MISSING_FRAMES = 0
PIXEL_SUBSAMPLING_FLAG = N
SIGNAL_CHAIN_ID = 1
/* RADIOMETRIC DATA ELEMENTS */
BANDWIDTH = 178.0
CENTER_FILTER_WAVELENGTH = 679.0
RADIANCE_OFFSET = 1.91203
RADIANCE_SCALING_FACTOR = 0.015794
REFLECTANCE_SCALING_FACTOR = 0.000513515
MEX:REFLECTANCE_OFFSET = 0.0621664
/* IMAGE OBJECT DEFINITIONS */
OBJECT = IMAGE
  INTERCHANGE_FORMAT = BINARY
  LINES = 27807
  LINE_SAMPLES = 3758
  SAMPLE_TYPE = UNSIGNED_INTEGER
  SAMPLE_BITS = 8
  BANDS = 1
  BAND_STORAGE_TYPE = BAND_SEQUENTIAL
  MAXIMUM = 255
  MEAN = 101.924
  MINIMUM = 1
  STANDARD_DEVIATION = 29.2404
END_OBJECT = IMAGE
/* MAP OBJECT DEFINITIONS */
OBJECT = IMAGE_MAP_PROJECTION
  ^DATA_SET_MAP_PROJECTION_CATALOG= "DSMAP.CAT"
  A_AXIS_RADIUS = 3396.0
  B_AXIS_RADIUS = 3396.0
  C_AXIS_RADIUS = 3396.0
  CENTER_LATITUDE = 0.0
  CENTER_LONGITUDE = 12.0
  COORDINATE_SYSTEM_NAME = PLANETOGRAPHIC
  COORDINATE_SYSTEM_TYPE = "BODY-FIXED ROTATING"
  EASTERNMOST_LONGITUDE = 12.9333
  FIRST_STANDARD_PARALLEL = "N/A"
  LINE_FIRST_PIXEL = 1
  LINE_LAST_PIXEL = 27807
  LINE_PROJECTION_OFFSET = 34493.75
  MAP_PROJECTION_ROTATION = 0.0
  MAP_PROJECTION_TYPE = SINUSOIDAL
  MAP_RESOLUTION = 2370.85521546667
  MAP_SCALE = 0.025
  MAXIMUM_LATITUDE = 14.5616
  MINIMUM_LATITUDE = 2.80376
  POSITIVE_LONGITUDE_DIRECTION = EAST
  REFERENCE_LATITUDE = "N/A"
  REFERENCE_LONGITUDE = "N/A"
  SAMPLE_FIRST_PIXEL = 1
  SAMPLE_LAST_PIXEL = 3758
  SAMPLE_PROJECTION_OFFSET = 1451.25
  SECOND_STANDARD_PARALLEL = "N/A"
  WESTERNMOST_LONGITUDE = 11.4513
END_OBJECT = IMAGE_MAP_PROJECTION
/* The JPEG2000 image data file associated with this label. */
OBJECT = COMPRESSED_FILE
  FILE_NAME = "H3000_0000_S23.JP2"
  RECORD_TYPE = UNDEFINED
  FILE_RECORDS = UNK
  ENCODING_TYPE = "JP2"
  INTERCHANGE_FORMAT = BINARY
  UNCOMPRESSED_FILE_NAME = "H3000_0000_S23.IMG"
  REQUIRED_STORAGE_BYTES = "104521254"
  ^DESCRIPTION = "JP2INFO.TXT"
END_OBJECT = COMPRESSED_FILE
END
