PDS_VERSION_ID = PDS3
/* FILE DATA ELEMENTS */
RECORD_TYPE = STREAM
/* POINTERS TO DATA OBJECTS */
^COMPRESSED_FILE = "H3003_0000_P13.JP2"
/* IDENTIFICATION DATA ELEMENTS */
DATA_SET_ID = "MEX-M-HRSC-5-REFDR-MAPPROJECTED-V3.0"
DATA_SET_NAME = "MARS EXPRESS HRSC MAP PROJECTED REFDR V3.0"
DETECTOR_ID = MEX_HRSC_P1
EVENT_TYPE = "MARS-REGIONAL-MAPPING-Vo"
INSTRUMENT_HOST_ID = MEX
INSTRUMENT_HOST_NAME = "MARS EXPRESS"
INSTRUMENT_ID = HRSC
INSTRUMENT_NAME = "HIGH RESOLUTION STEREO CAMERA"
MISSION_NAME = "MARS EXPRESS"
MISSION_PHASE_NAME = ME_Phase_3
PROCESSING_LEVEL_ID = 3
PRODUCT_CREATION_TIME = 2016-04-08T19:13:29.000Z
PRODUCT_ID = "H3003_0000_P13.JP2"
RELEASE_ID = 0037
REVISION_ID = 0000
/* QUALITY DATA ELEMENTS */
DATA_QUALITY_ID = 2
DATA_QUALITY_DESC = "Data calculated based on photogrammetrically improved orbit and attitude data"
/* TIME DATA ELEMENTS */
SPACECRAFT_CLOCK_START_COUNT = "1/0095605718.09045"
SPACECRAFT_CLOCK_STOP_COUNT = "1/0095606058.49556"
START_TIME = 2006-05-13T13:08:59.078Z
STOP_TIME = 2006-05-13T13:13:37.752Z
/* ORBITAL DATA ELEMENTS */
ASCENDING_NODE_LONGITUDE = 165.25
MAXIMUM_RESOLUTION = 50.4
FOOTPRINT_POINT_LATITUDE = (14.4127,14.413,14.4127,14.412,14.1941, 13.7912,13.3928,12.9962,12.6071,12.0229 ,11.6403,11.2555,10.8799,10.5037, 10.1268,9.74861,9.36971,8.99001,8.60893 ,8.22661,7.84283,7.45978,6.8986,6.57474 ,6.25208,5.92669,5.60122,5.11295, 4.62033,4.29229,3.96362,3.63472,3.30439 ,2.80861,2.32719,2.00608,1.6841,1.36136 ,0.881934,0.570623,0.255932,-0.214377, -0.528544,-0.846951,-1.15724,-1.45745, -1.76344,-2.06854,-2.3727,-2.67835, -2.8545,-2.85418,-2.85427,-2.39504, -2.08936,-1.63069,-1.32193,-1.01907, -0.708444,-0.394193,-0.0795901,0.390139 ,0.703221,1.01583,1.49903,1.82124, 2.14286,2.46409,2.78465,3.11508,3.44523 ,3.77476,4.26734,4.59549,4.92277, 5.24958,5.57617,5.90139,6.22336,6.54774 ,6.87088,7.23387,7.61906,8.00282, 8.38565,8.76641,9.14726,9.52668,10.0946 ,10.4719,10.848,11.2231,11.6071,12.1822 ,12.5743,12.9641,13.3608,13.7589, 14.3634,14.4127)
FOOTPRINT_POINT_LONGITUDE = (77.8903,77.6386,77.3425,77.1055, 76.7135,76.7227,76.731,76.7397,76.7484, 76.7597,76.7673,76.7741,76.7806,76.7871 ,76.7936,76.7998,76.806,76.8121,76.8178 ,76.8232,76.8282,76.8339,76.841,76.8449 ,76.8497,76.8532,76.8569,76.8628, 76.8669,76.87,76.8731,76.8763,76.8788, 76.8829,76.8867,76.8892,76.8914,76.8933 ,76.8962,76.8988,76.8998,76.9026, 76.9042,76.9037,76.905,76.9088,76.9095, 76.9108,76.9128,76.9141,77.2637,77.5329 ,77.8614,77.9886,77.9916,77.996,77.9978 ,78.0017,78.0068,78.0106,78.0141, 78.0202,78.0242,78.0283,78.0349,78.0394 ,78.0441,78.0488,78.0536,78.0587,78.064 ,78.0693,78.0778,78.0834,78.0893, 78.0951,78.101,78.1072,78.1145,78.1208, 78.1274,78.1352,78.1429,78.1509,78.1591 ,78.1678,78.1763,78.1851,78.1983, 78.2073,78.2165,78.2259,78.2354,78.2501 ,78.2602,78.2709,78.2818,78.2927, 78.3103,77.8903)
ORBIT_NUMBER = 3003
ORBITAL_ECCENTRICITY = 0.572
ORBITAL_INCLINATION = 86.64
ORBITAL_SEMIMAJOR_AXIS = 8626.2
PERIAPSIS_ALTITUDE = 292.62
PERIAPSIS_ARGUMENT_ANGLE = 190.64
PERIAPSIS_TIME = 2006-05-13T13:15:53.000Z
SPACECRAFT_ORIENTATION = (0.0,-1.0,0.0)
^MEX_ORIENTATION_DESC = "MEX_ORIENTATION_DESC.TXT"
SPACECRAFT_POINTING_MODE = ACROSSTRACK
^MEX_POINTING_DESC = "MEX_POINTING_DESC.TXT"
RIGHT_ASCENSION = -1e+32
DECLINATION = -1e+32
OFFSET_ANGLE = -0.1
SPACECRAFT_SOLAR_DISTANCE = 2.47834e+08
TARGET_NAME = MARS
/* CAMERA DATA ELEMENTS */
DETECTOR_TEMPERATURE = 17.7588
FOCAL_PLANE_TEMPERATURE = 8.5833
INST_CMPRS_NAME = "DISCRETE COSINE TRANSFORMATION (DCT)"
INST_CMPRS_RATIO = 13.0485
INST_CMPRS_QUALITY = 0
INST_CMPRS_QUANTZ_TBL_ID = 0
INSTRUMENT_TEMPERATURE = 11.234
LENS_TEMPERATURE = 8.9911
MACROPIXEL_SIZE = 4
MISSING_FRAMES = 0
PIXEL_SUBSAMPLING_FLAG = N
SIGNAL_CHAIN_ID = 3
/* RADIOMETRIC DATA ELEMENTS */
BANDWIDTH = 174.0
CENTER_FILTER_WAVELENGTH = 675.0
RADIANCE_OFFSET = 1.11553
RADIANCE_SCALING_FACTOR = 0.00970024
REFLECTANCE_SCALING_FACTOR = 0.000320472
MEX:REFLECTANCE_OFFSET = 0.0368543
/* IMAGE OBJECT DEFINITIONS */
OBJECT = IMAGE
  INTERCHANGE_FORMAT = BINARY
  LINES = 20469
  LINE_SAMPLES = 1829
  SAMPLE_TYPE = UNSIGNED_INTEGER
  SAMPLE_BITS = 8
  BANDS = 1
  BAND_STORAGE_TYPE = BAND_SEQUENTIAL
  MAXIMUM = 255
  MEAN = 119.716
  MINIMUM = 1
  STANDARD_DEVIATION = 26.5402
END_OBJECT = IMAGE
/* MAP OBJECT DEFINITIONS */
OBJECT = IMAGE_MAP_PROJECTION
  ^DATA_SET_MAP_PROJECTION_CATALOG= "DSMAP.CAT"
  A_AXIS_RADIUS = 3396.0
  B_AXIS_RADIUS = 3396.0
  C_AXIS_RADIUS = 3396.0
  CENTER_LATITUDE = 0.0
  CENTER_LONGITUDE = 77.0
  COORDINATE_SYSTEM_NAME = PLANETOGRAPHIC
  COORDINATE_SYSTEM_TYPE = "BODY-FIXED ROTATING"
  EASTERNMOST_LONGITUDE = 78.3103
  FIRST_STANDARD_PARALLEL = "N/A"
  LINE_FIRST_PIXEL = 1
  LINE_LAST_PIXEL = 20469
  LINE_PROJECTION_OFFSET = 17073.125
  MAP_PROJECTION_ROTATION = 0.0
  MAP_PROJECTION_TYPE = SINUSOIDAL
  MAP_RESOLUTION = 1185.42760773333
  MAP_SCALE = 0.05
  MAXIMUM_LATITUDE = 14.413
  MINIMUM_LATITUDE = -2.8545
  POSITIVE_LONGITUDE_DIRECTION = EAST
  REFERENCE_LATITUDE = "N/A"
  REFERENCE_LONGITUDE = "N/A"
  SAMPLE_FIRST_PIXEL = 1
  SAMPLE_LAST_PIXEL = 1829
  SAMPLE_PROJECTION_OFFSET = 339.125
  SECOND_STANDARD_PARALLEL = "N/A"
  WESTERNMOST_LONGITUDE = 76.7135
END_OBJECT = IMAGE_MAP_PROJECTION
/* The JPEG2000 image data file associated with this label. */
OBJECT = COMPRESSED_FILE
  FILE_NAME = "H3003_0000_P13.JP2"
  RECORD_TYPE = UNDEFINED
  FILE_RECORDS = UNK
  ENCODING_TYPE = "JP2"
  INTERCHANGE_FORMAT = BINARY
  UNCOMPRESSED_FILE_NAME = "H3003_0000_P13.IMG"
  REQUIRED_STORAGE_BYTES = "37457920"
  ^DESCRIPTION = "JP2INFO.TXT"
END_OBJECT = COMPRESSED_FILE
END
