PDS_VERSION_ID = PDS3
/* FILE DATA ELEMENTS */
RECORD_TYPE = STREAM
/* POINTERS TO DATA OBJECTS */
^COMPRESSED_FILE = "H3023_0000_GR3.JP2"
/* IDENTIFICATION DATA ELEMENTS */
DATA_SET_ID = "MEX-M-HRSC-5-REFDR-MAPPROJECTED-V3.0"
DATA_SET_NAME = "MARS EXPRESS HRSC MAP PROJECTED REFDR V3.0"
DETECTOR_ID = MEX_HRSC_GREEN
EVENT_TYPE = "MARS-LOCAL-STEREO-Vo"
INSTRUMENT_HOST_ID = MEX
INSTRUMENT_HOST_NAME = "MARS EXPRESS"
INSTRUMENT_ID = HRSC
INSTRUMENT_NAME = "HIGH RESOLUTION STEREO CAMERA"
MISSION_NAME = "MARS EXPRESS"
MISSION_PHASE_NAME = ME_Phase_3
PROCESSING_LEVEL_ID = 3
PRODUCT_CREATION_TIME = 2016-04-08T19:13:29.000Z
PRODUCT_ID = "H3023_0000_GR3.JP2"
RELEASE_ID = 0037
REVISION_ID = 0000
/* QUALITY DATA ELEMENTS */
DATA_QUALITY_ID = 2
DATA_QUALITY_DESC = "Data calculated based on photogrammetrically improved orbit and attitude data"
/* TIME DATA ELEMENTS */
SPACECRAFT_CLOCK_START_COUNT = "1/0096089498.09079"
SPACECRAFT_CLOCK_STOP_COUNT = "1/0096089682.65228"
START_TIME = 2006-05-19T03:32:18.855Z
STOP_TIME = 2006-05-19T03:34:09.994Z
/* ORBITAL DATA ELEMENTS */
ASCENDING_NODE_LONGITUDE = 164.82
MAXIMUM_RESOLUTION = 113.2
FOOTPRINT_POINT_LATITUDE = (16.7783,16.7792,16.7799,16.7804, 16.7805,16.7804,16.7778,16.6305,16.4869 ,16.3431,16.1993,16.0553,15.9112, 15.7669,15.6238,15.3424,15.2015,15.0605 ,14.9194,14.7782,14.6369,14.4954, 14.3539,14.2123,14.0705,13.9287,13.7867 ,13.6446,13.5025,13.3602,13.2178, 13.0753,12.9328,12.7901,12.6473,12.5044 ,12.3615,12.2184,12.0752,11.9319, 11.7885,11.645,11.5014,11.3577,11.0962, 10.9152,10.6738,10.432,10.19,9.94769, 9.82282,9.82213,9.8214,9.8205,9.81931, 9.82018,10.002,10.2442,10.4862,10.7279, 10.9694,11.2105,11.4949,11.6385,11.7821 ,11.9255,12.0688,12.212,12.3552,12.4982 ,12.6411,12.7839,12.9266,13.0692, 13.2118,13.3542,13.4965,13.6387,13.7808 ,13.9228,14.0648,14.2066,14.3482, 14.4898,14.6313,14.7726,14.9139,15.0551 ,15.1961,15.337,15.4778,15.6185,15.7616 ,15.9059,16.05,16.194,16.338,16.4818, 16.6255,16.7783)
FOOTPRINT_POINT_LONGITUDE = (272.871,272.66,272.435,272.21,272.013, 271.788,271.541,271.544,271.547,271.55, 271.553,271.556,271.559,271.562,271.565 ,271.571,271.573,271.576,271.579, 271.581,271.584,271.587,271.589,271.592 ,271.594,271.597,271.599,271.602, 271.604,271.607,271.609,271.611,271.614 ,271.616,271.618,271.621,271.623, 271.625,271.627,271.629,271.631,271.634 ,271.636,271.638,271.641,271.643, 271.647,271.65,271.653,271.656,271.818, 272.085,272.294,272.503,272.747,272.894 ,272.898,272.902,272.906,272.911, 272.915,272.92,272.925,272.928,272.931, 272.934,272.937,272.939,272.942,272.945 ,272.948,272.951,272.954,272.957,272.96 ,272.963,272.966,272.969,272.972, 272.975,272.978,272.981,272.984,272.988 ,272.991,272.994,272.997,273.0,273.004, 273.007,273.01,273.013,273.017,273.02, 273.024,273.027,273.031,273.034,273.037 ,272.871)
ORBIT_NUMBER = 3023
ORBITAL_ECCENTRICITY = 0.573
ORBITAL_INCLINATION = 86.63
ORBITAL_SEMIMAJOR_AXIS = 8631.7
PERIAPSIS_ALTITUDE = 293.7
PERIAPSIS_ARGUMENT_ANGLE = 187.11
PERIAPSIS_TIME = 2006-05-19T03:38:33.000Z
SPACECRAFT_ORIENTATION = (0.0,-1.0,0.0)
^MEX_ORIENTATION_DESC = "MEX_ORIENTATION_DESC.TXT"
SPACECRAFT_POINTING_MODE = NADIR
^MEX_POINTING_DESC = "MEX_POINTING_DESC.TXT"
RIGHT_ASCENSION = -1e+32
DECLINATION = -1e+32
OFFSET_ANGLE = -1e+32
SPACECRAFT_SOLAR_DISTANCE = 2.4817e+08
TARGET_NAME = MARS
/* CAMERA DATA ELEMENTS */
DETECTOR_TEMPERATURE = 18.3705
FOCAL_PLANE_TEMPERATURE = 8.3794
INST_CMPRS_NAME = "DISCRETE COSINE TRANSFORMATION (DCT)"
INST_CMPRS_RATIO = 14.6965
INST_CMPRS_QUALITY = 0
INST_CMPRS_QUANTZ_TBL_ID = 0
INSTRUMENT_TEMPERATURE = 11.234
LENS_TEMPERATURE = 8.7872
MACROPIXEL_SIZE = 8
MISSING_FRAMES = 0
PIXEL_SUBSAMPLING_FLAG = N
SIGNAL_CHAIN_ID = 2
/* RADIOMETRIC DATA ELEMENTS */
BANDWIDTH = 88.0
CENTER_FILTER_WAVELENGTH = 538.0
RADIANCE_OFFSET = 0.793376
RADIANCE_SCALING_FACTOR = 0.00500721
REFLECTANCE_SCALING_FACTOR = 0.00026551
MEX:REFLECTANCE_OFFSET = 0.0420691
/* IMAGE OBJECT DEFINITIONS */
OBJECT = IMAGE
  INTERCHANGE_FORMAT = BINARY
  LINES = 4128
  LINE_SAMPLES = 898
  SAMPLE_TYPE = UNSIGNED_INTEGER
  SAMPLE_BITS = 8
  BANDS = 1
  BAND_STORAGE_TYPE = BAND_SEQUENTIAL
  MAXIMUM = 255
  MEAN = 142.854
  MINIMUM = 1
  STANDARD_DEVIATION = 17.7993
END_OBJECT = IMAGE
/* MAP OBJECT DEFINITIONS */
OBJECT = IMAGE_MAP_PROJECTION
  ^DATA_SET_MAP_PROJECTION_CATALOG= "DSMAP.CAT"
  A_AXIS_RADIUS = 3396.0
  B_AXIS_RADIUS = 3396.0
  C_AXIS_RADIUS = 3396.0
  CENTER_LATITUDE = 0.0
  CENTER_LONGITUDE = 272.0
  COORDINATE_SYSTEM_NAME = PLANETOGRAPHIC
  COORDINATE_SYSTEM_TYPE = "BODY-FIXED ROTATING"
  EASTERNMOST_LONGITUDE = 273.037
  FIRST_STANDARD_PARALLEL = "N/A"
  LINE_FIRST_PIXEL = 1
  LINE_LAST_PIXEL = 4128
  LINE_PROJECTION_OFFSET = 9947.9375
  MAP_PROJECTION_ROTATION = 0.0
  MAP_PROJECTION_TYPE = SINUSOIDAL
  MAP_RESOLUTION = 592.713803866667
  MAP_SCALE = 0.1
  MAXIMUM_LATITUDE = 16.7805
  MINIMUM_LATITUDE = 9.81931
  POSITIVE_LONGITUDE_DIRECTION = EAST
  REFERENCE_LATITUDE = "N/A"
  REFERENCE_LONGITUDE = "N/A"
  SAMPLE_FIRST_PIXEL = 1
  SAMPLE_LAST_PIXEL = 898
  SAMPLE_PROJECTION_OFFSET = 289.0625
  SECOND_STANDARD_PARALLEL = "N/A"
  WESTERNMOST_LONGITUDE = 271.541
END_OBJECT = IMAGE_MAP_PROJECTION
/* The JPEG2000 image data file associated with this label. */
OBJECT = COMPRESSED_FILE
  FILE_NAME = "H3023_0000_GR3.JP2"
  RECORD_TYPE = UNDEFINED
  FILE_RECORDS = UNK
  ENCODING_TYPE = "JP2"
  INTERCHANGE_FORMAT = BINARY
  UNCOMPRESSED_FILE_NAME = "H3023_0000_GR3.IMG"
  REQUIRED_STORAGE_BYTES = "3724904"
  ^DESCRIPTION = "JP2INFO.TXT"
END_OBJECT = COMPRESSED_FILE
END
