PDS_VERSION_ID = PDS3
/* FILE DATA ELEMENTS */
RECORD_TYPE = STREAM
/* POINTERS TO DATA OBJECTS */
^COMPRESSED_FILE = "H3023_0000_P23.JP2"
/* IDENTIFICATION DATA ELEMENTS */
DATA_SET_ID = "MEX-M-HRSC-5-REFDR-MAPPROJECTED-V3.0"
DATA_SET_NAME = "MARS EXPRESS HRSC MAP PROJECTED REFDR V3.0"
DETECTOR_ID = MEX_HRSC_P2
EVENT_TYPE = "MARS-LOCAL-STEREO-Vo"
INSTRUMENT_HOST_ID = MEX
INSTRUMENT_HOST_NAME = "MARS EXPRESS"
INSTRUMENT_ID = HRSC
INSTRUMENT_NAME = "HIGH RESOLUTION STEREO CAMERA"
MISSION_NAME = "MARS EXPRESS"
MISSION_PHASE_NAME = ME_Phase_3
PROCESSING_LEVEL_ID = 3
PRODUCT_CREATION_TIME = 2016-04-08T19:13:29.000Z
PRODUCT_ID = "H3023_0000_P23.JP2"
RELEASE_ID = 0037
REVISION_ID = 0000
/* QUALITY DATA ELEMENTS */
DATA_QUALITY_ID = 2
DATA_QUALITY_DESC = "Data calculated based on photogrammetrically improved orbit and attitude data"
/* TIME DATA ELEMENTS */
SPACECRAFT_CLOCK_START_COUNT = "1/0096089498.09079"
SPACECRAFT_CLOCK_STOP_COUNT = "1/0096089682.65228"
START_TIME = 2006-05-19T03:32:49.964Z
STOP_TIME = 2006-05-19T03:34:36.056Z
/* ORBITAL DATA ELEMENTS */
ASCENDING_NODE_LONGITUDE = 164.82
MAXIMUM_RESOLUTION = 28.2
FOOTPRINT_POINT_LATITUDE = (16.7689,16.7693,16.7695,16.7698,16.77, 16.7702,16.6956,16.5457,16.3956,16.1703 ,16.02,15.8696,15.7194,15.5691,15.4186, 15.2679,15.0419,14.8912,14.7404,14.5894 ,14.4385,14.2875,14.1363,13.9851, 13.8338,13.6827,13.5314,13.3043,13.1527 ,12.9354,12.6811,12.5539,12.3631, 12.2359,12.1086,11.8543,11.6633,11.5359 ,11.3449,11.2175,11.0264,10.899,10.7714 ,10.58,10.4524,10.261,10.1333,10.0056, 9.87793,9.80413,9.80376,9.80358,9.80336 ,9.80317,9.80304,9.93119,10.0589, 10.1866,10.3143,10.442,10.5696,10.6972, 10.8247,11.016,11.1436,11.271,11.3985, 11.5259,11.6533,11.7806,11.908,12.0353, 12.2896,12.5438,12.671,12.9253,13.1407, 13.2922,13.5192,13.7461,13.8974,14.0484 ,14.1995,14.3508,14.5019,14.6528, 14.8037,14.9545,15.1052,15.256,15.4067, 15.5575,15.708,15.8583,16.0088,16.1592, 16.3095,16.4595,16.6845,16.7689)
FOOTPRINT_POINT_LONGITUDE = (272.853,272.586,272.389,272.164, 271.981,271.756,271.555,271.558,271.561 ,271.566,271.568,271.571,271.574, 271.577,271.579,271.582,271.586,271.589 ,271.591,271.594,271.596,271.599, 271.601,271.604,271.606,271.609,271.611 ,271.614,271.617,271.62,271.624,271.626 ,271.628,271.63,271.632,271.635,271.638 ,271.639,271.642,271.643,271.646, 271.647,271.649,271.651,271.652,271.655 ,271.656,271.657,271.659,271.789, 272.024,272.177,272.365,272.613,272.789 ,272.878,272.88,272.883,272.885,272.887 ,272.889,272.891,272.893,272.896, 272.899,272.901,272.903,272.905,272.908 ,272.91,272.912,272.914,272.919,272.924 ,272.926,272.931,272.935,272.938, 272.942,272.946,272.949,272.952,272.955 ,272.958,272.961,272.964,272.968, 272.971,272.974,272.977,272.98,272.983, 272.987,272.99,272.993,272.996,272.999, 273.003,273.007,272.853)
ORBIT_NUMBER = 3023
ORBITAL_ECCENTRICITY = 0.573
ORBITAL_INCLINATION = 86.63
ORBITAL_SEMIMAJOR_AXIS = 8631.7
PERIAPSIS_ALTITUDE = 293.7
PERIAPSIS_ARGUMENT_ANGLE = 187.11
PERIAPSIS_TIME = 2006-05-19T03:38:33.000Z
SPACECRAFT_ORIENTATION = (0.0,-1.0,0.0)
^MEX_ORIENTATION_DESC = "MEX_ORIENTATION_DESC.TXT"
SPACECRAFT_POINTING_MODE = NADIR
^MEX_POINTING_DESC = "MEX_POINTING_DESC.TXT"
RIGHT_ASCENSION = -1e+32
DECLINATION = -1e+32
OFFSET_ANGLE = -1e+32
SPACECRAFT_SOLAR_DISTANCE = 2.4817e+08
TARGET_NAME = MARS
/* CAMERA DATA ELEMENTS */
DETECTOR_TEMPERATURE = 18.7783
FOCAL_PLANE_TEMPERATURE = 8.3794
INST_CMPRS_NAME = "DISCRETE COSINE TRANSFORMATION (DCT)"
INST_CMPRS_RATIO = 4.90332
INST_CMPRS_QUALITY = 0
INST_CMPRS_QUANTZ_TBL_ID = 0
INSTRUMENT_TEMPERATURE = 11.234
LENS_TEMPERATURE = 8.7872
MACROPIXEL_SIZE = 2
MISSING_FRAMES = 0
PIXEL_SUBSAMPLING_FLAG = N
SIGNAL_CHAIN_ID = 3
/* RADIOMETRIC DATA ELEMENTS */
BANDWIDTH = 177.0
CENTER_FILTER_WAVELENGTH = 676.5
RADIANCE_OFFSET = 2.48228
RADIANCE_SCALING_FACTOR = 0.0172326
REFLECTANCE_SCALING_FACTOR = 0.000562735
MEX:REFLECTANCE_OFFSET = 0.0810596
/* IMAGE OBJECT DEFINITIONS */
OBJECT = IMAGE
  INTERCHANGE_FORMAT = BINARY
  LINES = 16509
  LINE_SAMPLES = 3589
  SAMPLE_TYPE = UNSIGNED_INTEGER
  SAMPLE_BITS = 8
  BANDS = 1
  BAND_STORAGE_TYPE = BAND_SEQUENTIAL
  MAXIMUM = 255
  MEAN = 128.311
  MINIMUM = 1
  STANDARD_DEVIATION = 16.8385
END_OBJECT = IMAGE
/* MAP OBJECT DEFINITIONS */
OBJECT = IMAGE_MAP_PROJECTION
  ^DATA_SET_MAP_PROJECTION_CATALOG= "DSMAP.CAT"
  A_AXIS_RADIUS = 3396.0
  B_AXIS_RADIUS = 3396.0
  C_AXIS_RADIUS = 3396.0
  CENTER_LATITUDE = 0.0
  CENTER_LONGITUDE = 272.0
  COORDINATE_SYSTEM_NAME = PLANETOGRAPHIC
  COORDINATE_SYSTEM_TYPE = "BODY-FIXED ROTATING"
  EASTERNMOST_LONGITUDE = 273.007
  FIRST_STANDARD_PARALLEL = "N/A"
  LINE_FIRST_PIXEL = 1
  LINE_LAST_PIXEL = 16509
  LINE_PROJECTION_OFFSET = 39793.25
  MAP_PROJECTION_ROTATION = 0.0
  MAP_PROJECTION_TYPE = SINUSOIDAL
  MAP_RESOLUTION = 2370.85521546667
  MAP_SCALE = 0.025
  MAXIMUM_LATITUDE = 16.7702
  MINIMUM_LATITUDE = 9.803039999999999
  POSITIVE_LONGITUDE_DIRECTION = EAST
  REFERENCE_LATITUDE = "N/A"
  REFERENCE_LONGITUDE = "N/A"
  SAMPLE_FIRST_PIXEL = 1
  SAMPLE_LAST_PIXEL = 3589
  SAMPLE_PROJECTION_OFFSET = 1157.75
  SECOND_STANDARD_PARALLEL = "N/A"
  WESTERNMOST_LONGITUDE = 271.555
END_OBJECT = IMAGE_MAP_PROJECTION
/* The JPEG2000 image data file associated with this label. */
OBJECT = COMPRESSED_FILE
  FILE_NAME = "H3023_0000_P23.JP2"
  RECORD_TYPE = UNDEFINED
  FILE_RECORDS = UNK
  ENCODING_TYPE = "JP2"
  INTERCHANGE_FORMAT = BINARY
  UNCOMPRESSED_FILE_NAME = "H3023_0000_P23.IMG"
  REQUIRED_STORAGE_BYTES = "59272335"
  ^DESCRIPTION = "JP2INFO.TXT"
END_OBJECT = COMPRESSED_FILE
END
