PDS_VERSION_ID = PDS3
/* FILE DATA ELEMENTS */
RECORD_TYPE = STREAM
/* POINTERS TO DATA OBJECTS */
^COMPRESSED_FILE = "H3025_0000_BL3.JP2"
/* IDENTIFICATION DATA ELEMENTS */
DATA_SET_ID = "MEX-M-HRSC-5-REFDR-MAPPROJECTED-V3.0"
DATA_SET_NAME = "MARS EXPRESS HRSC MAP PROJECTED REFDR V3.0"
DETECTOR_ID = MEX_HRSC_BLUE
EVENT_TYPE = "MARS-REGIONAL-MAPPING-Vo"
INSTRUMENT_HOST_ID = MEX
INSTRUMENT_HOST_NAME = "MARS EXPRESS"
INSTRUMENT_ID = HRSC
INSTRUMENT_NAME = "HIGH RESOLUTION STEREO CAMERA"
MISSION_NAME = "MARS EXPRESS"
MISSION_PHASE_NAME = ME_Phase_3
PROCESSING_LEVEL_ID = 3
PRODUCT_CREATION_TIME = 2016-04-08T19:13:29.000Z
PRODUCT_ID = "H3025_0000_BL3.JP2"
RELEASE_ID = 0037
REVISION_ID = 0000
/* QUALITY DATA ELEMENTS */
DATA_QUALITY_ID = 2
DATA_QUALITY_DESC = "Data calculated based on photogrammetrically improved orbit and attitude data"
/* TIME DATA ELEMENTS */
SPACECRAFT_CLOCK_START_COUNT = "1/0096137966.09052"
SPACECRAFT_CLOCK_STOP_COUNT = "1/0096138245.57267"
START_TIME = 2006-05-19T17:00:11.772Z
STOP_TIME = 2006-05-19T17:03:09.208Z
/* ORBITAL DATA ELEMENTS */
ASCENDING_NODE_LONGITUDE = 164.78
MAXIMUM_RESOLUTION = 96.3
FOOTPRINT_POINT_LATITUDE = (11.2007,11.2017,11.2024,10.959,10.7164 ,10.4737,10.2307,9.98762,9.74438, 9.50086,9.25721,9.01337,8.76936,8.52518 ,8.28081,8.0363,7.79453,7.5576,7.3205, 7.08325,6.84584,6.60839,6.37122,6.01524 ,5.78529,5.5552,5.32492,4.97926,4.74883 ,4.51819,4.28739,4.05657,3.82748, 3.60434,3.38125,3.15806,2.93472,2.71123 ,2.37601,2.15245,1.92875,1.70501,1.4812 ,1.25732,1.03454,0.818686,0.602694, 0.386645,0.17046,-0.153812,-0.370115, -0.410976,-0.412169,-0.195064,0.0212689 ,0.237556,0.453615,0.885265,1.1024, 1.32636,1.55017,1.77395,1.99768,2.33314 ,2.66836,2.89182,3.1152,3.33847,3.56167 ,3.78473,4.12787,4.35866,4.58932,4.8199 ,5.05037,5.28079,5.5111,5.74127,5.97132 ,6.32539,6.6817,6.91928,7.15672,7.39403 ,7.63115,7.86806,8.11235,8.3568,8.60108 ,8.84534,9.08945,9.33326,9.57685, 9.94208,10.1854,10.4283,10.6711,10.9137 ,11.1561,11.2007)
FOOTPRINT_POINT_LONGITUDE = (75.9976,75.678,75.3466,75.1655,75.1685 ,75.1714,75.1742,75.177,75.1796,75.1822 ,75.1848,75.1872,75.1896,75.192,75.1943 ,75.1965,75.1987,75.2007,75.2027, 75.2046,75.2065,75.2082,75.2092,75.2124 ,75.2138,75.2152,75.2167,75.2188, 75.2199,75.2212,75.2225,75.2236,75.2248 ,75.2259,75.2268,75.2276,75.2285, 75.2295,75.2306,75.2313,75.232,75.2327, 75.2333,75.2338,75.2348,75.2351,75.2354 ,75.2357,75.2361,75.2365,75.2369, 75.5665,76.0631,76.2758,76.2777,76.2796 ,76.2813,76.2842,76.2862,76.2883, 76.2903,76.2925,76.2947,76.2981,76.3014 ,76.3039,76.3063,76.3088,76.3113, 76.3138,76.318,76.3207,76.3234,76.3262, 76.3291,76.332,76.3351,76.3381,76.3412, 76.346,76.3508,76.3544,76.358,76.3617, 76.3654,76.369,76.3728,76.3766,76.3805, 76.3846,76.3889,76.3929,76.397,76.4035, 76.408,76.4122,76.4165,76.4208,76.4252, 75.9976)
ORBIT_NUMBER = 3025
ORBITAL_ECCENTRICITY = 0.572
ORBITAL_INCLINATION = 86.64
ORBITAL_SEMIMAJOR_AXIS = 8628.3
PERIAPSIS_ALTITUDE = 295.25
PERIAPSIS_ARGUMENT_ANGLE = 186.74
PERIAPSIS_TIME = 2006-05-19T17:04:40.000Z
SPACECRAFT_ORIENTATION = (0.0,-1.0,0.0)
^MEX_ORIENTATION_DESC = "MEX_ORIENTATION_DESC.TXT"
SPACECRAFT_POINTING_MODE = NADIR
^MEX_POINTING_DESC = "MEX_POINTING_DESC.TXT"
RIGHT_ASCENSION = -1e+32
DECLINATION = -1e+32
OFFSET_ANGLE = -1e+32
SPACECRAFT_SOLAR_DISTANCE = 2.48201e+08
TARGET_NAME = MARS
/* CAMERA DATA ELEMENTS */
DETECTOR_TEMPERATURE = 17.351
FOCAL_PLANE_TEMPERATURE = 8.5833
INST_CMPRS_NAME = "DISCRETE COSINE TRANSFORMATION (DCT)"
INST_CMPRS_RATIO = 13.4021
INST_CMPRS_QUALITY = 0
INST_CMPRS_QUANTZ_TBL_ID = 0
INSTRUMENT_TEMPERATURE = 11.6418
LENS_TEMPERATURE = 8.9911
MACROPIXEL_SIZE = 8
MISSING_FRAMES = 0
PIXEL_SUBSAMPLING_FLAG = N
SIGNAL_CHAIN_ID = 2
/* RADIOMETRIC DATA ELEMENTS */
BANDWIDTH = 76.0
CENTER_FILTER_WAVELENGTH = 444.0
RADIANCE_OFFSET = 0.254229
RADIANCE_SCALING_FACTOR = 0.00164317
REFLECTANCE_SCALING_FACTOR = 0.000104002
MEX:REFLECTANCE_OFFSET = 0.0160911
/* IMAGE OBJECT DEFINITIONS */
OBJECT = IMAGE
  INTERCHANGE_FORMAT = BINARY
  LINES = 7175
  LINE_SAMPLES = 793
  SAMPLE_TYPE = UNSIGNED_INTEGER
  SAMPLE_BITS = 8
  BANDS = 1
  BAND_STORAGE_TYPE = BAND_SEQUENTIAL
  MAXIMUM = 255
  MEAN = 137.682
  MINIMUM = 1
  STANDARD_DEVIATION = 28.7106
END_OBJECT = IMAGE
/* MAP OBJECT DEFINITIONS */
OBJECT = IMAGE_MAP_PROJECTION
  ^DATA_SET_MAP_PROJECTION_CATALOG= "DSMAP.CAT"
  A_AXIS_RADIUS = 3396.0
  B_AXIS_RADIUS = 3396.0
  C_AXIS_RADIUS = 3396.0
  CENTER_LATITUDE = 0.0
  CENTER_LONGITUDE = 76.0
  COORDINATE_SYSTEM_NAME = PLANETOGRAPHIC
  COORDINATE_SYSTEM_TYPE = "BODY-FIXED ROTATING"
  EASTERNMOST_LONGITUDE = 76.4252
  FIRST_STANDARD_PARALLEL = "N/A"
  LINE_FIRST_PIXEL = 1
  LINE_LAST_PIXEL = 7175
  LINE_PROJECTION_OFFSET = 6638.6875
  MAP_PROJECTION_ROTATION = 0.0
  MAP_PROJECTION_TYPE = SINUSOIDAL
  MAP_RESOLUTION = 592.713803866667
  MAP_SCALE = 0.1
  MAXIMUM_LATITUDE = 11.2024
  MINIMUM_LATITUDE = -0.412169
  POSITIVE_LONGITUDE_DIRECTION = EAST
  REFERENCE_LATITUDE = "N/A"
  REFERENCE_LONGITUDE = "N/A"
  SAMPLE_FIRST_PIXEL = 1
  SAMPLE_LAST_PIXEL = 793
  SAMPLE_PROJECTION_OFFSET = 521.4375
  SECOND_STANDARD_PARALLEL = "N/A"
  WESTERNMOST_LONGITUDE = 75.16549999999999
END_OBJECT = IMAGE_MAP_PROJECTION
/* The JPEG2000 image data file associated with this label. */
OBJECT = COMPRESSED_FILE
  FILE_NAME = "H3025_0000_BL3.JP2"
  RECORD_TYPE = UNDEFINED
  FILE_RECORDS = UNK
  ENCODING_TYPE = "JP2"
  INTERCHANGE_FORMAT = BINARY
  UNCOMPRESSED_FILE_NAME = "H3025_0000_BL3.IMG"
  REQUIRED_STORAGE_BYTES = "5707221"
  ^DESCRIPTION = "JP2INFO.TXT"
END_OBJECT = COMPRESSED_FILE
END
