PDS_VERSION_ID = PDS3
/* FILE DATA ELEMENTS */
RECORD_TYPE = STREAM
/* POINTERS TO DATA OBJECTS */
^COMPRESSED_FILE = "H3025_0000_GR3.JP2"
/* IDENTIFICATION DATA ELEMENTS */
DATA_SET_ID = "MEX-M-HRSC-5-REFDR-MAPPROJECTED-V3.0"
DATA_SET_NAME = "MARS EXPRESS HRSC MAP PROJECTED REFDR V3.0"
DETECTOR_ID = MEX_HRSC_GREEN
EVENT_TYPE = "MARS-REGIONAL-MAPPING-Vo"
INSTRUMENT_HOST_ID = MEX
INSTRUMENT_HOST_NAME = "MARS EXPRESS"
INSTRUMENT_ID = HRSC
INSTRUMENT_NAME = "HIGH RESOLUTION STEREO CAMERA"
MISSION_NAME = "MARS EXPRESS"
MISSION_PHASE_NAME = ME_Phase_3
PROCESSING_LEVEL_ID = 3
PRODUCT_CREATION_TIME = 2016-04-08T19:13:29.000Z
PRODUCT_ID = "H3025_0000_GR3.JP2"
RELEASE_ID = 0037
REVISION_ID = 0000
/* QUALITY DATA ELEMENTS */
DATA_QUALITY_ID = 2
DATA_QUALITY_DESC = "Data calculated based on photogrammetrically improved orbit and attitude data"
/* TIME DATA ELEMENTS */
SPACECRAFT_CLOCK_START_COUNT = "1/0096137966.09052"
SPACECRAFT_CLOCK_STOP_COUNT = "1/0096138245.57267"
START_TIME = 2006-05-19T17:00:00.555Z
STOP_TIME = 2006-05-19T17:03:09.208Z
/* ORBITAL DATA ELEMENTS */
ASCENDING_NODE_LONGITUDE = 164.78
MAXIMUM_RESOLUTION = 96.2
FOOTPRINT_POINT_LATITUDE = (11.2058,11.207,11.2057,10.9543,10.7026 ,10.4507,10.1985,9.94593,9.69314,9.4401 ,9.18677,8.93317,8.67934,8.42522, 8.17092,7.91631,7.66147,7.40641,7.15334 ,6.90602,6.65847,6.41063,6.16279, 5.91459,5.66615,5.29706,5.05653,4.81576 ,4.5748,4.33375,4.09246,3.85109,3.60949 ,3.24722,3.01355,2.77981,2.54586, 2.31181,2.07755,1.84324,1.49145,1.25695 ,0.904829,0.669697,0.43595,0.209172, -0.017747,-0.244516,-0.585483,-0.812757 ,-1.00347,-1.00421,-0.891706,-0.663512, -0.20973,0.243848,0.58836,0.823544, 1.05838,1.29308,1.52767,1.76214,1.99651 ,2.23075,2.46482,2.69876,2.93252, 3.16618,3.40483,3.64652,3.88808,4.12942 ,4.37066,4.61172,4.85263,5.09335,5.3338 ,5.70425,5.95258,6.20072,6.44871, 6.69647,6.94384,7.19102,7.5729,7.82781, 8.08247,8.33693,8.59113,8.84496,9.09854 ,9.35195,9.60512,9.85796,10.1105, 10.3628,10.6149,10.8667,11.1183, 11.2058)
FOOTPRINT_POINT_LONGITUDE = (75.9159,75.5555,75.152,75.1553,75.1586 ,75.1618,75.165,75.168,75.1709,75.1738, 75.1766,75.1793,75.182,75.1846,75.1872, 75.1896,75.192,75.1943,75.1966,75.1987, 75.2007,75.2024,75.2046,75.2063,75.2079 ,75.2104,75.2121,75.2135,75.2149, 75.2164,75.2177,75.2191,75.2203,75.222, 75.223,75.2241,75.2251,75.226,75.2268, 75.2277,75.2288,75.2298,75.231,75.2313, 75.2317,75.2322,75.2326,75.2335,75.2334 ,75.2337,75.5736,75.8364,76.274,76.2738 ,76.2781,76.2823,76.2849,76.2866, 76.2888,76.2911,76.2934,76.2958,76.2981 ,76.3005,76.303,76.3056,76.3083,76.3109 ,76.3137,76.3166,76.3195,76.3225, 76.3255,76.3285,76.3315,76.3347,76.338, 76.3431,76.3465,76.35,76.3534,76.357, 76.3609,76.3649,76.3711,76.3751,76.3793 ,76.3834,76.3876,76.3921,76.3966,76.401 ,76.4054,76.4101,76.4149,76.4195, 76.4242,76.4288,76.4336,75.9159)
ORBIT_NUMBER = 3025
ORBITAL_ECCENTRICITY = 0.572
ORBITAL_INCLINATION = 86.64
ORBITAL_SEMIMAJOR_AXIS = 8628.3
PERIAPSIS_ALTITUDE = 295.25
PERIAPSIS_ARGUMENT_ANGLE = 186.74
PERIAPSIS_TIME = 2006-05-19T17:04:40.000Z
SPACECRAFT_ORIENTATION = (0.0,-1.0,0.0)
^MEX_ORIENTATION_DESC = "MEX_ORIENTATION_DESC.TXT"
SPACECRAFT_POINTING_MODE = NADIR
^MEX_POINTING_DESC = "MEX_POINTING_DESC.TXT"
RIGHT_ASCENSION = -1e+32
DECLINATION = -1e+32
OFFSET_ANGLE = -1e+32
SPACECRAFT_SOLAR_DISTANCE = 2.48201e+08
TARGET_NAME = MARS
/* CAMERA DATA ELEMENTS */
DETECTOR_TEMPERATURE = 17.351
FOCAL_PLANE_TEMPERATURE = 8.5833
INST_CMPRS_NAME = "DISCRETE COSINE TRANSFORMATION (DCT)"
INST_CMPRS_RATIO = 14.0381
INST_CMPRS_QUALITY = 0
INST_CMPRS_QUANTZ_TBL_ID = 0
INSTRUMENT_TEMPERATURE = 11.6418
LENS_TEMPERATURE = 8.9911
MACROPIXEL_SIZE = 8
MISSING_FRAMES = 0
PIXEL_SUBSAMPLING_FLAG = N
SIGNAL_CHAIN_ID = 2
/* RADIOMETRIC DATA ELEMENTS */
BANDWIDTH = 88.0
CENTER_FILTER_WAVELENGTH = 538.0
RADIANCE_OFFSET = 0.45782
RADIANCE_SCALING_FACTOR = 0.00367235
REFLECTANCE_SCALING_FACTOR = 0.000194778
MEX:REFLECTANCE_OFFSET = 0.0242824
/* IMAGE OBJECT DEFINITIONS */
OBJECT = IMAGE
  INTERCHANGE_FORMAT = BINARY
  LINES = 7175
  LINE_SAMPLES = 793
  SAMPLE_TYPE = UNSIGNED_INTEGER
  SAMPLE_BITS = 8
  BANDS = 1
  BAND_STORAGE_TYPE = BAND_SEQUENTIAL
  MAXIMUM = 255
  MEAN = 139.702
  MINIMUM = 1
  STANDARD_DEVIATION = 28.4769
END_OBJECT = IMAGE
/* MAP OBJECT DEFINITIONS */
OBJECT = IMAGE_MAP_PROJECTION
  ^DATA_SET_MAP_PROJECTION_CATALOG= "DSMAP.CAT"
  A_AXIS_RADIUS = 3396.0
  B_AXIS_RADIUS = 3396.0
  C_AXIS_RADIUS = 3396.0
  CENTER_LATITUDE = 0.0
  CENTER_LONGITUDE = 76.0
  COORDINATE_SYSTEM_NAME = PLANETOGRAPHIC
  COORDINATE_SYSTEM_TYPE = "BODY-FIXED ROTATING"
  EASTERNMOST_LONGITUDE = 76.4336
  FIRST_STANDARD_PARALLEL = "N/A"
  LINE_FIRST_PIXEL = 1
  LINE_LAST_PIXEL = 7175
  LINE_PROJECTION_OFFSET = 6638.6875
  MAP_PROJECTION_ROTATION = 0.0
  MAP_PROJECTION_TYPE = SINUSOIDAL
  MAP_RESOLUTION = 592.713803866667
  MAP_SCALE = 0.1
  MAXIMUM_LATITUDE = 11.207
  MINIMUM_LATITUDE = -1.00421
  POSITIVE_LONGITUDE_DIRECTION = EAST
  REFERENCE_LATITUDE = "N/A"
  REFERENCE_LONGITUDE = "N/A"
  SAMPLE_FIRST_PIXEL = 1
  SAMPLE_LAST_PIXEL = 793
  SAMPLE_PROJECTION_OFFSET = 521.4375
  SECOND_STANDARD_PARALLEL = "N/A"
  WESTERNMOST_LONGITUDE = 75.152
END_OBJECT = IMAGE_MAP_PROJECTION
/* The JPEG2000 image data file associated with this label. */
OBJECT = COMPRESSED_FILE
  FILE_NAME = "H3025_0000_GR3.JP2"
  RECORD_TYPE = UNDEFINED
  FILE_RECORDS = UNK
  ENCODING_TYPE = "JP2"
  INTERCHANGE_FORMAT = BINARY
  UNCOMPRESSED_FILE_NAME = "H3025_0000_GR3.IMG"
  REQUIRED_STORAGE_BYTES = "5707221"
  ^DESCRIPTION = "JP2INFO.TXT"
END_OBJECT = COMPRESSED_FILE
END
