PDS_VERSION_ID = PDS3
/* FILE DATA ELEMENTS */
RECORD_TYPE = STREAM
/* POINTERS TO DATA OBJECTS */
^COMPRESSED_FILE = "H3030_0000_IR3.JP2"
/* IDENTIFICATION DATA ELEMENTS */
DATA_SET_ID = "MEX-M-HRSC-5-REFDR-MAPPROJECTED-V3.0"
DATA_SET_NAME = "MARS EXPRESS HRSC MAP PROJECTED REFDR V3.0"
DETECTOR_ID = MEX_HRSC_IR
EVENT_TYPE = "MARS-REGIONAL-MAPPING-Im-Fl-Lc"
INSTRUMENT_HOST_ID = MEX
INSTRUMENT_HOST_NAME = "MARS EXPRESS"
INSTRUMENT_ID = HRSC
INSTRUMENT_NAME = "HIGH RESOLUTION STEREO CAMERA"
MISSION_NAME = "MARS EXPRESS"
MISSION_PHASE_NAME = ME_Phase_3
PROCESSING_LEVEL_ID = 3
PRODUCT_CREATION_TIME = 2016-04-08T19:13:29.000Z
PRODUCT_ID = "H3030_0000_IR3.JP2"
RELEASE_ID = 0037
REVISION_ID = 0000
/* QUALITY DATA ELEMENTS */
DATA_QUALITY_ID = 2
DATA_QUALITY_DESC = "Data calculated based on photogrammetrically improved orbit and attitude data"
/* TIME DATA ELEMENTS */
SPACECRAFT_CLOCK_START_COUNT = "1/0096259037.07305"
SPACECRAFT_CLOCK_STOP_COUNT = "1/0096259187.49173"
START_TIME = 2006-05-21T02:37:27.405Z
STOP_TIME = 2006-05-21T02:39:03.263Z
/* ORBITAL DATA ELEMENTS */
ASCENDING_NODE_LONGITUDE = 164.67
MAXIMUM_RESOLUTION = 100.6
FOOTPRINT_POINT_LATITUDE = (4.21558,4.21443,4.21314,4.21165, 4.20997,4.2081,4.08113,3.95531,3.8306, 3.64041,3.51377,3.38784,3.26551,3.14329 ,2.96043,2.83774,2.71445,2.52977, 2.40672,2.28338,2.16065,1.97752,1.8533, 1.73099,1.6064,1.42022,1.29695,1.17375, 1.05042,0.927076,0.803642,0.680289, 0.558259,0.439624,0.261401,0.142428, 0.0237407,-0.0956789,-0.215279, -0.393963,-0.57142,-0.74735,-0.86747, -0.988687,-1.10896,-1.28949,-1.41058, -1.53073,-1.65089,-1.77102,-1.97191, -1.97032,-1.96812,-1.96685,-1.96479, -1.96348,-1.90065,-1.72032,-1.60012, -1.41928,-1.23838,-0.944254,-0.764509, -0.644218,-0.523077,-0.403258,-0.223533 ,-0.104472,0.0150681,0.194017,0.371958, 0.490512,0.609315,0.731701,0.855128, 0.978296,1.16306,1.28627,1.40949, 1.53269,1.6558,1.84055,1.96407,2.09045, 2.21501,2.39949,2.52051,2.64339,2.7667, 2.95085,3.07431,3.2567,3.37809,3.50264, 3.6288,3.75513,3.88147,4.07081,4.197, 4.21558)
FOOTPRINT_POINT_LONGITUDE = (304.634,304.466,304.297,304.127, 303.957,303.787,303.645,303.646,303.647 ,303.648,303.649,303.649,303.65,303.651 ,303.652,303.652,303.653,303.653, 303.653,303.654,303.654,303.656,303.656 ,303.656,303.656,303.656,303.657, 303.657,303.657,303.658,303.658,303.659 ,303.659,303.66,303.661,303.661,303.662 ,303.662,303.662,303.663,303.665, 303.667,303.667,303.666,303.666,303.666 ,303.666,303.666,303.666,303.666, 303.704,303.843,304.031,304.188,304.452 ,304.608,304.712,304.713,304.714, 304.715,304.716,304.72,304.721,304.722, 304.723,304.724,304.725,304.726,304.727 ,304.729,304.73,304.731,304.733,304.734 ,304.735,304.736,304.738,304.739, 304.741,304.742,304.743,304.745,304.746 ,304.746,304.747,304.749,304.751, 304.752,304.753,304.755,304.756,304.758 ,304.76,304.762,304.763,304.764,304.766 ,304.768,304.77,304.634)
ORBIT_NUMBER = 3030
ORBITAL_ECCENTRICITY = 0.572
ORBITAL_INCLINATION = 86.63
ORBITAL_SEMIMAJOR_AXIS = 8623.04
PERIAPSIS_ALTITUDE = 296.1
PERIAPSIS_ARGUMENT_ANGLE = 185.87
PERIAPSIS_TIME = 2006-05-21T02:40:24.000Z
SPACECRAFT_ORIENTATION = (0.0,-1.0,0.0)
^MEX_ORIENTATION_DESC = "MEX_ORIENTATION_DESC.TXT"
SPACECRAFT_POINTING_MODE = ACROSSTRACK
^MEX_POINTING_DESC = "MEX_POINTING_DESC.TXT"
RIGHT_ASCENSION = -1e+32
DECLINATION = -1e+32
OFFSET_ANGLE = -0.21
SPACECRAFT_SOLAR_DISTANCE = 2.48276e+08
TARGET_NAME = MARS
/* CAMERA DATA ELEMENTS */
DETECTOR_TEMPERATURE = 17.1471
FOCAL_PLANE_TEMPERATURE = 8.1755
INST_CMPRS_NAME = "DISCRETE COSINE TRANSFORMATION (DCT)"
INST_CMPRS_RATIO = 12.7672
INST_CMPRS_QUALITY = 0
INST_CMPRS_QUANTZ_TBL_ID = 0
INSTRUMENT_TEMPERATURE = 11.0301
LENS_TEMPERATURE = 7.156
MACROPIXEL_SIZE = 8
MISSING_FRAMES = 0
PIXEL_SUBSAMPLING_FLAG = N
SIGNAL_CHAIN_ID = 2
/* RADIOMETRIC DATA ELEMENTS */
BANDWIDTH = 81.0
CENTER_FILTER_WAVELENGTH = 955.5
RADIANCE_OFFSET = 0.312822
RADIANCE_SCALING_FACTOR = 0.00490702
REFLECTANCE_SCALING_FACTOR = 0.000652551
MEX:REFLECTANCE_OFFSET = 0.0416001
/* IMAGE OBJECT DEFINITIONS */
OBJECT = IMAGE
  INTERCHANGE_FORMAT = BINARY
  LINES = 3667
  LINE_SAMPLES = 704
  SAMPLE_TYPE = UNSIGNED_INTEGER
  SAMPLE_BITS = 8
  BANDS = 1
  BAND_STORAGE_TYPE = BAND_SEQUENTIAL
  MAXIMUM = 255
  MEAN = 86.6687
  MINIMUM = 1
  STANDARD_DEVIATION = 40.5759
END_OBJECT = IMAGE
/* MAP OBJECT DEFINITIONS */
OBJECT = IMAGE_MAP_PROJECTION
  ^DATA_SET_MAP_PROJECTION_CATALOG= "DSMAP.CAT"
  A_AXIS_RADIUS = 3396.0
  B_AXIS_RADIUS = 3396.0
  C_AXIS_RADIUS = 3396.0
  CENTER_LATITUDE = 0.0
  CENTER_LONGITUDE = 304.0
  COORDINATE_SYSTEM_NAME = PLANETOGRAPHIC
  COORDINATE_SYSTEM_TYPE = "BODY-FIXED ROTATING"
  EASTERNMOST_LONGITUDE = 304.77
  FIRST_STANDARD_PARALLEL = "N/A"
  LINE_FIRST_PIXEL = 1
  LINE_LAST_PIXEL = 3667
  LINE_PROJECTION_OFFSET = 2505.6875
  MAP_PROJECTION_ROTATION = 0.0
  MAP_PROJECTION_TYPE = SINUSOIDAL
  MAP_RESOLUTION = 592.713803866667
  MAP_SCALE = 0.1
  MAXIMUM_LATITUDE = 4.21558
  MINIMUM_LATITUDE = -1.97191
  POSITIVE_LONGITUDE_DIRECTION = EAST
  REFERENCE_LATITUDE = "N/A"
  REFERENCE_LONGITUDE = "N/A"
  SAMPLE_FIRST_PIXEL = 1
  SAMPLE_LAST_PIXEL = 704
  SAMPLE_PROJECTION_OFFSET = 239.6875
  SECOND_STANDARD_PARALLEL = "N/A"
  WESTERNMOST_LONGITUDE = 303.645
END_OBJECT = IMAGE_MAP_PROJECTION
/* The JPEG2000 image data file associated with this label. */
OBJECT = COMPRESSED_FILE
  FILE_NAME = "H3030_0000_IR3.JP2"
  RECORD_TYPE = UNDEFINED
  FILE_RECORDS = UNK
  ENCODING_TYPE = "JP2"
  INTERCHANGE_FORMAT = BINARY
  UNCOMPRESSED_FILE_NAME = "H3030_0000_IR3.IMG"
  REQUIRED_STORAGE_BYTES = "2599872"
  ^DESCRIPTION = "JP2INFO.TXT"
END_OBJECT = COMPRESSED_FILE
END
