PDS_VERSION_ID = PDS3
/* FILE DATA ELEMENTS */
RECORD_TYPE = STREAM
/* POINTERS TO DATA OBJECTS */
^COMPRESSED_FILE = "H3037_0000_BL3.JP2"
/* IDENTIFICATION DATA ELEMENTS */
DATA_SET_ID = "MEX-M-HRSC-5-REFDR-MAPPROJECTED-V3.0"
DATA_SET_NAME = "MARS EXPRESS HRSC MAP PROJECTED REFDR V3.0"
DETECTOR_ID = MEX_HRSC_BLUE
EVENT_TYPE = "MARS-REGIONAL-MAPPING-Te-Fl-La"
INSTRUMENT_HOST_ID = MEX
INSTRUMENT_HOST_NAME = "MARS EXPRESS"
INSTRUMENT_ID = HRSC
INSTRUMENT_NAME = "HIGH RESOLUTION STEREO CAMERA"
MISSION_NAME = "MARS EXPRESS"
MISSION_PHASE_NAME = ME_Phase_3
PROCESSING_LEVEL_ID = 3
PRODUCT_CREATION_TIME = 2016-04-08T19:13:29.000Z
PRODUCT_ID = "H3037_0000_BL3.JP2"
RELEASE_ID = 0037
REVISION_ID = 0000
/* QUALITY DATA ELEMENTS */
DATA_QUALITY_ID = 2
DATA_QUALITY_DESC = "Data calculated based on photogrammetrically improved orbit and attitude data"
/* TIME DATA ELEMENTS */
SPACECRAFT_CLOCK_START_COUNT = "1/0096428067.08395"
SPACECRAFT_CLOCK_STOP_COUNT = "1/0096428317.24662"
START_TIME = 2006-05-23T01:35:24.232Z
STOP_TIME = 2006-05-23T01:38:16.330Z
/* ORBITAL DATA ELEMENTS */
ASCENDING_NODE_LONGITUDE = 164.53
MAXIMUM_RESOLUTION = 113.2
FOOTPRINT_POINT_LATITUDE = (22.6508,22.6512,22.6512,22.6506, 22.6492,22.5312,22.2897,22.051,21.8117, 21.453,21.2191,20.9848,20.6343,20.2878, 20.0579,19.8288,19.5992,19.3694,19.1395 ,18.9092,18.6788,18.448,18.217,17.9857, 17.7542,17.5224,17.2904,17.058,16.8257, 16.5929,16.3599,16.1267,15.9078,15.6143 ,15.4186,15.2227,15.0266,14.8303, 14.5354,14.3387,14.0435,13.8463,13.6491 ,13.4517,13.1549,12.9568,12.7589, 12.5613,12.3639,12.1654,11.9672,11.7688 ,11.7581,11.7575,11.7564,11.8569, 12.1543,12.3526,12.5507,12.7486,12.9465 ,13.1441,13.3424,13.6378,13.8354, 14.0325,14.3279,14.5247,14.7213,14.9178 ,15.2124,15.4093,15.7023,15.8982,16.232 ,16.4651,16.6981,16.9307,17.1632, 17.3953,17.6272,17.8589,18.0903,18.3215 ,18.6682,18.9,19.13,19.4741,19.704, 19.9335,20.1628,20.5068,20.7409,21.0925 ,21.4461,21.6851,21.9247,22.1638, 22.4016,22.6508)
FOOTPRINT_POINT_LONGITUDE = (337.257,336.99,336.739,336.362,335.986 ,335.747,335.755,335.761,335.768, 335.778,335.785,335.792,335.799,335.808 ,335.815,335.821,335.826,335.832, 335.837,335.842,335.847,335.852,335.857 ,335.862,335.867,335.872,335.877, 335.881,335.886,335.89,335.895,335.899, 335.903,335.909,335.911,335.915,335.918 ,335.921,335.926,335.929,335.933, 335.936,335.939,335.942,335.947,335.95, 335.953,335.955,335.957,335.96,335.962, 335.964,336.267,336.653,337.004,337.212 ,337.217,337.221,337.224,337.227, 337.231,337.234,337.239,337.243,337.247 ,337.25,337.256,337.26,337.263,337.267, 337.273,337.279,337.283,337.287,337.294 ,337.298,337.303,337.308,337.313, 337.318,337.323,337.328,337.333,337.338 ,337.346,337.353,337.358,337.364, 337.369,337.375,337.38,337.39,337.394, 337.403,337.416,337.422,337.429,337.435 ,337.439,337.257)
ORBIT_NUMBER = 3037
ORBITAL_ECCENTRICITY = 0.572
ORBITAL_INCLINATION = 86.64
ORBITAL_SEMIMAJOR_AXIS = 8620.08
PERIAPSIS_ALTITUDE = 297.22
PERIAPSIS_ARGUMENT_ANGLE = 184.59
PERIAPSIS_TIME = 2006-05-23T01:42:21.000Z
SPACECRAFT_ORIENTATION = (0.0,-1.0,0.0)
^MEX_ORIENTATION_DESC = "MEX_ORIENTATION_DESC.TXT"
SPACECRAFT_POINTING_MODE = NADIR
^MEX_POINTING_DESC = "MEX_POINTING_DESC.TXT"
RIGHT_ASCENSION = -1e+32
DECLINATION = -1e+32
OFFSET_ANGLE = -1e+32
SPACECRAFT_SOLAR_DISTANCE = 2.48378e+08
TARGET_NAME = MARS
/* CAMERA DATA ELEMENTS */
DETECTOR_TEMPERATURE = 18.1666
FOCAL_PLANE_TEMPERATURE = 7.7677
INST_CMPRS_NAME = "DISCRETE COSINE TRANSFORMATION (DCT)"
INST_CMPRS_RATIO = 16.1434
INST_CMPRS_QUALITY = 0
INST_CMPRS_QUANTZ_TBL_ID = 0
INSTRUMENT_TEMPERATURE = 11.0301
LENS_TEMPERATURE = 8.1755
MACROPIXEL_SIZE = 8
MISSING_FRAMES = 0
PIXEL_SUBSAMPLING_FLAG = N
SIGNAL_CHAIN_ID = 2
/* RADIOMETRIC DATA ELEMENTS */
BANDWIDTH = 76.0
CENTER_FILTER_WAVELENGTH = 444.0
RADIANCE_OFFSET = 0.420745
RADIANCE_SCALING_FACTOR = 0.00158398
REFLECTANCE_SCALING_FACTOR = 0.000100399
MEX:REFLECTANCE_OFFSET = 0.0266686
/* IMAGE OBJECT DEFINITIONS */
OBJECT = IMAGE
  INTERCHANGE_FORMAT = BINARY
  LINES = 6462
  LINE_SAMPLES = 983
  SAMPLE_TYPE = UNSIGNED_INTEGER
  SAMPLE_BITS = 8
  BANDS = 1
  BAND_STORAGE_TYPE = BAND_SEQUENTIAL
  MAXIMUM = 255
  MEAN = 117.39
  MINIMUM = 1
  STANDARD_DEVIATION = 19.1622
END_OBJECT = IMAGE
/* MAP OBJECT DEFINITIONS */
OBJECT = IMAGE_MAP_PROJECTION
  ^DATA_SET_MAP_PROJECTION_CATALOG= "DSMAP.CAT"
  A_AXIS_RADIUS = 3396.0
  B_AXIS_RADIUS = 3396.0
  C_AXIS_RADIUS = 3396.0
  CENTER_LATITUDE = 0.0
  CENTER_LONGITUDE = 337.0
  COORDINATE_SYSTEM_NAME = PLANETOGRAPHIC
  COORDINATE_SYSTEM_TYPE = "BODY-FIXED ROTATING"
  EASTERNMOST_LONGITUDE = 337.439
  FIRST_STANDARD_PARALLEL = "N/A"
  LINE_FIRST_PIXEL = 1
  LINE_LAST_PIXEL = 6462
  LINE_PROJECTION_OFFSET = 13420.6875
  MAP_PROJECTION_ROTATION = 0.0
  MAP_PROJECTION_TYPE = SINUSOIDAL
  MAP_RESOLUTION = 592.713803866667
  MAP_SCALE = 0.1
  MAXIMUM_LATITUDE = 22.6512
  MINIMUM_LATITUDE = 11.7564
  POSITIVE_LONGITUDE_DIRECTION = EAST
  REFERENCE_LATITUDE = "N/A"
  REFERENCE_LONGITUDE = "N/A"
  SAMPLE_FIRST_PIXEL = 1
  SAMPLE_LAST_PIXEL = 983
  SAMPLE_PROJECTION_OFFSET = 719.1875
  SECOND_STANDARD_PARALLEL = "N/A"
  WESTERNMOST_LONGITUDE = 335.747
END_OBJECT = IMAGE_MAP_PROJECTION
/* The JPEG2000 image data file associated with this label. */
OBJECT = COMPRESSED_FILE
  FILE_NAME = "H3037_0000_BL3.JP2"
  RECORD_TYPE = UNDEFINED
  FILE_RECORDS = UNK
  ENCODING_TYPE = "JP2"
  INTERCHANGE_FORMAT = BINARY
  UNCOMPRESSED_FILE_NAME = "H3037_0000_BL3.IMG"
  REQUIRED_STORAGE_BYTES = "6370823"
  ^DESCRIPTION = "JP2INFO.TXT"
END_OBJECT = COMPRESSED_FILE
END
