PDS_VERSION_ID = PDS3
/* FILE DATA ELEMENTS */
RECORD_TYPE = STREAM
/* POINTERS TO DATA OBJECTS */
^COMPRESSED_FILE = "H3037_0000_RE3.JP2"
/* IDENTIFICATION DATA ELEMENTS */
DATA_SET_ID = "MEX-M-HRSC-5-REFDR-MAPPROJECTED-V3.0"
DATA_SET_NAME = "MARS EXPRESS HRSC MAP PROJECTED REFDR V3.0"
DETECTOR_ID = MEX_HRSC_RED
EVENT_TYPE = "MARS-REGIONAL-MAPPING-Te-Fl-La"
INSTRUMENT_HOST_ID = MEX
INSTRUMENT_HOST_NAME = "MARS EXPRESS"
INSTRUMENT_ID = HRSC
INSTRUMENT_NAME = "HIGH RESOLUTION STEREO CAMERA"
MISSION_NAME = "MARS EXPRESS"
MISSION_PHASE_NAME = ME_Phase_3
PROCESSING_LEVEL_ID = 3
PRODUCT_CREATION_TIME = 2016-04-08T19:13:29.000Z
PRODUCT_ID = "H3037_0000_RE3.JP2"
RELEASE_ID = 0037
REVISION_ID = 0000
/* QUALITY DATA ELEMENTS */
DATA_QUALITY_ID = 2
DATA_QUALITY_DESC = "Data calculated based on photogrammetrically improved orbit and attitude data"
/* TIME DATA ELEMENTS */
SPACECRAFT_CLOCK_START_COUNT = "1/0096428067.08395"
SPACECRAFT_CLOCK_STOP_COUNT = "1/0096428317.24662"
START_TIME = 2006-05-23T01:35:49.717Z
STOP_TIME = 2006-05-23T01:38:35.890Z
/* ORBITAL DATA ELEMENTS */
ASCENDING_NODE_LONGITUDE = 164.53
MAXIMUM_RESOLUTION = 115.7
FOOTPRINT_POINT_LATITUDE = (22.7243,22.7242,22.724,22.7237,22.7235 ,22.7232,22.7584,22.5141,22.1476, 21.9095,21.6707,21.3122,21.073,20.8328, 20.5998,20.3604,20.115,19.8762,19.6357, 19.3957,19.1561,18.9161,18.6758,18.4353 ,18.0741,17.7126,17.4711,17.1673, 16.9646,16.6609,16.4582,16.1536,15.9505 ,15.7491,15.5448,15.3434,15.0391, 14.8363,14.6324,14.3271,14.1241,13.9207 ,13.7168,13.411,13.2055,12.8976,12.6999 ,12.5084,12.3112,12.1107,11.9139, 11.8178,11.8181,11.8159,11.8156,11.9171 ,12.1143,12.3121,12.5089,12.7063, 13.0053,13.314,13.5198,13.7194,14.0242, 14.2277,14.4314,14.6347,14.8382,15.1416 ,15.4513,15.6502,15.8542,16.0572, 16.3612,16.5637,16.7667,16.9692,17.2725 ,17.5959,17.8365,18.0774,18.3174, 18.5575,18.8056,19.0463,19.2805,19.6401 ,19.8801,20.2417,20.4821,20.8399, 21.0768,21.3273,21.5673,21.8063,22.0446 ,22.4034,22.6406,22.7243)
FOOTPRINT_POINT_LONGITUDE = (337.186,336.988,336.669,336.426, 336.228,336.031,335.765,335.771,335.781 ,335.788,335.794,335.803,335.809, 335.816,335.819,335.825,335.833,335.838 ,335.843,335.849,335.854,335.859, 335.864,335.868,335.876,335.883,335.887 ,335.893,335.897,335.902,335.906, 335.911,335.915,335.918,335.921,335.924 ,335.928,335.931,335.935,335.939, 335.942,335.945,335.947,335.952,335.955 ,335.959,335.962,335.962,335.965, 335.968,335.97,336.142,336.487,336.705, 337.005,337.198,337.201,337.205,337.208 ,337.211,337.215,337.222,337.226, 337.228,337.233,337.236,337.24,337.243, 337.247,337.252,337.259,337.262,337.266 ,337.27,337.275,337.279,337.283,337.287 ,337.293,337.299,337.304,337.309, 337.313,337.318,337.326,337.331,337.334 ,337.341,337.347,337.355,337.361, 337.368,337.373,337.383,337.389,337.395 ,337.4,337.407,337.41,337.186)
ORBIT_NUMBER = 3037
ORBITAL_ECCENTRICITY = 0.572
ORBITAL_INCLINATION = 86.64
ORBITAL_SEMIMAJOR_AXIS = 8620.08
PERIAPSIS_ALTITUDE = 297.22
PERIAPSIS_ARGUMENT_ANGLE = 184.59
PERIAPSIS_TIME = 2006-05-23T01:42:21.000Z
SPACECRAFT_ORIENTATION = (0.0,-1.0,0.0)
^MEX_ORIENTATION_DESC = "MEX_ORIENTATION_DESC.TXT"
SPACECRAFT_POINTING_MODE = NADIR
^MEX_POINTING_DESC = "MEX_POINTING_DESC.TXT"
RIGHT_ASCENSION = -1e+32
DECLINATION = -1e+32
OFFSET_ANGLE = -1e+32
SPACECRAFT_SOLAR_DISTANCE = 2.48378e+08
TARGET_NAME = MARS
/* CAMERA DATA ELEMENTS */
DETECTOR_TEMPERATURE = 18.5744
FOCAL_PLANE_TEMPERATURE = 7.7677
INST_CMPRS_NAME = "DISCRETE COSINE TRANSFORMATION (DCT)"
INST_CMPRS_RATIO = 12.301
INST_CMPRS_QUALITY = 0
INST_CMPRS_QUANTZ_TBL_ID = 0
INSTRUMENT_TEMPERATURE = 11.0301
LENS_TEMPERATURE = 8.1755
MACROPIXEL_SIZE = 8
MISSING_FRAMES = 0
PIXEL_SUBSAMPLING_FLAG = N
SIGNAL_CHAIN_ID = 2
/* RADIOMETRIC DATA ELEMENTS */
BANDWIDTH = 48.0
CENTER_FILTER_WAVELENGTH = 748.0
RADIANCE_OFFSET = 0.564794
RADIANCE_SCALING_FACTOR = 0.00474617
REFLECTANCE_SCALING_FACTOR = 0.000668175
MEX:REFLECTANCE_OFFSET = 0.0795128
/* IMAGE OBJECT DEFINITIONS */
OBJECT = IMAGE
  INTERCHANGE_FORMAT = BINARY
  LINES = 6462
  LINE_SAMPLES = 983
  SAMPLE_TYPE = UNSIGNED_INTEGER
  SAMPLE_BITS = 8
  BANDS = 1
  BAND_STORAGE_TYPE = BAND_SEQUENTIAL
  MAXIMUM = 255
  MEAN = 92.348
  MINIMUM = 1
  STANDARD_DEVIATION = 31.156
END_OBJECT = IMAGE
/* MAP OBJECT DEFINITIONS */
OBJECT = IMAGE_MAP_PROJECTION
  ^DATA_SET_MAP_PROJECTION_CATALOG= "DSMAP.CAT"
  A_AXIS_RADIUS = 3396.0
  B_AXIS_RADIUS = 3396.0
  C_AXIS_RADIUS = 3396.0
  CENTER_LATITUDE = 0.0
  CENTER_LONGITUDE = 337.0
  COORDINATE_SYSTEM_NAME = PLANETOGRAPHIC
  COORDINATE_SYSTEM_TYPE = "BODY-FIXED ROTATING"
  EASTERNMOST_LONGITUDE = 337.41
  FIRST_STANDARD_PARALLEL = "N/A"
  LINE_FIRST_PIXEL = 1
  LINE_LAST_PIXEL = 6462
  LINE_PROJECTION_OFFSET = 13420.6875
  MAP_PROJECTION_ROTATION = 0.0
  MAP_PROJECTION_TYPE = SINUSOIDAL
  MAP_RESOLUTION = 592.713803866667
  MAP_SCALE = 0.1
  MAXIMUM_LATITUDE = 22.7584
  MINIMUM_LATITUDE = 11.8156
  POSITIVE_LONGITUDE_DIRECTION = EAST
  REFERENCE_LATITUDE = "N/A"
  REFERENCE_LONGITUDE = "N/A"
  SAMPLE_FIRST_PIXEL = 1
  SAMPLE_LAST_PIXEL = 983
  SAMPLE_PROJECTION_OFFSET = 719.1875
  SECOND_STANDARD_PARALLEL = "N/A"
  WESTERNMOST_LONGITUDE = 335.765
END_OBJECT = IMAGE_MAP_PROJECTION
/* The JPEG2000 image data file associated with this label. */
OBJECT = COMPRESSED_FILE
  FILE_NAME = "H3037_0000_RE3.JP2"
  RECORD_TYPE = UNDEFINED
  FILE_RECORDS = UNK
  ENCODING_TYPE = "JP2"
  INTERCHANGE_FORMAT = BINARY
  UNCOMPRESSED_FILE_NAME = "H3037_0000_RE3.IMG"
  REQUIRED_STORAGE_BYTES = "6370823"
  ^DESCRIPTION = "JP2INFO.TXT"
END_OBJECT = COMPRESSED_FILE
END
