PDS_VERSION_ID = PDS3
/* FILE DATA ELEMENTS */
RECORD_TYPE = STREAM
/* POINTERS TO DATA OBJECTS */
^COMPRESSED_FILE = "H3038_0000_BL3.JP2"
/* IDENTIFICATION DATA ELEMENTS */
DATA_SET_ID = "MEX-M-HRSC-5-REFDR-MAPPROJECTED-V3.0"
DATA_SET_NAME = "MARS EXPRESS HRSC MAP PROJECTED REFDR V3.0"
DETECTOR_ID = MEX_HRSC_BLUE
EVENT_TYPE = "MARS-REGIONAL-MAPPING-Vo-Te"
INSTRUMENT_HOST_ID = MEX
INSTRUMENT_HOST_NAME = "MARS EXPRESS"
INSTRUMENT_ID = HRSC
INSTRUMENT_NAME = "HIGH RESOLUTION STEREO CAMERA"
MISSION_NAME = "MARS EXPRESS"
MISSION_PHASE_NAME = ME_Phase_3
PROCESSING_LEVEL_ID = 3
PRODUCT_CREATION_TIME = 2016-04-08T19:13:29.000Z
PRODUCT_ID = "H3038_0000_BL3.JP2"
RELEASE_ID = 0037
REVISION_ID = 0000
/* QUALITY DATA ELEMENTS */
DATA_QUALITY_ID = 2
DATA_QUALITY_DESC = "Data calculated based on photogrammetrically improved orbit and attitude data"
/* TIME DATA ELEMENTS */
SPACECRAFT_CLOCK_START_COUNT = "1/0096452351.08413"
SPACECRAFT_CLOCK_STOP_COUNT = "1/0096452548.39803"
START_TIME = 2006-05-23T08:20:02.171Z
STOP_TIME = 2006-05-23T08:22:07.723Z
/* ORBITAL DATA ELEMENTS */
ASCENDING_NODE_LONGITUDE = 164.51
MAXIMUM_RESOLUTION = 104.9
FOOTPRINT_POINT_LATITUDE = (17.1147,17.1152,17.1155,17.1155, 17.1153,17.1129,16.7968,16.4802,16.2424 ,16.0839,15.9251,15.7663,15.6075, 15.4485,15.2895,15.1303,14.9711,14.8118 ,14.6524,14.4929,14.3333,14.1735, 14.0137,13.8539,13.6939,13.5339,13.3737 ,13.2134,13.0531,12.8124,12.6519, 12.4913,12.3306,12.0894,11.9285,11.7674 ,11.6063,11.4451,11.2839,11.1227, 10.9612,10.7998,10.6382,10.4767,10.315, 10.1532,9.99147,9.82954,9.66842,9.35413 ,9.02125,9.02082,9.0202,9.01931,9.01853 ,9.33447,9.64882,9.89062,10.0525, 10.2143,10.376,10.5377,10.6993,10.8609, 11.0223,11.1837,11.345,11.5062,11.6673, 11.8284,11.9894,12.1503,12.3111,12.4719 ,12.6326,12.7932,12.9537,13.1141, 13.2744,13.4346,13.5947,13.7548,13.9147 ,14.0746,14.2344,14.3941,14.5537, 14.7132,14.8726,15.0319,15.1912,15.3503 ,15.5094,15.6684,15.8273,15.986,16.3029 ,16.5407,16.9367,17.1147)
FOOTPRINT_POINT_LONGITUDE = (238.812,238.561,238.205,238.021, 237.836,237.632,237.638,237.645,237.649 ,237.652,237.655,237.658,237.661, 237.664,237.667,237.669,237.672,237.675 ,237.677,237.68,237.682,237.685,237.687 ,237.69,237.692,237.694,237.697,237.699 ,237.701,237.705,237.707,237.709, 237.711,237.714,237.716,237.718,237.72, 237.722,237.724,237.725,237.727,237.729 ,237.731,237.732,237.734,237.736, 237.737,237.739,237.741,237.745,237.822 ,238.015,238.283,238.54,238.818,238.895 ,238.901,238.905,238.907,238.91,238.912 ,238.915,238.917,238.92,238.922,238.925 ,238.927,238.93,238.932,238.935,238.938 ,238.94,238.943,238.946,238.949,238.951 ,238.954,238.957,238.96,238.962,238.965 ,238.968,238.971,238.974,238.977,238.98 ,238.983,238.986,238.989,238.992, 238.995,238.998,239.001,239.004,239.007 ,239.01,239.017,239.022,239.031, 238.812)
ORBIT_NUMBER = 3038
ORBITAL_ECCENTRICITY = 0.572
ORBITAL_INCLINATION = 86.63
ORBITAL_SEMIMAJOR_AXIS = 8637.15
PERIAPSIS_ALTITUDE = 296.53
PERIAPSIS_ARGUMENT_ANGLE = 184.43
PERIAPSIS_TIME = 2006-05-23T08:25:27.000Z
SPACECRAFT_ORIENTATION = (0.0,-1.0,0.0)
^MEX_ORIENTATION_DESC = "MEX_ORIENTATION_DESC.TXT"
SPACECRAFT_POINTING_MODE = NADIR
^MEX_POINTING_DESC = "MEX_POINTING_DESC.TXT"
RIGHT_ASCENSION = -1e+32
DECLINATION = -1e+32
OFFSET_ANGLE = -1e+32
SPACECRAFT_SOLAR_DISTANCE = 2.48392e+08
TARGET_NAME = MARS
/* CAMERA DATA ELEMENTS */
DETECTOR_TEMPERATURE = 18.1666
FOCAL_PLANE_TEMPERATURE = 7.9716
INST_CMPRS_NAME = "DISCRETE COSINE TRANSFORMATION (DCT)"
INST_CMPRS_RATIO = 19.3614
INST_CMPRS_QUALITY = 0
INST_CMPRS_QUANTZ_TBL_ID = 0
INSTRUMENT_TEMPERATURE = 11.234
LENS_TEMPERATURE = 8.3794
MACROPIXEL_SIZE = 8
MISSING_FRAMES = 0
PIXEL_SUBSAMPLING_FLAG = N
SIGNAL_CHAIN_ID = 2
/* RADIOMETRIC DATA ELEMENTS */
BANDWIDTH = 76.0
CENTER_FILTER_WAVELENGTH = 444.0
RADIANCE_OFFSET = 0.343174
RADIANCE_SCALING_FACTOR = 0.00280371
REFLECTANCE_SCALING_FACTOR = 0.00017773
MEX:REFLECTANCE_OFFSET = 0.0217542
/* IMAGE OBJECT DEFINITIONS */
OBJECT = IMAGE
  INTERCHANGE_FORMAT = BINARY
  LINES = 4812
  LINE_SAMPLES = 862
  SAMPLE_TYPE = UNSIGNED_INTEGER
  SAMPLE_BITS = 8
  BANDS = 1
  BAND_STORAGE_TYPE = BAND_SEQUENTIAL
  MAXIMUM = 255
  MEAN = 114.134
  MINIMUM = 1
  STANDARD_DEVIATION = 32.7151
END_OBJECT = IMAGE
/* MAP OBJECT DEFINITIONS */
OBJECT = IMAGE_MAP_PROJECTION
  ^DATA_SET_MAP_PROJECTION_CATALOG= "DSMAP.CAT"
  A_AXIS_RADIUS = 3396.0
  B_AXIS_RADIUS = 3396.0
  C_AXIS_RADIUS = 3396.0
  CENTER_LATITUDE = 0.0
  CENTER_LONGITUDE = 238.0
  COORDINATE_SYSTEM_NAME = PLANETOGRAPHIC
  COORDINATE_SYSTEM_TYPE = "BODY-FIXED ROTATING"
  EASTERNMOST_LONGITUDE = 239.031
  FIRST_STANDARD_PARALLEL = "N/A"
  LINE_FIRST_PIXEL = 1
  LINE_LAST_PIXEL = 4812
  LINE_PROJECTION_OFFSET = 10156.8125
  MAP_PROJECTION_ROTATION = 0.0
  MAP_PROJECTION_TYPE = SINUSOIDAL
  MAP_RESOLUTION = 592.713803866667
  MAP_SCALE = 0.1
  MAXIMUM_LATITUDE = 17.1155
  MINIMUM_LATITUDE = 9.01853
  POSITIVE_LONGITUDE_DIRECTION = EAST
  REFERENCE_LATITUDE = "N/A"
  REFERENCE_LONGITUDE = "N/A"
  SAMPLE_FIRST_PIXEL = 1
  SAMPLE_LAST_PIXEL = 862
  SAMPLE_PROJECTION_OFFSET = 245.9375
  SECOND_STANDARD_PARALLEL = "N/A"
  WESTERNMOST_LONGITUDE = 237.632
END_OBJECT = IMAGE_MAP_PROJECTION
/* The JPEG2000 image data file associated with this label. */
OBJECT = COMPRESSED_FILE
  FILE_NAME = "H3038_0000_BL3.JP2"
  RECORD_TYPE = UNDEFINED
  FILE_RECORDS = UNK
  ENCODING_TYPE = "JP2"
  INTERCHANGE_FORMAT = BINARY
  UNCOMPRESSED_FILE_NAME = "H3038_0000_BL3.IMG"
  REQUIRED_STORAGE_BYTES = "4166046"
  ^DESCRIPTION = "JP2INFO.TXT"
END_OBJECT = COMPRESSED_FILE
END
