PDS_VERSION_ID = PDS3
/* FILE DATA ELEMENTS */
RECORD_TYPE = STREAM
/* POINTERS TO DATA OBJECTS */
^COMPRESSED_FILE = "H3041_0000_P13.JP2"
/* IDENTIFICATION DATA ELEMENTS */
DATA_SET_ID = "MEX-M-HRSC-5-REFDR-MAPPROJECTED-V3.0"
DATA_SET_NAME = "MARS EXPRESS HRSC MAP PROJECTED REFDR V3.0"
DETECTOR_ID = MEX_HRSC_P1
EVENT_TYPE = "MARS-REGIONAL-MAPPING-Im-Fl-Lc"
INSTRUMENT_HOST_ID = MEX
INSTRUMENT_HOST_NAME = "MARS EXPRESS"
INSTRUMENT_ID = HRSC
INSTRUMENT_NAME = "HIGH RESOLUTION STEREO CAMERA"
MISSION_NAME = "MARS EXPRESS"
MISSION_PHASE_NAME = ME_Phase_3
PROCESSING_LEVEL_ID = 3
PRODUCT_CREATION_TIME = 2016-04-08T19:13:29.000Z
PRODUCT_ID = "H3041_0000_P13.JP2"
RELEASE_ID = 0037
REVISION_ID = 0000
/* QUALITY DATA ELEMENTS */
DATA_QUALITY_ID = 2
DATA_QUALITY_DESC = "Data calculated based on photogrammetrically improved orbit and attitude data"
/* TIME DATA ELEMENTS */
SPACECRAFT_CLOCK_START_COUNT = "1/0096525159.08402"
SPACECRAFT_CLOCK_STOP_COUNT = "1/0096525308.07317"
START_TIME = 2006-05-24T04:32:54.269Z
STOP_TIME = 2006-05-24T04:34:28.322Z
/* ORBITAL DATA ELEMENTS */
ASCENDING_NODE_LONGITUDE = 164.44
MAXIMUM_RESOLUTION = 48.9
FOOTPRINT_POINT_LATITUDE = (3.17246,3.17138,3.17018,3.16913, 3.16771,3.16616,3.16446,3.10327,2.97895 ,2.79315,2.60739,2.42151,2.29761, 2.17348,1.98736,1.80101,1.67654,1.48986 ,1.36539,1.24503,1.12491,0.944579, 0.82436,0.644006,0.463676,0.343466, 0.103932,-0.0168684,-0.256873,-0.378292 ,-0.499494,-0.62001,-0.740289,-0.861525 ,-1.04331,-1.16425,-1.28517,-1.40616, -1.52718,-1.64832,-1.76937,-1.95102, -2.13275,-2.25389,-2.37512,-2.49645, -2.61782,-2.73901,-2.86027,-2.98, -2.97813,-2.9768,-2.97456,-2.97324, -2.97208,-2.9701,-2.84868,-2.72733, -2.54551,-2.3636,-2.24234,-2.12118, -1.99999,-1.87886,-1.69732,-1.57625, -1.45523,-1.33376,-1.15144,-1.03025, -0.908448,-0.726266,-0.489534,-0.369499 ,-0.249222,-0.128628,-0.00814376, 0.172408,0.292782,0.4729,0.592823, 0.772794,0.892867,1.01306,1.13318, 1.25316,1.37323,1.49689,1.62135,1.80886 ,1.93522,2.0594,2.18326,2.36868,2.55611 ,2.68046,2.80446,2.92872,3.05277, 3.17246)
FOOTPRINT_POINT_LONGITUDE = (303.753,303.592,303.431,303.299, 303.136,302.973,302.809,302.665,302.665 ,302.666,302.667,302.668,302.668, 302.669,302.669,302.67,302.67,302.67, 302.67,302.67,302.67,302.671,302.671, 302.671,302.672,302.672,302.673,302.673 ,302.674,302.673,302.673,302.673, 302.674,302.673,302.673,302.673,302.673 ,302.673,302.673,302.673,302.673, 302.672,302.672,302.672,302.672,302.672 ,302.672,302.672,302.671,302.671, 302.857,303.003,303.226,303.41,303.564, 303.711,303.712,303.712,303.713,303.714 ,303.714,303.715,303.715,303.716, 303.717,303.718,303.718,303.719,303.72, 303.72,303.721,303.722,303.724,303.725, 303.726,303.727,303.728,303.729,303.73, 303.731,303.732,303.733,303.734,303.735 ,303.736,303.737,303.738,303.739,303.74 ,303.741,303.742,303.743,303.744, 303.746,303.747,303.748,303.749,303.75, 303.752,303.753)
ORBIT_NUMBER = 3041
ORBITAL_ECCENTRICITY = 0.572
ORBITAL_INCLINATION = 86.63
ORBITAL_SEMIMAJOR_AXIS = 8623.89
PERIAPSIS_ALTITUDE = 296.92
PERIAPSIS_ARGUMENT_ANGLE = 183.91
PERIAPSIS_TIME = 2006-05-24T04:35:00.000Z
SPACECRAFT_ORIENTATION = (0.0,-1.0,0.0)
^MEX_ORIENTATION_DESC = "MEX_ORIENTATION_DESC.TXT"
SPACECRAFT_POINTING_MODE = ACROSSTRACK
^MEX_POINTING_DESC = "MEX_POINTING_DESC.TXT"
RIGHT_ASCENSION = -1e+32
DECLINATION = -1e+32
OFFSET_ANGLE = -0.25
SPACECRAFT_SOLAR_DISTANCE = 2.48433e+08
TARGET_NAME = MARS
/* CAMERA DATA ELEMENTS */
DETECTOR_TEMPERATURE = 17.5549
FOCAL_PLANE_TEMPERATURE = 8.1755
INST_CMPRS_NAME = "DISCRETE COSINE TRANSFORMATION (DCT)"
INST_CMPRS_RATIO = 9.30853
INST_CMPRS_QUALITY = 0
INST_CMPRS_QUANTZ_TBL_ID = 0
INSTRUMENT_TEMPERATURE = 11.0301
LENS_TEMPERATURE = 9.3989
MACROPIXEL_SIZE = 4
MISSING_FRAMES = 0
PIXEL_SUBSAMPLING_FLAG = N
SIGNAL_CHAIN_ID = 3
/* RADIOMETRIC DATA ELEMENTS */
BANDWIDTH = 174.0
CENTER_FILTER_WAVELENGTH = 675.0
RADIANCE_OFFSET = 1.82653
RADIANCE_SCALING_FACTOR = 0.0142001
REFLECTANCE_SCALING_FACTOR = 0.000471405
MEX:REFLECTANCE_OFFSET = 0.060636
/* IMAGE OBJECT DEFINITIONS */
OBJECT = IMAGE
  INTERCHANGE_FORMAT = BINARY
  LINES = 7278
  LINE_SAMPLES = 1374
  SAMPLE_TYPE = UNSIGNED_INTEGER
  SAMPLE_BITS = 8
  BANDS = 1
  BAND_STORAGE_TYPE = BAND_SEQUENTIAL
  MAXIMUM = 255
  MEAN = 100.271
  MINIMUM = 1
  STANDARD_DEVIATION = 32.2758
END_OBJECT = IMAGE
/* MAP OBJECT DEFINITIONS */
OBJECT = IMAGE_MAP_PROJECTION
  ^DATA_SET_MAP_PROJECTION_CATALOG= "DSMAP.CAT"
  A_AXIS_RADIUS = 3396.0
  B_AXIS_RADIUS = 3396.0
  C_AXIS_RADIUS = 3396.0
  CENTER_LATITUDE = 0.0
  CENTER_LONGITUDE = 303.0
  COORDINATE_SYSTEM_NAME = PLANETOGRAPHIC
  COORDINATE_SYSTEM_TYPE = "BODY-FIXED ROTATING"
  EASTERNMOST_LONGITUDE = 303.753
  FIRST_STANDARD_PARALLEL = "N/A"
  LINE_FIRST_PIXEL = 1
  LINE_LAST_PIXEL = 7278
  LINE_PROJECTION_OFFSET = 3762.625
  MAP_PROJECTION_ROTATION = 0.0
  MAP_PROJECTION_TYPE = SINUSOIDAL
  MAP_RESOLUTION = 1185.42760773333
  MAP_SCALE = 0.05
  MAXIMUM_LATITUDE = 3.17246
  MINIMUM_LATITUDE = -2.98
  POSITIVE_LONGITUDE_DIRECTION = EAST
  REFERENCE_LATITUDE = "N/A"
  REFERENCE_LONGITUDE = "N/A"
  SAMPLE_FIRST_PIXEL = 1
  SAMPLE_LAST_PIXEL = 1374
  SAMPLE_PROJECTION_OFFSET = 465.125
  SECOND_STANDARD_PARALLEL = "N/A"
  WESTERNMOST_LONGITUDE = 302.665
END_OBJECT = IMAGE_MAP_PROJECTION
/* The JPEG2000 image data file associated with this label. */
OBJECT = COMPRESSED_FILE
  FILE_NAME = "H3041_0000_P13.JP2"
  RECORD_TYPE = UNDEFINED
  FILE_RECORDS = UNK
  ENCODING_TYPE = "JP2"
  INTERCHANGE_FORMAT = BINARY
  UNCOMPRESSED_FILE_NAME = "H3041_0000_P13.IMG"
  REQUIRED_STORAGE_BYTES = "10019208"
  ^DESCRIPTION = "JP2INFO.TXT"
END_OBJECT = COMPRESSED_FILE
END
