PDS_VERSION_ID = PDS3
/* FILE DATA ELEMENTS */
RECORD_TYPE = STREAM
/* POINTERS TO DATA OBJECTS */
^COMPRESSED_FILE = "H3041_0000_S13.JP2"
/* IDENTIFICATION DATA ELEMENTS */
DATA_SET_ID = "MEX-M-HRSC-5-REFDR-MAPPROJECTED-V3.0"
DATA_SET_NAME = "MARS EXPRESS HRSC MAP PROJECTED REFDR V3.0"
DETECTOR_ID = MEX_HRSC_S1
EVENT_TYPE = "MARS-REGIONAL-MAPPING-Im-Fl-Lc"
INSTRUMENT_HOST_ID = MEX
INSTRUMENT_HOST_NAME = "MARS EXPRESS"
INSTRUMENT_ID = HRSC
INSTRUMENT_NAME = "HIGH RESOLUTION STEREO CAMERA"
MISSION_NAME = "MARS EXPRESS"
MISSION_PHASE_NAME = ME_Phase_3
PROCESSING_LEVEL_ID = 3
PRODUCT_CREATION_TIME = 2016-04-08T19:13:29.000Z
PRODUCT_ID = "H3041_0000_S13.JP2"
RELEASE_ID = 0037
REVISION_ID = 0000
/* QUALITY DATA ELEMENTS */
DATA_QUALITY_ID = 2
DATA_QUALITY_DESC = "Data calculated based on photogrammetrically improved orbit and attitude data"
/* TIME DATA ELEMENTS */
SPACECRAFT_CLOCK_START_COUNT = "1/0096525159.08402"
SPACECRAFT_CLOCK_STOP_COUNT = "1/0096525308.07317"
START_TIME = 2006-05-24T04:32:44.523Z
STOP_TIME = 2006-05-24T04:34:19.160Z
/* ORBITAL DATA ELEMENTS */
ASCENDING_NODE_LONGITUDE = 164.44
MAXIMUM_RESOLUTION = 25.3
FOOTPRINT_POINT_LATITUDE = (3.17943,3.17741,3.17527,3.17292, 3.17035,3.16757,3.16458,2.9806,2.85644, 2.73204,2.60801,2.48369,2.29717,2.17286 ,2.0481,1.92395,1.79927,1.67411,1.54914 ,1.36022,1.23471,1.10957,0.984304, 0.859049,0.674717,0.553884,0.433158, 0.252297,0.0721958,-0.0494634,-0.169396 ,-0.290333,-0.412919,-0.535169, -0.656368,-0.777202,-0.899489,-1.08273, -1.20464,-1.32643,-1.44832,-1.6314, -1.75337,-1.87538,-2.05849,-2.24167, -2.36383,-2.48616,-2.60862,-2.79198, -2.97456,-2.97053,-2.96876,-2.96622, -2.96367,-2.96219,-2.95995,-2.77487, -2.59154,-2.40809,-2.2858,-2.16365, -2.04147,-1.91937,-1.73646,-1.61445, -1.49251,-1.30813,-1.12445,-1.00206, -0.878409,-0.756482,-0.579793,-0.400159 ,-0.279312,-0.157979,-0.0368064, 0.0843176,0.20512,0.325973,0.506759, 0.627019,0.747586,0.871101,0.996413, 1.18402,1.30901,1.43407,1.62161,1.74791 ,1.93828,2.06275,2.24845,2.37267, 2.49915,2.6241,2.81119,2.93597,3.05998, 3.17943)
FOOTPRINT_POINT_LONGITUDE = (303.758,303.588,303.418,303.248, 303.076,302.905,302.732,302.655,302.656 ,302.656,302.657,302.657,302.658, 302.659,302.659,302.66,302.66,302.661, 302.661,302.661,302.661,302.661,302.661 ,302.662,302.662,302.662,302.663, 302.663,302.664,302.664,302.665,302.665 ,302.665,302.665,302.665,302.665, 302.665,302.665,302.665,302.665,302.665 ,302.665,302.665,302.665,302.665, 302.665,302.665,302.664,302.664,302.664 ,302.664,302.91,303.022,303.174,303.367 ,303.478,303.639,303.713,303.714, 303.715,303.716,303.717,303.717,303.718 ,303.719,303.72,303.72,303.721,303.722, 303.723,303.723,303.724,303.726,303.728 ,303.729,303.729,303.73,303.731,303.732 ,303.733,303.735,303.736,303.737, 303.738,303.739,303.74,303.741,303.742, 303.744,303.745,303.746,303.747,303.749 ,303.75,303.751,303.752,303.754,303.755 ,303.756,303.758)
ORBIT_NUMBER = 3041
ORBITAL_ECCENTRICITY = 0.572
ORBITAL_INCLINATION = 86.63
ORBITAL_SEMIMAJOR_AXIS = 8623.89
PERIAPSIS_ALTITUDE = 296.92
PERIAPSIS_ARGUMENT_ANGLE = 183.91
PERIAPSIS_TIME = 2006-05-24T04:35:00.000Z
SPACECRAFT_ORIENTATION = (0.0,-1.0,0.0)
^MEX_ORIENTATION_DESC = "MEX_ORIENTATION_DESC.TXT"
SPACECRAFT_POINTING_MODE = ACROSSTRACK
^MEX_POINTING_DESC = "MEX_POINTING_DESC.TXT"
RIGHT_ASCENSION = -1e+32
DECLINATION = -1e+32
OFFSET_ANGLE = -0.25
SPACECRAFT_SOLAR_DISTANCE = 2.48433e+08
TARGET_NAME = MARS
/* CAMERA DATA ELEMENTS */
DETECTOR_TEMPERATURE = 17.5549
FOCAL_PLANE_TEMPERATURE = 8.1755
INST_CMPRS_NAME = "DISCRETE COSINE TRANSFORMATION (DCT)"
INST_CMPRS_RATIO = 7.80093
INST_CMPRS_QUALITY = 0
INST_CMPRS_QUANTZ_TBL_ID = 0
INSTRUMENT_TEMPERATURE = 11.0301
LENS_TEMPERATURE = 9.3989
MACROPIXEL_SIZE = 2
MISSING_FRAMES = 0
PIXEL_SUBSAMPLING_FLAG = N
SIGNAL_CHAIN_ID = 1
/* RADIOMETRIC DATA ELEMENTS */
BANDWIDTH = 180.0
CENTER_FILTER_WAVELENGTH = 677.0
RADIANCE_OFFSET = 2.01869
RADIANCE_SCALING_FACTOR = 0.0149693
REFLECTANCE_SCALING_FACTOR = 0.000482014
MEX:REFLECTANCE_OFFSET = 0.0650023
/* IMAGE OBJECT DEFINITIONS */
OBJECT = IMAGE
  INTERCHANGE_FORMAT = BINARY
  LINES = 14556
  LINE_SAMPLES = 2747
  SAMPLE_TYPE = UNSIGNED_INTEGER
  SAMPLE_BITS = 8
  BANDS = 1
  BAND_STORAGE_TYPE = BAND_SEQUENTIAL
  MAXIMUM = 255
  MEAN = 102.36
  MINIMUM = 1
  STANDARD_DEVIATION = 33.1681
END_OBJECT = IMAGE
/* MAP OBJECT DEFINITIONS */
OBJECT = IMAGE_MAP_PROJECTION
  ^DATA_SET_MAP_PROJECTION_CATALOG= "DSMAP.CAT"
  A_AXIS_RADIUS = 3396.0
  B_AXIS_RADIUS = 3396.0
  C_AXIS_RADIUS = 3396.0
  CENTER_LATITUDE = 0.0
  CENTER_LONGITUDE = 303.0
  COORDINATE_SYSTEM_NAME = PLANETOGRAPHIC
  COORDINATE_SYSTEM_TYPE = "BODY-FIXED ROTATING"
  EASTERNMOST_LONGITUDE = 303.758
  FIRST_STANDARD_PARALLEL = "N/A"
  LINE_FIRST_PIXEL = 1
  LINE_LAST_PIXEL = 14556
  LINE_PROJECTION_OFFSET = 7525.75
  MAP_PROJECTION_ROTATION = 0.0
  MAP_PROJECTION_TYPE = SINUSOIDAL
  MAP_RESOLUTION = 2370.85521546667
  MAP_SCALE = 0.025
  MAXIMUM_LATITUDE = 3.17943
  MINIMUM_LATITUDE = -2.97456
  POSITIVE_LONGITUDE_DIRECTION = EAST
  REFERENCE_LATITUDE = "N/A"
  REFERENCE_LONGITUDE = "N/A"
  SAMPLE_FIRST_PIXEL = 1
  SAMPLE_LAST_PIXEL = 2747
  SAMPLE_PROJECTION_OFFSET = 930.75
  SECOND_STANDARD_PARALLEL = "N/A"
  WESTERNMOST_LONGITUDE = 302.655
END_OBJECT = IMAGE_MAP_PROJECTION
/* The JPEG2000 image data file associated with this label. */
OBJECT = COMPRESSED_FILE
  FILE_NAME = "H3041_0000_S13.JP2"
  RECORD_TYPE = UNDEFINED
  FILE_RECORDS = UNK
  ENCODING_TYPE = "JP2"
  INTERCHANGE_FORMAT = BINARY
  UNCOMPRESSED_FILE_NAME = "H3041_0000_S13.IMG"
  REQUIRED_STORAGE_BYTES = "40007308"
  ^DESCRIPTION = "JP2INFO.TXT"
END_OBJECT = COMPRESSED_FILE
END
