PDS_VERSION_ID = PDS3
/* FILE DATA ELEMENTS */
RECORD_TYPE = STREAM
/* POINTERS TO DATA OBJECTS */
^COMPRESSED_FILE = "H3042_0000_P13.JP2"
/* IDENTIFICATION DATA ELEMENTS */
DATA_SET_ID = "MEX-M-HRSC-5-REFDR-MAPPROJECTED-V3.0"
DATA_SET_NAME = "MARS EXPRESS HRSC MAP PROJECTED REFDR V3.0"
DETECTOR_ID = MEX_HRSC_P1
EVENT_TYPE = "MARS-REGIONAL-MAPPING-Vo-Eo"
INSTRUMENT_HOST_ID = MEX
INSTRUMENT_HOST_NAME = "MARS EXPRESS"
INSTRUMENT_ID = HRSC
INSTRUMENT_NAME = "HIGH RESOLUTION STEREO CAMERA"
MISSION_NAME = "MARS EXPRESS"
MISSION_PHASE_NAME = ME_Phase_3
PROCESSING_LEVEL_ID = 3
PRODUCT_CREATION_TIME = 2016-04-08T19:13:29.000Z
PRODUCT_ID = "H3042_0000_P13.JP2"
RELEASE_ID = 0037
REVISION_ID = 0000
/* QUALITY DATA ELEMENTS */
DATA_QUALITY_ID = 1
DATA_QUALITY_DESC = "Data calculated based on original SPICE kernels"
/* TIME DATA ELEMENTS */
SPACECRAFT_CLOCK_START_COUNT = "1/0096548957.07288"
SPACECRAFT_CLOCK_STOP_COUNT = "1/0096549230.24535"
START_TIME = 2006-05-24T11:09:42.246Z
STOP_TIME = 2006-05-24T11:12:57.653Z
/* ORBITAL DATA ELEMENTS */
ASCENDING_NODE_LONGITUDE = 164.43
MAXIMUM_RESOLUTION = 63.5
FOOTPRINT_POINT_LATITUDE = (26.2364,26.2445,26.2517,26.2579, 26.2632,26.2674,26.2707,25.8502,25.5938 ,25.3407,24.9609,24.7116,24.4617, 24.0912,23.8452,23.5996,23.3579,23.1158 ,22.8741,22.6363,22.3979,22.1598,21.926 ,21.6917,21.3409,21.1109,20.8805, 20.6496,20.4236,20.1974,19.9708,19.7447 ,19.5229,19.3006,19.078,18.8563,18.6385 ,18.4204,18.2019,17.9836,17.7699, 17.5561,17.3418,17.0207,16.6016,16.1812 ,15.7596,15.5484,15.3369,15.1251, 14.9129,14.7888,14.7774,14.767,14.7597, 14.7521,15.0703,15.2821,15.4937,15.7049 ,16.1265,16.5469,16.9659,17.2867,17.501 ,17.715,17.9286,18.1467,18.3652,18.5833 ,18.8012,19.0225,19.2452,19.4675, 19.6894,19.9152,20.1419,20.3681,20.594, 20.8249,21.0555,21.2855,21.6361,21.8705 ,22.1045,22.3424,22.5808,22.8188, 23.0602,23.3026,23.5444,23.7898,24.0359 ,24.2815,24.5315,24.9059,25.2856,25.539 ,25.924,26.2364)
FOOTPRINT_POINT_LONGITUDE = (206.89,206.585,206.282,205.98,205.681, 205.384,205.087,205.019,205.028,205.036 ,205.049,205.057,205.065,205.076, 205.084,205.091,205.098,205.105,205.112 ,205.119,205.125,205.131,205.138, 205.144,205.152,205.158,205.164,205.169 ,205.175,205.18,205.185,205.19,205.195, 205.2,205.204,205.209,205.213,205.218, 205.222,205.226,205.23,205.234,205.238, 205.244,205.251,205.258,205.265,205.268 ,205.272,205.275,205.278,205.459, 205.876,206.219,206.446,206.693,206.701 ,206.706,206.711,206.716,206.727, 206.738,206.749,206.757,206.763,206.769 ,206.775,206.781,206.787,206.794,206.8, 206.806,206.813,206.82,206.826,206.833, 206.84,206.847,206.854,206.862,206.869, 206.877,206.888,206.896,206.904,206.912 ,206.92,206.928,206.937,206.945,206.954 ,206.963,206.972,206.981,206.99,207.005 ,207.019,207.029,207.044,206.89)
ORBIT_NUMBER = 3042
ORBITAL_ECCENTRICITY = 0.572
ORBITAL_INCLINATION = 86.63
ORBITAL_SEMIMAJOR_AXIS = 8623.68
PERIAPSIS_ALTITUDE = 297.2
PERIAPSIS_ARGUMENT_ANGLE = 183.7
PERIAPSIS_TIME = 2006-05-24T11:18:04.000Z
SPACECRAFT_ORIENTATION = (0.0,-1.0,0.0)
^MEX_ORIENTATION_DESC = "MEX_ORIENTATION_DESC.TXT"
SPACECRAFT_POINTING_MODE = ACROSSTRACK
^MEX_POINTING_DESC = "MEX_POINTING_DESC.TXT"
RIGHT_ASCENSION = -1e+32
DECLINATION = -1e+32
OFFSET_ANGLE = 0.7
SPACECRAFT_SOLAR_DISTANCE = 2.48446e+08
TARGET_NAME = MARS
/* CAMERA DATA ELEMENTS */
DETECTOR_TEMPERATURE = 17.351
FOCAL_PLANE_TEMPERATURE = 7.9716
INST_CMPRS_NAME = "DISCRETE COSINE TRANSFORMATION (DCT)"
INST_CMPRS_RATIO = 11.322
INST_CMPRS_QUALITY = 0
INST_CMPRS_QUANTZ_TBL_ID = 0
INSTRUMENT_TEMPERATURE = 11.0301
LENS_TEMPERATURE = 8.1755
MACROPIXEL_SIZE = 4
MISSING_FRAMES = 0
PIXEL_SUBSAMPLING_FLAG = N
SIGNAL_CHAIN_ID = 3
/* RADIOMETRIC DATA ELEMENTS */
BANDWIDTH = 174.0
CENTER_FILTER_WAVELENGTH = 675.0
RADIANCE_OFFSET = 3.62172
RADIANCE_SCALING_FACTOR = 0.0138536
REFLECTANCE_SCALING_FACTOR = 0.00045995
MEX:REFLECTANCE_OFFSET = 0.120244
/* IMAGE OBJECT DEFINITIONS */
OBJECT = IMAGE
  INTERCHANGE_FORMAT = BINARY
  LINES = 13570
  LINE_SAMPLES = 2119
  SAMPLE_TYPE = UNSIGNED_INTEGER
  SAMPLE_BITS = 8
  BANDS = 1
  BAND_STORAGE_TYPE = BAND_SEQUENTIAL
  MAXIMUM = 255
  MEAN = 128.18
  MINIMUM = 1
  STANDARD_DEVIATION = 8.97986
END_OBJECT = IMAGE
/* MAP OBJECT DEFINITIONS */
OBJECT = IMAGE_MAP_PROJECTION
  ^DATA_SET_MAP_PROJECTION_CATALOG= "DSMAP.CAT"
  A_AXIS_RADIUS = 3396.0
  B_AXIS_RADIUS = 3396.0
  C_AXIS_RADIUS = 3396.0
  CENTER_LATITUDE = 0.0
  CENTER_LONGITUDE = 206.0
  COORDINATE_SYSTEM_NAME = PLANETOGRAPHIC
  COORDINATE_SYSTEM_TYPE = "BODY-FIXED ROTATING"
  EASTERNMOST_LONGITUDE = 207.044
  FIRST_STANDARD_PARALLEL = "N/A"
  LINE_FIRST_PIXEL = 1
  LINE_LAST_PIXEL = 13570
  LINE_PROJECTION_OFFSET = 31087.375
  MAP_PROJECTION_ROTATION = 0.0
  MAP_PROJECTION_TYPE = SINUSOIDAL
  MAP_RESOLUTION = 1185.42760773333
  MAP_SCALE = 0.05
  MAXIMUM_LATITUDE = 26.2707
  MINIMUM_LATITUDE = 14.7521
  POSITIVE_LONGITUDE_DIRECTION = EAST
  REFERENCE_LATITUDE = "N/A"
  REFERENCE_LONGITUDE = "N/A"
  SAMPLE_FIRST_PIXEL = 1
  SAMPLE_LAST_PIXEL = 2119
  SAMPLE_PROJECTION_OFFSET = 1012.375
  SECOND_STANDARD_PARALLEL = "N/A"
  WESTERNMOST_LONGITUDE = 205.019
END_OBJECT = IMAGE_MAP_PROJECTION
/* The JPEG2000 image data file associated with this label. */
OBJECT = COMPRESSED_FILE
  FILE_NAME = "H3042_0000_P13.JP2"
  RECORD_TYPE = UNDEFINED
  FILE_RECORDS = UNK
  ENCODING_TYPE = "JP2"
  INTERCHANGE_FORMAT = BINARY
  UNCOMPRESSED_FILE_NAME = "H3042_0000_P13.IMG"
  REQUIRED_STORAGE_BYTES = "28776020"
  ^DESCRIPTION = "JP2INFO.TXT"
END_OBJECT = COMPRESSED_FILE
END
