PDS_VERSION_ID = PDS3
/* FILE DATA ELEMENTS */
RECORD_TYPE = STREAM
/* POINTERS TO DATA OBJECTS */
^COMPRESSED_FILE = "H3042_0000_RE3.JP2"
/* IDENTIFICATION DATA ELEMENTS */
DATA_SET_ID = "MEX-M-HRSC-5-REFDR-MAPPROJECTED-V3.0"
DATA_SET_NAME = "MARS EXPRESS HRSC MAP PROJECTED REFDR V3.0"
DETECTOR_ID = MEX_HRSC_RED
EVENT_TYPE = "MARS-REGIONAL-MAPPING-Vo-Eo"
INSTRUMENT_HOST_ID = MEX
INSTRUMENT_HOST_NAME = "MARS EXPRESS"
INSTRUMENT_ID = HRSC
INSTRUMENT_NAME = "HIGH RESOLUTION STEREO CAMERA"
MISSION_NAME = "MARS EXPRESS"
MISSION_PHASE_NAME = ME_Phase_3
PROCESSING_LEVEL_ID = 3
PRODUCT_CREATION_TIME = 2016-04-08T19:13:29.000Z
PRODUCT_ID = "H3042_0000_RE3.JP2"
RELEASE_ID = 0037
REVISION_ID = 0000
/* QUALITY DATA ELEMENTS */
DATA_QUALITY_ID = 1
DATA_QUALITY_DESC = "Data calculated based on original SPICE kernels"
/* TIME DATA ELEMENTS */
SPACECRAFT_CLOCK_START_COUNT = "1/0096548957.07288"
SPACECRAFT_CLOCK_STOP_COUNT = "1/0096549230.24535"
START_TIME = 2006-05-24T11:10:53.700Z
STOP_TIME = 2006-05-24T11:13:48.405Z
/* ORBITAL DATA ELEMENTS */
ASCENDING_NODE_LONGITUDE = 164.43
MAXIMUM_RESOLUTION = 120.7
FOOTPRINT_POINT_LATITUDE = (26.1875,26.1811,26.1745,26.1678, 26.1611,26.1542,26.1887,25.9339,25.6788 ,25.2969,25.0472,24.7972,24.4234, 24.1789,23.9343,23.6894,23.4467,23.0876 ,22.848,22.4907,22.2567,22.0224,21.788, 21.5546,21.2115,20.9826,20.7535,20.5253 ,20.1902,19.8548,19.5192,19.1833, 18.8471,18.5106,18.1738,17.8368,17.4996 ,17.162,16.8243,16.4863,16.1482,15.9226 ,15.7066,15.5175,15.3283,15.1389, 14.9496,14.7666,14.7727,14.7788,14.7851 ,14.7895,14.7962,14.8027,14.9966, 15.1859,15.3753,15.5645,15.7537,15.9707 ,16.1962,16.5345,16.8725,17.2104, 17.5479,17.8852,18.2222,18.559,18.8957, 19.2319,19.456,19.6799,19.9036,20.1273, 20.3508,20.5742,20.9172,21.1462,21.3752 ,21.6039,21.8375,22.072,22.3063,22.5404 ,22.778,23.0178,23.2574,23.4968,23.7397 ,23.9847,24.2296,24.4741,24.8482, 25.0983,25.3481,25.6028,25.7304,25.8581 ,26.1132,26.1875)
FOOTPRINT_POINT_LONGITUDE = (206.67,206.398,206.127,205.859,205.592 ,205.327,205.119,205.126,205.133, 205.143,205.149,205.156,205.165,205.171 ,205.177,205.182,205.188,205.196, 205.201,205.209,205.213,205.218,205.223 ,205.228,205.234,205.238,205.243, 205.247,205.253,205.259,205.264,205.27, 205.275,205.28,205.285,205.29,205.295, 205.3,205.304,205.309,205.313,205.316, 205.318,205.32,205.322,205.325,205.327, 205.423,205.617,205.813,206.009,206.146 ,206.358,206.56,206.649,206.652,206.656 ,206.66,206.664,206.669,206.674,206.681 ,206.688,206.696,206.704,206.712, 206.719,206.727,206.736,206.744,206.749 ,206.755,206.761,206.766,206.772, 206.778,206.787,206.793,206.799,206.805 ,206.812,206.818,206.825,206.831, 206.838,206.845,206.852,206.859,206.866 ,206.873,206.881,206.888,206.9,206.907, 206.915,206.923,206.927,206.931,206.94, 206.67)
ORBIT_NUMBER = 3042
ORBITAL_ECCENTRICITY = 0.572
ORBITAL_INCLINATION = 86.63
ORBITAL_SEMIMAJOR_AXIS = 8623.68
PERIAPSIS_ALTITUDE = 297.2
PERIAPSIS_ARGUMENT_ANGLE = 183.7
PERIAPSIS_TIME = 2006-05-24T11:18:04.000Z
SPACECRAFT_ORIENTATION = (0.0,-1.0,0.0)
^MEX_ORIENTATION_DESC = "MEX_ORIENTATION_DESC.TXT"
SPACECRAFT_POINTING_MODE = ACROSSTRACK
^MEX_POINTING_DESC = "MEX_POINTING_DESC.TXT"
RIGHT_ASCENSION = -1e+32
DECLINATION = -1e+32
OFFSET_ANGLE = 0.7
SPACECRAFT_SOLAR_DISTANCE = 2.48446e+08
TARGET_NAME = MARS
/* CAMERA DATA ELEMENTS */
DETECTOR_TEMPERATURE = 18.3705
FOCAL_PLANE_TEMPERATURE = 7.9716
INST_CMPRS_NAME = "DISCRETE COSINE TRANSFORMATION (DCT)"
INST_CMPRS_RATIO = 24.8474
INST_CMPRS_QUALITY = 0
INST_CMPRS_QUANTZ_TBL_ID = 0
INSTRUMENT_TEMPERATURE = 11.0301
LENS_TEMPERATURE = 8.1755
MACROPIXEL_SIZE = 8
MISSING_FRAMES = 0
PIXEL_SUBSAMPLING_FLAG = N
SIGNAL_CHAIN_ID = 2
/* RADIOMETRIC DATA ELEMENTS */
BANDWIDTH = 48.0
CENTER_FILTER_WAVELENGTH = 748.0
RADIANCE_OFFSET = 1.02157
RADIANCE_SCALING_FACTOR = 0.00408396
REFLECTANCE_SCALING_FACTOR = 0.000575268
MEX:REFLECTANCE_OFFSET = 0.143899
/* IMAGE OBJECT DEFINITIONS */
OBJECT = IMAGE
  INTERCHANGE_FORMAT = BINARY
  LINES = 6785
  LINE_SAMPLES = 1060
  SAMPLE_TYPE = UNSIGNED_INTEGER
  SAMPLE_BITS = 8
  BANDS = 1
  BAND_STORAGE_TYPE = BAND_SEQUENTIAL
  MAXIMUM = 255
  MEAN = 122.404
  MINIMUM = 1
  STANDARD_DEVIATION = 10.5504
END_OBJECT = IMAGE
/* MAP OBJECT DEFINITIONS */
OBJECT = IMAGE_MAP_PROJECTION
  ^DATA_SET_MAP_PROJECTION_CATALOG= "DSMAP.CAT"
  A_AXIS_RADIUS = 3396.0
  B_AXIS_RADIUS = 3396.0
  C_AXIS_RADIUS = 3396.0
  CENTER_LATITUDE = 0.0
  CENTER_LONGITUDE = 206.0
  COORDINATE_SYSTEM_NAME = PLANETOGRAPHIC
  COORDINATE_SYSTEM_TYPE = "BODY-FIXED ROTATING"
  EASTERNMOST_LONGITUDE = 206.94
  FIRST_STANDARD_PARALLEL = "N/A"
  LINE_FIRST_PIXEL = 1
  LINE_LAST_PIXEL = 6785
  LINE_PROJECTION_OFFSET = 15543.4375
  MAP_PROJECTION_ROTATION = 0.0
  MAP_PROJECTION_TYPE = SINUSOIDAL
  MAP_RESOLUTION = 592.713803866667
  MAP_SCALE = 0.1
  MAXIMUM_LATITUDE = 26.1887
  MINIMUM_LATITUDE = 14.7666
  POSITIVE_LONGITUDE_DIRECTION = EAST
  REFERENCE_LATITUDE = "N/A"
  REFERENCE_LONGITUDE = "N/A"
  SAMPLE_FIRST_PIXEL = 1
  SAMPLE_LAST_PIXEL = 1060
  SAMPLE_PROJECTION_OFFSET = 505.9375
  SECOND_STANDARD_PARALLEL = "N/A"
  WESTERNMOST_LONGITUDE = 205.119
END_OBJECT = IMAGE_MAP_PROJECTION
/* The JPEG2000 image data file associated with this label. */
OBJECT = COMPRESSED_FILE
  FILE_NAME = "H3042_0000_RE3.JP2"
  RECORD_TYPE = UNDEFINED
  FILE_RECORDS = UNK
  ENCODING_TYPE = "JP2"
  INTERCHANGE_FORMAT = BINARY
  UNCOMPRESSED_FILE_NAME = "H3042_0000_RE3.IMG"
  REQUIRED_STORAGE_BYTES = "7210120"
  ^DESCRIPTION = "JP2INFO.TXT"
END_OBJECT = COMPRESSED_FILE
END
