PDS_VERSION_ID = PDS3
/* FILE DATA ELEMENTS */
RECORD_TYPE = STREAM
/* POINTERS TO DATA OBJECTS */
^COMPRESSED_FILE = "H3046_0000_P13.JP2"
/* IDENTIFICATION DATA ELEMENTS */
DATA_SET_ID = "MEX-M-HRSC-5-REFDR-MAPPROJECTED-V3.0"
DATA_SET_NAME = "MARS EXPRESS HRSC MAP PROJECTED REFDR V3.0"
DETECTOR_ID = MEX_HRSC_P1
EVENT_TYPE = "MARS-REGIONAL-MAPPING-Vo-Gl-Eo"
INSTRUMENT_HOST_ID = MEX
INSTRUMENT_HOST_NAME = "MARS EXPRESS"
INSTRUMENT_ID = HRSC
INSTRUMENT_NAME = "HIGH RESOLUTION STEREO CAMERA"
MISSION_NAME = "MARS EXPRESS"
MISSION_PHASE_NAME = ME_Phase_3
PROCESSING_LEVEL_ID = 3
PRODUCT_CREATION_TIME = 2016-04-08T19:13:29.000Z
PRODUCT_ID = "H3046_0000_P13.JP2"
RELEASE_ID = 0037
REVISION_ID = 0000
/* QUALITY DATA ELEMENTS */
DATA_QUALITY_ID = 1
DATA_QUALITY_DESC = "Data calculated based on original SPICE kernels"
/* TIME DATA ELEMENTS */
SPACECRAFT_CLOCK_START_COUNT = "1/0096645926.09073"
SPACECRAFT_CLOCK_STOP_COUNT = "1/0096646193.24387"
START_TIME = 2006-05-25T14:05:44.175Z
STOP_TIME = 2006-05-25T14:09:12.564Z
/* ORBITAL DATA ELEMENTS */
ASCENDING_NODE_LONGITUDE = 164.33
MAXIMUM_RESOLUTION = 51
FOOTPRINT_POINT_LATITUDE = (15.1127,15.1129,15.0901,14.6262, 14.3171,14.0058,13.6906,13.3858,13.1237 ,12.7317,12.469,12.204,11.8078,11.4111, 11.1459,10.8797,10.6127,10.3464,9.94624 ,9.54534,9.27776,9.0113,8.75146,8.49138 ,8.23097,7.97025,7.70922,7.44785, 7.18708,6.93384,6.68033,6.4266,6.17255, 5.91823,5.66369,5.40892,5.15387,4.90163 ,4.65486,4.40784,4.16062,3.91319, 3.41959,3.17138,2.92184,2.54872,2.29998 ,1.87605,1.87541,1.87396,1.87331, 2.24275,2.49157,2.74017,2.98858,3.23677 ,3.48477,3.73257,3.98019,4.22752, 4.47473,4.72166,4.96835,5.35058,5.60547 ,5.8601,6.11437,6.36848,6.62231,6.87596 ,7.12927,7.38827,7.64972,7.91088, 8.17187,8.43253,8.69245,8.95235,9.21694 ,9.48483,9.75234,10.0195,10.2864, 10.5528,10.8189,11.0845,11.3499,11.6148 ,11.8794,12.1436,12.4074,12.6709,12.934 ,13.3288,13.6228,13.9347,14.2465, 14.7121,15.022,15.1127)
FOOTPRINT_POINT_LONGITUDE = (172.403,171.855,171.448,171.457, 171.463,171.468,171.471,171.476,171.48, 171.487,171.491,171.494,171.499,171.504 ,171.508,171.51,171.513,171.516,171.52, 171.525,171.527,171.53,171.532,171.535, 171.537,171.539,171.541,171.543,171.545 ,171.547,171.549,171.55,171.552,171.553 ,171.555,171.556,171.558,171.559,171.56 ,171.561,171.562,171.563,171.566, 171.566,171.566,171.567,171.568,171.638 ,171.971,172.364,172.65,172.653,172.655 ,172.657,172.659,172.661,172.664, 172.666,172.668,172.671,172.673,172.676 ,172.678,172.682,172.685,172.688, 172.691,172.694,172.697,172.7,172.703, 172.707,172.71,172.713,172.717,172.72, 172.724,172.728,172.732,172.736,172.739 ,172.743,172.748,172.752,172.756,172.76 ,172.765,172.769,172.773,172.778, 172.782,172.787,172.792,172.798,172.804 ,172.81,172.816,172.825,172.831, 172.403)
ORBIT_NUMBER = 3046
ORBITAL_ECCENTRICITY = 0.571
ORBITAL_INCLINATION = 86.64
ORBITAL_SEMIMAJOR_AXIS = 8620.0
PERIAPSIS_ALTITUDE = 297.76
PERIAPSIS_ARGUMENT_ANGLE = 183.0
PERIAPSIS_TIME = 2006-05-25T14:10:45.000Z
SPACECRAFT_ORIENTATION = (0.0,-1.0,0.0)
^MEX_ORIENTATION_DESC = "MEX_ORIENTATION_DESC.TXT"
SPACECRAFT_POINTING_MODE = NADIR
^MEX_POINTING_DESC = "MEX_POINTING_DESC.TXT"
RIGHT_ASCENSION = -1e+32
DECLINATION = -1e+32
OFFSET_ANGLE = -1e+32
SPACECRAFT_SOLAR_DISTANCE = 2.48499e+08
TARGET_NAME = MARS
/* CAMERA DATA ELEMENTS */
DETECTOR_TEMPERATURE = 17.1471
FOCAL_PLANE_TEMPERATURE = 7.5638
INST_CMPRS_NAME = "DISCRETE COSINE TRANSFORMATION (DCT)"
INST_CMPRS_RATIO = 12.7384
INST_CMPRS_QUALITY = 0
INST_CMPRS_QUANTZ_TBL_ID = 0
INSTRUMENT_TEMPERATURE = 11.0301
LENS_TEMPERATURE = 7.9716
MACROPIXEL_SIZE = 4
MISSING_FRAMES = 0
PIXEL_SUBSAMPLING_FLAG = N
SIGNAL_CHAIN_ID = 3
/* RADIOMETRIC DATA ELEMENTS */
BANDWIDTH = 174.0
CENTER_FILTER_WAVELENGTH = 675.0
RADIANCE_OFFSET = 2.51175
RADIANCE_SCALING_FACTOR = 0.0158246
REFLECTANCE_SCALING_FACTOR = 0.000525614
MEX:REFLECTANCE_OFFSET = 0.0834279
/* IMAGE OBJECT DEFINITIONS */
OBJECT = IMAGE
  INTERCHANGE_FORMAT = BINARY
  LINES = 15648
  LINE_SAMPLES = 1613
  SAMPLE_TYPE = UNSIGNED_INTEGER
  SAMPLE_BITS = 8
  BANDS = 1
  BAND_STORAGE_TYPE = BAND_SEQUENTIAL
  MAXIMUM = 255
  MEAN = 132.248
  MINIMUM = 1
  STANDARD_DEVIATION = 22.4672
END_OBJECT = IMAGE
/* MAP OBJECT DEFINITIONS */
OBJECT = IMAGE_MAP_PROJECTION
  ^DATA_SET_MAP_PROJECTION_CATALOG= "DSMAP.CAT"
  A_AXIS_RADIUS = 3396.0
  B_AXIS_RADIUS = 3396.0
  C_AXIS_RADIUS = 3396.0
  CENTER_LATITUDE = 0.0
  CENTER_LONGITUDE = 172.0
  COORDINATE_SYSTEM_NAME = PLANETOGRAPHIC
  COORDINATE_SYSTEM_TYPE = "BODY-FIXED ROTATING"
  EASTERNMOST_LONGITUDE = 172.831
  FIRST_STANDARD_PARALLEL = "N/A"
  LINE_FIRST_PIXEL = 1
  LINE_LAST_PIXEL = 15648
  LINE_PROJECTION_OFFSET = 17900.375
  MAP_PROJECTION_ROTATION = 0.0
  MAP_PROJECTION_TYPE = SINUSOIDAL
  MAP_RESOLUTION = 1185.42760773333
  MAP_SCALE = 0.05
  MAXIMUM_LATITUDE = 15.1129
  MINIMUM_LATITUDE = 1.87331
  POSITIVE_LONGITUDE_DIRECTION = EAST
  REFERENCE_LATITUDE = "N/A"
  REFERENCE_LONGITUDE = "N/A"
  SAMPLE_FIRST_PIXEL = 1
  SAMPLE_LAST_PIXEL = 1613
  SAMPLE_PROJECTION_OFFSET = 649.625
  SECOND_STANDARD_PARALLEL = "N/A"
  WESTERNMOST_LONGITUDE = 171.448
END_OBJECT = IMAGE_MAP_PROJECTION
/* The JPEG2000 image data file associated with this label. */
OBJECT = COMPRESSED_FILE
  FILE_NAME = "H3046_0000_P13.JP2"
  RECORD_TYPE = UNDEFINED
  FILE_RECORDS = UNK
  ENCODING_TYPE = "JP2"
  INTERCHANGE_FORMAT = BINARY
  UNCOMPRESSED_FILE_NAME = "H3046_0000_P13.IMG"
  REQUIRED_STORAGE_BYTES = "25259580"
  ^DESCRIPTION = "JP2INFO.TXT"
END_OBJECT = COMPRESSED_FILE
END
