PDS_VERSION_ID = PDS3
/* FILE DATA ELEMENTS */
RECORD_TYPE = STREAM
/* POINTERS TO DATA OBJECTS */
^COMPRESSED_FILE = "H3047_0001_IR3.JP2"
/* IDENTIFICATION DATA ELEMENTS */
DATA_SET_ID = "MEX-M-HRSC-5-REFDR-MAPPROJECTED-V3.0"
DATA_SET_NAME = "MARS EXPRESS HRSC MAP PROJECTED REFDR V3.0"
DETECTOR_ID = MEX_HRSC_IR
EVENT_TYPE = "MARS-REGIONAL-MAPPING-Vo"
INSTRUMENT_HOST_ID = MEX
INSTRUMENT_HOST_NAME = "MARS EXPRESS"
INSTRUMENT_ID = HRSC
INSTRUMENT_NAME = "HIGH RESOLUTION STEREO CAMERA"
MISSION_NAME = "MARS EXPRESS"
MISSION_PHASE_NAME = ME_Phase_3
PROCESSING_LEVEL_ID = 3
PRODUCT_CREATION_TIME = 2016-04-08T19:13:29.000Z
PRODUCT_ID = "H3047_0001_IR3.JP2"
RELEASE_ID = 0037
REVISION_ID = 0000
/* QUALITY DATA ELEMENTS */
DATA_QUALITY_ID = 2
DATA_QUALITY_DESC = "Data calculated based on photogrammetrically improved orbit and attitude data"
/* TIME DATA ELEMENTS */
SPACECRAFT_CLOCK_START_COUNT = "1/0096670302.09053"
SPACECRAFT_CLOCK_STOP_COUNT = "1/0096670460.49315"
START_TIME = 2006-05-25T20:51:52.266Z
STOP_TIME = 2006-05-25T20:53:36.378Z
/* ORBITAL DATA ELEMENTS */
ASCENDING_NODE_LONGITUDE = 164.32
MAXIMUM_RESOLUTION = 98.9
FOOTPRINT_POINT_LATITUDE = (3.41036,3.41268,3.41485,3.41685, 3.41963,3.42823,3.2921,3.15608,2.95201, 2.74748,2.543,2.40665,2.2702,2.06716, 1.93535,1.73763,1.60579,1.4738,1.34169, 1.2098,1.07766,0.9453,0.812908,0.680797 ,0.548472,0.349923,0.151073,-0.0479076, -0.180606,-0.313486,-0.446469,-0.579252 ,-0.778651,-0.911578,-1.04447,-1.17772, -1.31062,-1.50983,-1.64264,-1.77585, -1.97518,-2.10852,-2.24221,-2.37573, -2.57576,-2.70939,-2.8424,-2.9756, -3.10897,-3.37358,-3.37607,-3.3815, -3.38379,-3.38642,-3.38776,-3.25376, -3.12014,-2.9865,-2.85328,-2.58907, -2.45339,-2.31886,-2.11895,-1.98537, -1.85221,-1.71841,-1.58487,-1.38557, -1.18664,-1.05349,-0.853963,-0.654274, -0.455228,-0.322533,-0.190097, -0.0574404,0.0761019,0.209431,0.341457, 0.472865,0.605202,0.737321,0.869619, 1.00197,1.13421,1.26642,1.39839,1.59623 ,1.72823,1.92584,2.05765,2.26079,2.3974 ,2.53375,2.66927,2.80619,2.94234, 3.07873,3.28316,3.41036)
FOOTPRINT_POINT_LONGITUDE = (74.3874,74.2249,74.0626,73.9007, 73.6484,73.4843,73.4846,73.485,73.4856, 73.4861,73.4866,73.487,73.4873,73.4877, 73.4879,73.4883,73.4885,73.4887,73.4889 ,73.4891,73.4893,73.4894,73.4895, 73.4896,73.4897,73.4899,73.49,73.49, 73.49,73.49,73.4899,73.4899,73.4899, 73.4898,73.4898,73.4896,73.4896,73.4896 ,73.4895,73.4894,73.4893,73.4892, 73.4889,73.4887,73.4884,73.4882,73.4881 ,73.4879,73.4878,73.4871,73.6581,73.937 ,74.1205,74.3335,74.515,74.5152,74.5157 ,74.5161,74.5167,74.519,74.5185,74.5185 ,74.5194,74.5198,74.5204,74.5208, 74.5212,74.5224,74.5237,74.5243,74.5253 ,74.5262,74.5274,74.5282,74.5291, 74.5299,74.5303,74.5308,74.5319,74.5332 ,74.5341,74.5351,74.536,74.5369,74.5378 ,74.5387,74.5398,74.5413,74.5423,74.544 ,74.545,74.5467,74.5478,74.549,74.5506, 74.5515,74.5527,74.5538,74.5556, 74.3874)
ORBIT_NUMBER = 3047
ORBITAL_ECCENTRICITY = 0.572
ORBITAL_INCLINATION = 86.65
ORBITAL_SEMIMAJOR_AXIS = 8629.49
PERIAPSIS_ALTITUDE = 296.98
PERIAPSIS_ARGUMENT_ANGLE = 182.82
PERIAPSIS_TIME = 2006-05-25T20:53:50.000Z
SPACECRAFT_ORIENTATION = (0.0,-1.0,0.0)
^MEX_ORIENTATION_DESC = "MEX_ORIENTATION_DESC.TXT"
SPACECRAFT_POINTING_MODE = ACROSSTRACK
^MEX_POINTING_DESC = "MEX_POINTING_DESC.TXT"
RIGHT_ASCENSION = -1e+32
DECLINATION = -1e+32
OFFSET_ANGLE = 0.15
SPACECRAFT_SOLAR_DISTANCE = 2.48512e+08
TARGET_NAME = MARS
/* CAMERA DATA ELEMENTS */
DETECTOR_TEMPERATURE = 18.7783
FOCAL_PLANE_TEMPERATURE = 8.1755
INST_CMPRS_NAME = "DISCRETE COSINE TRANSFORMATION (DCT)"
INST_CMPRS_RATIO = 27.3554
INST_CMPRS_QUALITY = 0
INST_CMPRS_QUANTZ_TBL_ID = 0
INSTRUMENT_TEMPERATURE = 12.8652
LENS_TEMPERATURE = 8.7872
MACROPIXEL_SIZE = 8
MISSING_FRAMES = 0
PIXEL_SUBSAMPLING_FLAG = N
SIGNAL_CHAIN_ID = 2
/* RADIOMETRIC DATA ELEMENTS */
BANDWIDTH = 81.0
CENTER_FILTER_WAVELENGTH = 955.5
RADIANCE_OFFSET = 0.195691
RADIANCE_SCALING_FACTOR = 0.00263113
REFLECTANCE_SCALING_FACTOR = 0.000350566
MEX:REFLECTANCE_OFFSET = 0.0260733
/* IMAGE OBJECT DEFINITIONS */
OBJECT = IMAGE
  INTERCHANGE_FORMAT = BINARY
  LINES = 4033
  LINE_SAMPLES = 680
  SAMPLE_TYPE = UNSIGNED_INTEGER
  SAMPLE_BITS = 8
  BANDS = 1
  BAND_STORAGE_TYPE = BAND_SEQUENTIAL
  MAXIMUM = 255
  MEAN = 87.7656
  MINIMUM = 1
  STANDARD_DEVIATION = 16.2546
END_OBJECT = IMAGE
/* MAP OBJECT DEFINITIONS */
OBJECT = IMAGE_MAP_PROJECTION
  ^DATA_SET_MAP_PROJECTION_CATALOG= "DSMAP.CAT"
  A_AXIS_RADIUS = 3396.0
  B_AXIS_RADIUS = 3396.0
  C_AXIS_RADIUS = 3396.0
  CENTER_LATITUDE = 0.0
  CENTER_LONGITUDE = 74.0
  COORDINATE_SYSTEM_NAME = PLANETOGRAPHIC
  COORDINATE_SYSTEM_TYPE = "BODY-FIXED ROTATING"
  EASTERNMOST_LONGITUDE = 74.5556
  FIRST_STANDARD_PARALLEL = "N/A"
  LINE_FIRST_PIXEL = 1
  LINE_LAST_PIXEL = 4033
  LINE_PROJECTION_OFFSET = 2025.6875
  MAP_PROJECTION_ROTATION = 0.0
  MAP_PROJECTION_TYPE = SINUSOIDAL
  MAP_RESOLUTION = 592.713803866667
  MAP_SCALE = 0.1
  MAXIMUM_LATITUDE = 3.42823
  MINIMUM_LATITUDE = -3.38776
  POSITIVE_LONGITUDE_DIRECTION = EAST
  REFERENCE_LATITUDE = "N/A"
  REFERENCE_LONGITUDE = "N/A"
  SAMPLE_FIRST_PIXEL = 1
  SAMPLE_LAST_PIXEL = 680
  SAMPLE_PROJECTION_OFFSET = 324.4375
  SECOND_STANDARD_PARALLEL = "N/A"
  WESTERNMOST_LONGITUDE = 73.4843
END_OBJECT = IMAGE_MAP_PROJECTION
/* The JPEG2000 image data file associated with this label. */
OBJECT = COMPRESSED_FILE
  FILE_NAME = "H3047_0001_IR3.JP2"
  RECORD_TYPE = UNDEFINED
  FILE_RECORDS = UNK
  ENCODING_TYPE = "JP2"
  INTERCHANGE_FORMAT = BINARY
  UNCOMPRESSED_FILE_NAME = "H3047_0001_IR3.IMG"
  REQUIRED_STORAGE_BYTES = "2760120"
  ^DESCRIPTION = "JP2INFO.TXT"
END_OBJECT = COMPRESSED_FILE
END
