PDS_VERSION_ID = PDS3
/* FILE DATA ELEMENTS */
RECORD_TYPE = STREAM
/* POINTERS TO DATA OBJECTS */
^COMPRESSED_FILE = "H3048_0000_RE3.JP2"
/* IDENTIFICATION DATA ELEMENTS */
DATA_SET_ID = "MEX-M-HRSC-5-REFDR-MAPPROJECTED-V3.0"
DATA_SET_NAME = "MARS EXPRESS HRSC MAP PROJECTED REFDR V3.0"
DETECTOR_ID = MEX_HRSC_RED
EVENT_TYPE = "MARS-REGIONAL-MAPPING-Fl-Mw-La"
INSTRUMENT_HOST_ID = MEX
INSTRUMENT_HOST_NAME = "MARS EXPRESS"
INSTRUMENT_ID = HRSC
INSTRUMENT_NAME = "HIGH RESOLUTION STEREO CAMERA"
MISSION_NAME = "MARS EXPRESS"
MISSION_PHASE_NAME = ME_Phase_3
PROCESSING_LEVEL_ID = 3
PRODUCT_CREATION_TIME = 2016-04-08T19:13:29.000Z
PRODUCT_ID = "H3048_0000_RE3.JP2"
RELEASE_ID = 0037
REVISION_ID = 0000
/* QUALITY DATA ELEMENTS */
DATA_QUALITY_ID = 2
DATA_QUALITY_DESC = "Data calculated based on photogrammetrically improved orbit and attitude data"
/* TIME DATA ELEMENTS */
SPACECRAFT_CLOCK_START_COUNT = "1/0096694256.08254"
SPACECRAFT_CLOCK_STOP_COUNT = "1/0096694464.08212"
START_TIME = 2006-05-26T03:32:08.919Z
STOP_TIME = 2006-05-26T03:34:22.742Z
/* ORBITAL DATA ELEMENTS */
ASCENDING_NODE_LONGITUDE = 164.3
MAXIMUM_RESOLUTION = 107.9
FOOTPRINT_POINT_LATITUDE = (17.8776,17.8776,17.8777,17.8779, 17.9053,17.6963,17.4871,17.2786,17.0693 ,16.8783,16.7031,16.5277,16.3524, 16.1767,16.0005,15.8243,15.6488,15.4731 ,15.2979,15.1224,14.9466,14.771,14.5952 ,14.4194,14.2437,13.9799,13.804,13.5401 ,13.3641,13.188,13.0116,12.7473,12.571, 12.3073,12.1365,11.9655,11.7965,11.625, 11.4532,11.2827,11.1126,10.9416,10.7702 ,10.599,10.429,10.1057,9.94091,9.77145, 9.60597,9.35779,9.19321,9.0084,9.00399, 9.0022,9.00057,9.08562,9.25136,9.41908, 9.5862,10.0019,10.3243,10.5776,10.7474, 10.9183,11.1748,11.3452,11.5157,11.6868 ,11.8574,12.1131,12.2831,12.4575, 12.6333,12.8079,12.9842,13.1629,13.4286 ,13.605,13.7811,14.0453,14.3093,14.4859 ,14.6617,14.8376,15.0133,15.2764,15.452 ,15.6273,15.891,16.0669,16.2425,16.418, 16.5939,16.7695,16.9446,17.1494,17.4625 ,17.6717,17.8806,17.8776)
FOOTPRINT_POINT_LONGITUDE = (335.968,335.752,335.498,335.168, 334.947,334.951,334.955,334.959,334.962 ,334.966,334.968,334.971,334.974, 334.977,334.98,334.983,334.986,334.988, 334.991,334.993,334.996,334.998,335.0, 335.003,335.005,335.008,335.011,335.014 ,335.016,335.018,335.02,335.023,335.025 ,335.028,335.03,335.032,335.033,335.035 ,335.037,335.038,335.04,335.041,335.043 ,335.045,335.046,335.046,335.047,335.05 ,335.051,335.053,335.054,335.128, 335.417,335.736,336.013,336.192,336.194 ,336.197,336.199,336.205,336.206, 336.209,336.211,336.213,336.217,336.219 ,336.221,336.224,336.226,336.229, 336.231,336.234,336.236,336.238,336.24, 336.244,336.248,336.251,336.254,336.258 ,336.262,336.265,336.267,336.27,336.273 ,336.277,336.28,336.282,336.287,336.29, 336.293,336.296,336.299,336.302,336.305 ,336.309,336.314,336.318,336.322, 335.968)
ORBIT_NUMBER = 3048
ORBITAL_ECCENTRICITY = 0.571
ORBITAL_INCLINATION = 86.64
ORBITAL_SEMIMAJOR_AXIS = 8620.28
PERIAPSIS_ALTITUDE = 297.95
PERIAPSIS_ARGUMENT_ANGLE = 182.63
PERIAPSIS_TIME = 2006-05-26T03:36:55.000Z
SPACECRAFT_ORIENTATION = (0.0,-1.0,0.0)
^MEX_ORIENTATION_DESC = "MEX_ORIENTATION_DESC.TXT"
SPACECRAFT_POINTING_MODE = NADIR
^MEX_POINTING_DESC = "MEX_POINTING_DESC.TXT"
RIGHT_ASCENSION = -1e+32
DECLINATION = -1e+32
OFFSET_ANGLE = -1e+32
SPACECRAFT_SOLAR_DISTANCE = 2.48525e+08
TARGET_NAME = MARS
/* CAMERA DATA ELEMENTS */
DETECTOR_TEMPERATURE = 18.1666
FOCAL_PLANE_TEMPERATURE = 7.5638
INST_CMPRS_NAME = "DISCRETE COSINE TRANSFORMATION (DCT)"
INST_CMPRS_RATIO = 11.7149
INST_CMPRS_QUALITY = 0
INST_CMPRS_QUANTZ_TBL_ID = 0
INSTRUMENT_TEMPERATURE = 11.0301
LENS_TEMPERATURE = 8.1755
MACROPIXEL_SIZE = 8
MISSING_FRAMES = 0
PIXEL_SUBSAMPLING_FLAG = N
SIGNAL_CHAIN_ID = 2
/* RADIOMETRIC DATA ELEMENTS */
BANDWIDTH = 48.0
CENTER_FILTER_WAVELENGTH = 748.0
RADIANCE_OFFSET = 0.668531
RADIANCE_SCALING_FACTOR = 0.00456536
REFLECTANCE_SCALING_FACTOR = 0.000643489
MEX:REFLECTANCE_OFFSET = 0.0942297
/* IMAGE OBJECT DEFINITIONS */
OBJECT = IMAGE
  INTERCHANGE_FORMAT = BINARY
  LINES = 5290
  LINE_SAMPLES = 841
  SAMPLE_TYPE = UNSIGNED_INTEGER
  SAMPLE_BITS = 8
  BANDS = 1
  BAND_STORAGE_TYPE = BAND_SEQUENTIAL
  MAXIMUM = 255
  MEAN = 131.768
  MINIMUM = 1
  STANDARD_DEVIATION = 23.6179
END_OBJECT = IMAGE
/* MAP OBJECT DEFINITIONS */
OBJECT = IMAGE_MAP_PROJECTION
  ^DATA_SET_MAP_PROJECTION_CATALOG= "DSMAP.CAT"
  A_AXIS_RADIUS = 3396.0
  B_AXIS_RADIUS = 3396.0
  C_AXIS_RADIUS = 3396.0
  CENTER_LATITUDE = 0.0
  CENTER_LONGITUDE = 336.0
  COORDINATE_SYSTEM_NAME = PLANETOGRAPHIC
  COORDINATE_SYSTEM_TYPE = "BODY-FIXED ROTATING"
  EASTERNMOST_LONGITUDE = 336.322
  FIRST_STANDARD_PARALLEL = "N/A"
  LINE_FIRST_PIXEL = 1
  LINE_LAST_PIXEL = 5290
  LINE_PROJECTION_OFFSET = 10621.4375
  MAP_PROJECTION_ROTATION = 0.0
  MAP_PROJECTION_TYPE = SINUSOIDAL
  MAP_RESOLUTION = 592.713803866667
  MAP_SCALE = 0.1
  MAXIMUM_LATITUDE = 17.9053
  MINIMUM_LATITUDE = 9.00057
  POSITIVE_LONGITUDE_DIRECTION = EAST
  REFERENCE_LATITUDE = "N/A"
  REFERENCE_LONGITUDE = "N/A"
  SAMPLE_FIRST_PIXEL = 1
  SAMPLE_LAST_PIXEL = 841
  SAMPLE_PROJECTION_OFFSET = 628.6875
  SECOND_STANDARD_PARALLEL = "N/A"
  WESTERNMOST_LONGITUDE = 334.947
END_OBJECT = IMAGE_MAP_PROJECTION
/* The JPEG2000 image data file associated with this label. */
OBJECT = COMPRESSED_FILE
  FILE_NAME = "H3048_0000_RE3.JP2"
  RECORD_TYPE = UNDEFINED
  FILE_RECORDS = UNK
  ENCODING_TYPE = "JP2"
  INTERCHANGE_FORMAT = BINARY
  UNCOMPRESSED_FILE_NAME = "H3048_0000_RE3.IMG"
  REQUIRED_STORAGE_BYTES = "4467392"
  ^DESCRIPTION = "JP2INFO.TXT"
END_OBJECT = COMPRESSED_FILE
END
