PDS_VERSION_ID = PDS3
/* FILE DATA ELEMENTS */
RECORD_TYPE = STREAM
/* POINTERS TO DATA OBJECTS */
^COMPRESSED_FILE = "H3052_0000_BL3.JP2"
/* IDENTIFICATION DATA ELEMENTS */
DATA_SET_ID = "MEX-M-HRSC-5-REFDR-MAPPROJECTED-V3.0"
DATA_SET_NAME = "MARS EXPRESS HRSC MAP PROJECTED REFDR V3.0"
DETECTOR_ID = MEX_HRSC_BLUE
EVENT_TYPE = "MARS-REGIONAL-MAPPING-Im-Fl-Lc"
INSTRUMENT_HOST_ID = MEX
INSTRUMENT_HOST_NAME = "MARS EXPRESS"
INSTRUMENT_ID = HRSC
INSTRUMENT_NAME = "HIGH RESOLUTION STEREO CAMERA"
MISSION_NAME = "MARS EXPRESS"
MISSION_PHASE_NAME = ME_Phase_3
PROCESSING_LEVEL_ID = 3
PRODUCT_CREATION_TIME = 2016-04-08T19:13:29.000Z
PRODUCT_ID = "H3052_0000_BL3.JP2"
RELEASE_ID = 0037
REVISION_ID = 0000
/* QUALITY DATA ELEMENTS */
DATA_QUALITY_ID = 2
DATA_QUALITY_DESC = "Data calculated based on photogrammetrically improved orbit and attitude data"
/* TIME DATA ELEMENTS */
SPACECRAFT_CLOCK_START_COUNT = "1/0096791193.07284"
SPACECRAFT_CLOCK_STOP_COUNT = "1/0096791349.23528"
START_TIME = 2006-05-27T06:27:12.292Z
STOP_TIME = 2006-05-27T06:28:51.202Z
/* ORBITAL DATA ELEMENTS */
ASCENDING_NODE_LONGITUDE = 164.21
MAXIMUM_RESOLUTION = 95.8
FOOTPRINT_POINT_LATITUDE = (7.71557,7.71625,7.71688,7.71748, 7.71804,7.71856,7.71875,7.58229,7.45029 ,7.25236,7.12032,6.9222,6.79004,6.65783 ,6.52554,6.32713,6.19478,5.99633, 5.86398,5.66536,5.46672,5.33427,5.13559 ,5.00317,4.87072,4.67213,4.47543, 4.34773,4.21993,4.09195,3.96399,3.8358, 3.58037,3.45251,3.32456,3.13251,3.00445 ,2.87658,2.62222,2.49435,2.36639, 2.17369,2.04484,1.91697,1.78895,1.66101 ,1.53314,1.40536,1.27742,1.19125, 1.19069,1.18967,1.18909,1.18854,1.31761 ,1.4456,1.6374,1.76531,1.89328,2.02134, 2.14937,2.27715,2.4051,2.53314,2.66117, 2.78908,2.91704,3.04494,3.23661,3.36439 ,3.49231,3.68414,3.81202,3.93978, 4.06764,4.19552,4.38733,4.51523,4.64705 ,4.77965,4.91211,5.04452,5.24362, 5.44195,5.57447,5.77285,5.90517,6.03749 ,6.16978,6.30203,6.43425,6.56641, 6.76459,6.89656,7.02909,7.16136,7.29354 ,7.42553,7.55756,7.71557)
FOOTPRINT_POINT_LONGITUDE = (302.893,302.729,302.564,302.399, 302.234,302.068,301.874,301.875,301.876 ,301.877,301.877,301.878,301.879,301.88 ,301.881,301.882,301.883,301.884, 301.884,301.885,301.886,301.887,301.888 ,301.888,301.889,301.889,301.89,301.891 ,301.891,301.892,301.892,301.893, 301.893,301.893,301.894,301.894,301.895 ,301.895,301.892,301.892,301.893, 301.894,301.896,301.896,301.896,301.896 ,301.896,301.895,301.895,302.117, 302.272,302.514,302.659,302.823,302.926 ,302.927,302.928,302.928,302.929,302.93 ,302.931,302.931,302.932,302.933, 302.934,302.935,302.936,302.936,302.937 ,302.938,302.939,302.94,302.941,302.942 ,302.943,302.944,302.946,302.947, 302.948,302.949,302.95,302.951,302.954, 302.955,302.956,302.958,302.959,302.96, 302.961,302.963,302.964,302.965,302.967 ,302.968,302.97,302.971,302.973,302.974 ,302.975,302.893)
ORBIT_NUMBER = 3052
ORBITAL_ECCENTRICITY = 0.572
ORBITAL_INCLINATION = 86.63
ORBITAL_SEMIMAJOR_AXIS = 8624.49
PERIAPSIS_ALTITUDE = 297.75
PERIAPSIS_ARGUMENT_ANGLE = 181.95
PERIAPSIS_TIME = 2006-05-27T06:29:34.000Z
SPACECRAFT_ORIENTATION = (0.0,-1.0,0.0)
^MEX_ORIENTATION_DESC = "MEX_ORIENTATION_DESC.TXT"
SPACECRAFT_POINTING_MODE = ACROSSTRACK
^MEX_POINTING_DESC = "MEX_POINTING_DESC.TXT"
RIGHT_ASCENSION = -1e+32
DECLINATION = -1e+32
OFFSET_ANGLE = -0.1
SPACECRAFT_SOLAR_DISTANCE = 2.48576e+08
TARGET_NAME = MARS
/* CAMERA DATA ELEMENTS */
DETECTOR_TEMPERATURE = 18.1666
FOCAL_PLANE_TEMPERATURE = 7.7677
INST_CMPRS_NAME = "DISCRETE COSINE TRANSFORMATION (DCT)"
INST_CMPRS_RATIO = 30.0986
INST_CMPRS_QUALITY = 0
INST_CMPRS_QUANTZ_TBL_ID = 0
INSTRUMENT_TEMPERATURE = 11.0301
LENS_TEMPERATURE = 8.1755
MACROPIXEL_SIZE = 8
MISSING_FRAMES = 0
PIXEL_SUBSAMPLING_FLAG = N
SIGNAL_CHAIN_ID = 2
/* RADIOMETRIC DATA ELEMENTS */
BANDWIDTH = 76.0
CENTER_FILTER_WAVELENGTH = 444.0
RADIANCE_OFFSET = 0.427976
RADIANCE_SCALING_FACTOR = 0.00175826
REFLECTANCE_SCALING_FACTOR = 0.000111624
MEX:REFLECTANCE_OFFSET = 0.0271702
/* IMAGE OBJECT DEFINITIONS */
OBJECT = IMAGE
  INTERCHANGE_FORMAT = BINARY
  LINES = 3863
  LINE_SAMPLES = 705
  SAMPLE_TYPE = UNSIGNED_INTEGER
  SAMPLE_BITS = 8
  BANDS = 1
  BAND_STORAGE_TYPE = BAND_SEQUENTIAL
  MAXIMUM = 255
  MEAN = 120.867
  MINIMUM = 1
  STANDARD_DEVIATION = 26.3652
END_OBJECT = IMAGE
/* MAP OBJECT DEFINITIONS */
OBJECT = IMAGE_MAP_PROJECTION
  ^DATA_SET_MAP_PROJECTION_CATALOG= "DSMAP.CAT"
  A_AXIS_RADIUS = 3396.0
  B_AXIS_RADIUS = 3396.0
  C_AXIS_RADIUS = 3396.0
  CENTER_LATITUDE = 0.0
  CENTER_LONGITUDE = 302.0
  COORDINATE_SYSTEM_NAME = PLANETOGRAPHIC
  COORDINATE_SYSTEM_TYPE = "BODY-FIXED ROTATING"
  EASTERNMOST_LONGITUDE = 302.975
  FIRST_STANDARD_PARALLEL = "N/A"
  LINE_FIRST_PIXEL = 1
  LINE_LAST_PIXEL = 3863
  LINE_PROJECTION_OFFSET = 4577.6875
  MAP_PROJECTION_ROTATION = 0.0
  MAP_PROJECTION_TYPE = SINUSOIDAL
  MAP_RESOLUTION = 592.713803866667
  MAP_SCALE = 0.1
  MAXIMUM_LATITUDE = 7.71875
  MINIMUM_LATITUDE = 1.18854
  POSITIVE_LONGITUDE_DIRECTION = EAST
  REFERENCE_LATITUDE = "N/A"
  REFERENCE_LONGITUDE = "N/A"
  SAMPLE_FIRST_PIXEL = 1
  SAMPLE_LAST_PIXEL = 705
  SAMPLE_PROJECTION_OFFSET = 110.3125
  SECOND_STANDARD_PARALLEL = "N/A"
  WESTERNMOST_LONGITUDE = 301.874
END_OBJECT = IMAGE_MAP_PROJECTION
/* The JPEG2000 image data file associated with this label. */
OBJECT = COMPRESSED_FILE
  FILE_NAME = "H3052_0000_BL3.JP2"
  RECORD_TYPE = UNDEFINED
  FILE_RECORDS = UNK
  ENCODING_TYPE = "JP2"
  INTERCHANGE_FORMAT = BINARY
  UNCOMPRESSED_FILE_NAME = "H3052_0000_BL3.IMG"
  REQUIRED_STORAGE_BYTES = "2741745"
  ^DESCRIPTION = "JP2INFO.TXT"
END_OBJECT = COMPRESSED_FILE
END
