PDS_VERSION_ID = PDS3
/* FILE DATA ELEMENTS */
RECORD_TYPE = STREAM
/* POINTERS TO DATA OBJECTS */
^COMPRESSED_FILE = "H3052_0000_S13.JP2"
/* IDENTIFICATION DATA ELEMENTS */
DATA_SET_ID = "MEX-M-HRSC-5-REFDR-MAPPROJECTED-V3.0"
DATA_SET_NAME = "MARS EXPRESS HRSC MAP PROJECTED REFDR V3.0"
DETECTOR_ID = MEX_HRSC_S1
EVENT_TYPE = "MARS-REGIONAL-MAPPING-Im-Fl-Lc"
INSTRUMENT_HOST_ID = MEX
INSTRUMENT_HOST_NAME = "MARS EXPRESS"
INSTRUMENT_ID = HRSC
INSTRUMENT_NAME = "HIGH RESOLUTION STEREO CAMERA"
MISSION_NAME = "MARS EXPRESS"
MISSION_PHASE_NAME = ME_Phase_3
PROCESSING_LEVEL_ID = 3
PRODUCT_CREATION_TIME = 2016-04-08T19:13:29.000Z
PRODUCT_ID = "H3052_0000_S13.JP2"
RELEASE_ID = 0037
REVISION_ID = 0000
/* QUALITY DATA ELEMENTS */
DATA_QUALITY_ID = 2
DATA_QUALITY_DESC = "Data calculated based on photogrammetrically improved orbit and attitude data"
/* TIME DATA ELEMENTS */
SPACECRAFT_CLOCK_START_COUNT = "1/0096791193.07284"
SPACECRAFT_CLOCK_STOP_COUNT = "1/0096791349.23528"
START_TIME = 2006-05-27T06:26:38.507Z
STOP_TIME = 2006-05-27T06:28:19.891Z
/* ORBITAL DATA ELEMENTS */
ASCENDING_NODE_LONGITUDE = 164.21
MAXIMUM_RESOLUTION = 25.7
FOOTPRINT_POINT_LATITUDE = (7.7258,7.7255,7.725,7.72388,7.72276, 7.72147,7.64507,7.51351,7.31537,7.18267 ,7.05082,6.91861,6.72072,6.58906, 6.39118,6.25877,6.12703,5.92823,5.79572 ,5.597,5.46449,5.33537,5.20741,5.07891, 4.95009,4.82162,4.6929,4.56482,4.43574, 4.30623,4.17716,4.04911,3.85678,3.72739 ,3.59728,3.4677,3.33824,3.20938,3.01612 ,2.81975,2.61809,2.4877,2.36095,2.17161 ,2.05287,1.92691,1.80123,1.67538,1.4858 ,1.35887,1.23254,1.20709,1.20757, 1.20855,1.2086,1.20865,1.39826,1.58783, 1.71419,1.84012,1.9659,2.15405,2.27938, 2.40832,2.5359,2.73068,2.86064,2.99016, 3.12047,3.25152,3.38136,3.51056,3.64005 ,3.76954,3.89917,4.09309,4.28656, 4.41487,4.54363,4.73632,4.92956,5.05847 ,5.18404,5.37897,5.50982,5.64283, 5.84196,5.97473,6.10722,6.2399,6.37242, 6.50511,6.70417,6.90348,7.09922,7.23025 ,7.36227,7.49412,7.62578,7.7258)
FOOTPRINT_POINT_LONGITUDE = (302.928,302.75,302.573,302.328,302.15, 301.982,301.843,301.844,301.845,301.846 ,301.847,301.848,301.849,301.851, 301.852,301.853,301.854,301.856,301.857 ,301.858,301.859,301.86,301.861,301.861 ,301.862,301.863,301.864,301.864, 301.865,301.865,301.866,301.867,301.868 ,301.869,301.869,301.87,301.87,301.871, 301.872,301.872,301.87,301.87,301.871, 301.872,301.875,301.875,301.875,301.875 ,301.875,301.875,301.875,302.029, 302.285,302.541,302.705,302.848,302.934 ,302.935,302.936,302.937,302.938, 302.939,302.94,302.941,302.942,302.944, 302.945,302.946,302.947,302.948,302.949 ,302.95,302.951,302.952,302.953,302.955 ,302.957,302.958,302.96,302.962,302.964 ,302.965,302.967,302.969,302.97,302.971 ,302.973,302.975,302.976,302.978, 302.979,302.981,302.983,302.985,302.988 ,302.99,302.991,302.993,302.994, 302.928)
ORBIT_NUMBER = 3052
ORBITAL_ECCENTRICITY = 0.572
ORBITAL_INCLINATION = 86.63
ORBITAL_SEMIMAJOR_AXIS = 8624.49
PERIAPSIS_ALTITUDE = 297.75
PERIAPSIS_ARGUMENT_ANGLE = 181.95
PERIAPSIS_TIME = 2006-05-27T06:29:34.000Z
SPACECRAFT_ORIENTATION = (0.0,-1.0,0.0)
^MEX_ORIENTATION_DESC = "MEX_ORIENTATION_DESC.TXT"
SPACECRAFT_POINTING_MODE = ACROSSTRACK
^MEX_POINTING_DESC = "MEX_POINTING_DESC.TXT"
RIGHT_ASCENSION = -1e+32
DECLINATION = -1e+32
OFFSET_ANGLE = -0.1
SPACECRAFT_SOLAR_DISTANCE = 2.48576e+08
TARGET_NAME = MARS
/* CAMERA DATA ELEMENTS */
DETECTOR_TEMPERATURE = 17.351
FOCAL_PLANE_TEMPERATURE = 7.7677
INST_CMPRS_NAME = "DISCRETE COSINE TRANSFORMATION (DCT)"
INST_CMPRS_RATIO = 10.0392
INST_CMPRS_QUALITY = 0
INST_CMPRS_QUANTZ_TBL_ID = 0
INSTRUMENT_TEMPERATURE = 11.0301
LENS_TEMPERATURE = 8.1755
MACROPIXEL_SIZE = 2
MISSING_FRAMES = 1
PIXEL_SUBSAMPLING_FLAG = N
SIGNAL_CHAIN_ID = 1
/* RADIOMETRIC DATA ELEMENTS */
BANDWIDTH = 180.0
CENTER_FILTER_WAVELENGTH = 677.0
RADIANCE_OFFSET = 2.75741
RADIANCE_SCALING_FACTOR = 0.0156794
REFLECTANCE_SCALING_FACTOR = 0.000505462
MEX:REFLECTANCE_OFFSET = 0.0888916
/* IMAGE OBJECT DEFINITIONS */
OBJECT = IMAGE
  INTERCHANGE_FORMAT = BINARY
  LINES = 15450
  LINE_SAMPLES = 2820
  SAMPLE_TYPE = UNSIGNED_INTEGER
  SAMPLE_BITS = 8
  BANDS = 1
  BAND_STORAGE_TYPE = BAND_SEQUENTIAL
  MAXIMUM = 255
  MEAN = 120.375
  MINIMUM = 1
  STANDARD_DEVIATION = 20.1198
END_OBJECT = IMAGE
/* MAP OBJECT DEFINITIONS */
OBJECT = IMAGE_MAP_PROJECTION
  ^DATA_SET_MAP_PROJECTION_CATALOG= "DSMAP.CAT"
  A_AXIS_RADIUS = 3396.0
  B_AXIS_RADIUS = 3396.0
  C_AXIS_RADIUS = 3396.0
  CENTER_LATITUDE = 0.0
  CENTER_LONGITUDE = 302.0
  COORDINATE_SYSTEM_NAME = PLANETOGRAPHIC
  COORDINATE_SYSTEM_TYPE = "BODY-FIXED ROTATING"
  EASTERNMOST_LONGITUDE = 302.994
  FIRST_STANDARD_PARALLEL = "N/A"
  LINE_FIRST_PIXEL = 1
  LINE_LAST_PIXEL = 15450
  LINE_PROJECTION_OFFSET = 18312.25
  MAP_PROJECTION_ROTATION = 0.0
  MAP_PROJECTION_TYPE = SINUSOIDAL
  MAP_RESOLUTION = 2370.85521546667
  MAP_SCALE = 0.025
  MAXIMUM_LATITUDE = 7.7258
  MINIMUM_LATITUDE = 1.20709
  POSITIVE_LONGITUDE_DIRECTION = EAST
  REFERENCE_LATITUDE = "N/A"
  REFERENCE_LONGITUDE = "N/A"
  SAMPLE_FIRST_PIXEL = 1
  SAMPLE_LAST_PIXEL = 2820
  SAMPLE_PROJECTION_OFFSET = 442.75
  SECOND_STANDARD_PARALLEL = "N/A"
  WESTERNMOST_LONGITUDE = 301.843
END_OBJECT = IMAGE_MAP_PROJECTION
/* The JPEG2000 image data file associated with this label. */
OBJECT = COMPRESSED_FILE
  FILE_NAME = "H3052_0000_S13.JP2"
  RECORD_TYPE = UNDEFINED
  FILE_RECORDS = UNK
  ENCODING_TYPE = "JP2"
  INTERCHANGE_FORMAT = BINARY
  UNCOMPRESSED_FILE_NAME = "H3052_0000_S13.IMG"
  REQUIRED_STORAGE_BYTES = "43591560"
  ^DESCRIPTION = "JP2INFO.TXT"
END_OBJECT = COMPRESSED_FILE
END
