PDS_VERSION_ID = PDS3
/* FILE DATA ELEMENTS */
RECORD_TYPE = STREAM
/* POINTERS TO DATA OBJECTS */
^COMPRESSED_FILE = "H3059_0000_S13.JP2"
/* IDENTIFICATION DATA ELEMENTS */
DATA_SET_ID = "MEX-M-HRSC-5-REFDR-MAPPROJECTED-V3.0"
DATA_SET_NAME = "MARS EXPRESS HRSC MAP PROJECTED REFDR V3.0"
DETECTOR_ID = MEX_HRSC_S1
EVENT_TYPE = "MARS-REGIONAL-MAPPING-Fl-Mw-La"
INSTRUMENT_HOST_ID = MEX
INSTRUMENT_HOST_NAME = "MARS EXPRESS"
INSTRUMENT_ID = HRSC
INSTRUMENT_NAME = "HIGH RESOLUTION STEREO CAMERA"
MISSION_NAME = "MARS EXPRESS"
MISSION_PHASE_NAME = ME_Phase_3
PROCESSING_LEVEL_ID = 3
PRODUCT_CREATION_TIME = 2016-04-08T19:13:29.000Z
PRODUCT_ID = "H3059_0000_S13.JP2"
RELEASE_ID = 0037
REVISION_ID = 0000
/* QUALITY DATA ELEMENTS */
DATA_QUALITY_ID = 2
DATA_QUALITY_DESC = "Data calculated based on photogrammetrically improved orbit and attitude data"
/* TIME DATA ELEMENTS */
SPACECRAFT_CLOCK_START_COUNT = "1/0096960359.08410"
SPACECRAFT_CLOCK_STOP_COUNT = "1/0096960565.23053"
START_TIME = 2006-05-29T05:26:04.496Z
STOP_TIME = 2006-05-29T05:28:31.743Z
/* ORBITAL DATA ELEMENTS */
ASCENDING_NODE_LONGITUDE = 164.07
MAXIMUM_RESOLUTION = 28.2
FOOTPRINT_POINT_LATITUDE = (18.2654,18.2666,18.2671,18.2668, 18.2661,18.2647,18.1298,17.9327,17.7346 ,17.4375,17.2391,17.0402,16.841,16.6413 ,16.4414,16.1187,15.9188,15.7181, 15.5176,15.3169,15.1151,14.9472,14.7784 ,14.6083,14.4371,14.267,14.0109,13.84, 13.6692,13.4982,13.3267,13.0695,12.898, 12.7268,12.5505,12.3772,12.2046,12.0319 ,11.8592,11.6862,11.428,11.2566,11.0826 ,10.8211,10.6513,10.393,10.057,9.88823, 9.71894,9.38208,9.21266,9.1828,9.18248, 9.18218,9.18149,9.18077,9.26668,9.43608 ,9.77198,10.0224,10.1924,10.3674, 10.7923,11.0523,11.2259,11.3998,11.5734 ,11.7463,11.9186,12.178,12.3508,12.522, 12.6935,12.9516,13.1238,13.2957,13.4663 ,13.6374,13.8093,14.0639,14.233,14.4042 ,14.6602,14.915,15.0848,15.3804,15.581, 15.7822,15.983,16.1828,16.4062,16.6065, 16.8063,17.006,17.2041,17.4033,17.6017, 17.7988,17.9966,18.2654)
FOOTPRINT_POINT_LONGITUDE = (335.399,335.119,334.895,334.6,334.377, 334.152,333.943,333.948,333.952,333.959 ,333.963,333.967,333.971,333.975, 333.979,333.986,333.99,333.994,333.998, 334.001,334.004,334.008,334.011,334.014 ,334.016,334.019,334.023,334.025, 334.028,334.03,334.033,334.036,334.039, 334.042,334.043,334.044,334.047,334.049 ,334.051,334.053,334.057,334.059, 334.061,334.064,334.066,334.067,334.071 ,334.072,334.074,334.078,334.08,334.262 ,334.478,334.649,334.843,335.025, 335.257,335.259,335.265,335.269,335.271 ,335.272,335.277,335.281,335.283, 335.286,335.288,335.291,335.294,335.298 ,335.3,335.303,335.306,335.31,335.313, 335.316,335.319,335.322,335.324,335.329 ,335.332,335.335,335.339,335.344, 335.347,335.352,335.356,335.36,335.364, 335.368,335.372,335.376,335.38,335.384, 335.388,335.392,335.396,335.401,335.405 ,335.399)
ORBIT_NUMBER = 3059
ORBITAL_ECCENTRICITY = 0.571
ORBITAL_INCLINATION = 86.64
ORBITAL_SEMIMAJOR_AXIS = 8620.42
PERIAPSIS_ALTITUDE = 298.98
PERIAPSIS_ARGUMENT_ANGLE = 180.67
PERIAPSIS_TIME = 2006-05-29T05:31:30.000Z
SPACECRAFT_ORIENTATION = (0.0,-1.0,0.0)
^MEX_ORIENTATION_DESC = "MEX_ORIENTATION_DESC.TXT"
SPACECRAFT_POINTING_MODE = NADIR
^MEX_POINTING_DESC = "MEX_POINTING_DESC.TXT"
RIGHT_ASCENSION = -1e+32
DECLINATION = -1e+32
OFFSET_ANGLE = -1e+32
SPACECRAFT_SOLAR_DISTANCE = 2.48659e+08
TARGET_NAME = MARS
/* CAMERA DATA ELEMENTS */
DETECTOR_TEMPERATURE = 17.5549
FOCAL_PLANE_TEMPERATURE = 7.9716
INST_CMPRS_NAME = "DISCRETE COSINE TRANSFORMATION (DCT)"
INST_CMPRS_RATIO = 9.00851
INST_CMPRS_QUALITY = 0
INST_CMPRS_QUANTZ_TBL_ID = 0
INSTRUMENT_TEMPERATURE = 11.0301
LENS_TEMPERATURE = 8.3794
MACROPIXEL_SIZE = 2
MISSING_FRAMES = 6
PIXEL_SUBSAMPLING_FLAG = N
SIGNAL_CHAIN_ID = 1
/* RADIOMETRIC DATA ELEMENTS */
BANDWIDTH = 180.0
CENTER_FILTER_WAVELENGTH = 677.0
RADIANCE_OFFSET = 3.30484
RADIANCE_SCALING_FACTOR = 0.0157776
REFLECTANCE_SCALING_FACTOR = 0.000508968
MEX:REFLECTANCE_OFFSET = 0.106611
/* IMAGE OBJECT DEFINITIONS */
OBJECT = IMAGE
  INTERCHANGE_FORMAT = BINARY
  LINES = 21433
  LINE_SAMPLES = 3272
  SAMPLE_TYPE = UNSIGNED_INTEGER
  SAMPLE_BITS = 8
  BANDS = 1
  BAND_STORAGE_TYPE = BAND_SEQUENTIAL
  MAXIMUM = 255
  MEAN = 119.532
  MINIMUM = 1
  STANDARD_DEVIATION = 19.3425
END_OBJECT = IMAGE
/* MAP OBJECT DEFINITIONS */
OBJECT = IMAGE_MAP_PROJECTION
  ^DATA_SET_MAP_PROJECTION_CATALOG= "DSMAP.CAT"
  A_AXIS_RADIUS = 3396.0
  B_AXIS_RADIUS = 3396.0
  C_AXIS_RADIUS = 3396.0
  CENTER_LATITUDE = 0.0
  CENTER_LONGITUDE = 335.0
  COORDINATE_SYSTEM_NAME = PLANETOGRAPHIC
  COORDINATE_SYSTEM_TYPE = "BODY-FIXED ROTATING"
  EASTERNMOST_LONGITUDE = 335.405
  FIRST_STANDARD_PARALLEL = "N/A"
  LINE_FIRST_PIXEL = 1
  LINE_LAST_PIXEL = 21433
  LINE_PROJECTION_OFFSET = 43259.75
  MAP_PROJECTION_ROTATION = 0.0
  MAP_PROJECTION_TYPE = SINUSOIDAL
  MAP_RESOLUTION = 2370.85521546667
  MAP_SCALE = 0.025
  MAXIMUM_LATITUDE = 18.2671
  MINIMUM_LATITUDE = 9.180770000000001
  POSITIVE_LONGITUDE_DIRECTION = EAST
  REFERENCE_LATITUDE = "N/A"
  REFERENCE_LONGITUDE = "N/A"
  SAMPLE_FIRST_PIXEL = 1
  SAMPLE_LAST_PIXEL = 3272
  SAMPLE_PROJECTION_OFFSET = 2368.25
  SECOND_STANDARD_PARALLEL = "N/A"
  WESTERNMOST_LONGITUDE = 333.943
END_OBJECT = IMAGE_MAP_PROJECTION
/* The JPEG2000 image data file associated with this label. */
OBJECT = COMPRESSED_FILE
  FILE_NAME = "H3059_0000_S13.JP2"
  RECORD_TYPE = UNDEFINED
  FILE_RECORDS = UNK
  ENCODING_TYPE = "JP2"
  INTERCHANGE_FORMAT = BINARY
  UNCOMPRESSED_FILE_NAME = "H3059_0000_S13.IMG"
  REQUIRED_STORAGE_BYTES = "70151680"
  ^DESCRIPTION = "JP2INFO.TXT"
END_OBJECT = COMPRESSED_FILE
END
