PDS_VERSION_ID = PDS3
/* FILE DATA ELEMENTS */
RECORD_TYPE = STREAM
/* POINTERS TO DATA OBJECTS */
^COMPRESSED_FILE = "H3065_0000_S13.JP2"
/* IDENTIFICATION DATA ELEMENTS */
DATA_SET_ID = "MEX-M-HRSC-5-REFDR-MAPPROJECTED-V3.0"
DATA_SET_NAME = "MARS EXPRESS HRSC MAP PROJECTED REFDR V3.0"
DETECTOR_ID = MEX_HRSC_S1
EVENT_TYPE = "MARS-REGIONAL-MAPPING-Vo-Te-Pf"
INSTRUMENT_HOST_ID = MEX
INSTRUMENT_HOST_NAME = "MARS EXPRESS"
INSTRUMENT_ID = HRSC
INSTRUMENT_NAME = "HIGH RESOLUTION STEREO CAMERA"
MISSION_NAME = "MARS EXPRESS"
MISSION_PHASE_NAME = ME_Phase_3
PROCESSING_LEVEL_ID = 3
PRODUCT_CREATION_TIME = 2016-04-08T19:13:29.000Z
PRODUCT_ID = "H3065_0000_S13.JP2"
RELEASE_ID = 0037
REVISION_ID = 0000
/* QUALITY DATA ELEMENTS */
DATA_QUALITY_ID = 2
DATA_QUALITY_DESC = "Data calculated based on photogrammetrically improved orbit and attitude data"
/* TIME DATA ELEMENTS */
SPACECRAFT_CLOCK_START_COUNT = "1/0097105493.07293"
SPACECRAFT_CLOCK_STOP_COUNT = "1/0097105771.07541"
START_TIME = 2006-05-30T21:44:58.477Z
STOP_TIME = 2006-05-30T21:48:40.604Z
/* ORBITAL DATA ELEMENTS */
ASCENDING_NODE_LONGITUDE = 163.94
MAXIMUM_RESOLUTION = 26.3
FOOTPRINT_POINT_LATITUDE = (19.5356,19.5425,19.5489,19.5546, 19.5293,19.2144,18.7433,18.4274,18.1109 ,17.7939,17.4763,17.1579,16.8391, 16.5245,16.2553,15.9865,15.7165,15.4462 ,15.1757,14.9044,14.6226,14.3505,13.941 ,13.668,13.3951,13.1208,12.7119,12.4335 ,12.0152,11.7494,11.4929,11.2189, 10.9507,10.682,10.4117,10.1464,9.88627, 9.62232,9.22973,8.83479,8.57152,8.30803 ,7.91274,7.6564,7.40175,7.14489,6.75472 ,6.3734,5.98717,5.72962,5.69629,5.68271 ,5.67463,5.93141,6.18882,6.44806, 6.83477,7.09681,7.34878,7.60416,7.85693 ,8.12013,8.38523,8.64841,8.91055, 9.17588,9.43741,9.69687,9.96248,10.3556 ,10.6247,10.8944,11.1647,11.4309, 11.6987,12.0989,12.5128,12.789,13.1994, 13.4737,13.8848,14.1572,14.5654,14.847, 15.1185,15.3895,15.6594,15.9294,16.1982 ,16.4671,16.9389,17.2581,17.5754, 17.8932,18.21,18.5261,18.8418,19.1562, 19.4701,19.5356)
FOOTPRINT_POINT_LONGITUDE = (105.923,105.694,105.465,105.239, 104.837,104.843,104.853,104.859,104.865 ,104.871,104.877,104.882,104.888, 104.893,104.897,104.902,104.906,104.91, 104.913,104.917,104.921,104.924,104.93, 104.933,104.936,104.939,104.944,104.947 ,104.95,104.953,104.956,104.958,104.961 ,104.963,104.965,104.967,104.969, 104.971,104.973,104.976,104.977,104.979 ,104.981,104.982,104.983,104.984, 104.986,104.987,104.988,104.989,105.506 ,105.86,106.092,106.095,106.097,106.099 ,106.102,106.101,106.107,106.11,106.114 ,106.117,106.12,106.124,106.128,106.13, 106.134,106.139,106.141,106.148,106.153 ,106.157,106.16,106.166,106.17,106.178, 106.185,106.189,106.197,106.202,106.209 ,106.215,106.223,106.229,106.234, 106.239,106.245,106.251,106.257,106.262 ,106.273,106.28,106.288,106.295,106.302 ,106.31,106.317,106.325,106.333, 105.923)
ORBIT_NUMBER = 3065
ORBITAL_ECCENTRICITY = 0.572
ORBITAL_INCLINATION = 86.63
ORBITAL_SEMIMAJOR_AXIS = 8629.43
PERIAPSIS_ALTITUDE = 298.78
PERIAPSIS_ARGUMENT_ANGLE = 179.6
PERIAPSIS_TIME = 2006-05-30T21:50:28.000Z
SPACECRAFT_ORIENTATION = (0.0,-1.0,0.0)
^MEX_ORIENTATION_DESC = "MEX_ORIENTATION_DESC.TXT"
SPACECRAFT_POINTING_MODE = ACROSSTRACK
^MEX_POINTING_DESC = "MEX_POINTING_DESC.TXT"
RIGHT_ASCENSION = -1e+32
DECLINATION = -1e+32
OFFSET_ANGLE = 0.5
SPACECRAFT_SOLAR_DISTANCE = 2.48726e+08
TARGET_NAME = MARS
/* CAMERA DATA ELEMENTS */
DETECTOR_TEMPERATURE = 17.5549
FOCAL_PLANE_TEMPERATURE = 8.3794
INST_CMPRS_NAME = "DISCRETE COSINE TRANSFORMATION (DCT)"
INST_CMPRS_RATIO = 7.43512
INST_CMPRS_QUALITY = 0
INST_CMPRS_QUANTZ_TBL_ID = 0
INSTRUMENT_TEMPERATURE = 11.0301
LENS_TEMPERATURE = 8.9911
MACROPIXEL_SIZE = 2
MISSING_FRAMES = 3
PIXEL_SUBSAMPLING_FLAG = N
SIGNAL_CHAIN_ID = 1
/* RADIOMETRIC DATA ELEMENTS */
BANDWIDTH = 180.0
CENTER_FILTER_WAVELENGTH = 677.0
RADIANCE_OFFSET = 2.87455
RADIANCE_SCALING_FACTOR = 0.0175559
REFLECTANCE_SCALING_FACTOR = 0.000566643
MEX:REFLECTANCE_OFFSET = 0.0927804
/* IMAGE OBJECT DEFINITIONS */
OBJECT = IMAGE
  INTERCHANGE_FORMAT = BINARY
  LINES = 32795
  LINE_SAMPLES = 3318
  SAMPLE_TYPE = UNSIGNED_INTEGER
  SAMPLE_BITS = 8
  BANDS = 1
  BAND_STORAGE_TYPE = BAND_SEQUENTIAL
  MAXIMUM = 255
  MEAN = 134.966
  MINIMUM = 1
  STANDARD_DEVIATION = 19.1503
END_OBJECT = IMAGE
/* MAP OBJECT DEFINITIONS */
OBJECT = IMAGE_MAP_PROJECTION
  ^DATA_SET_MAP_PROJECTION_CATALOG= "DSMAP.CAT"
  A_AXIS_RADIUS = 3396.0
  B_AXIS_RADIUS = 3396.0
  C_AXIS_RADIUS = 3396.0
  CENTER_LATITUDE = 0.0
  CENTER_LONGITUDE = 106.0
  COORDINATE_SYSTEM_NAME = PLANETOGRAPHIC
  COORDINATE_SYSTEM_TYPE = "BODY-FIXED ROTATING"
  EASTERNMOST_LONGITUDE = 106.333
  FIRST_STANDARD_PARALLEL = "N/A"
  LINE_FIRST_PIXEL = 1
  LINE_LAST_PIXEL = 32795
  LINE_PROJECTION_OFFSET = 46334.75
  MAP_PROJECTION_ROTATION = 0.0
  MAP_PROJECTION_TYPE = SINUSOIDAL
  MAP_RESOLUTION = 2370.85521546667
  MAP_SCALE = 0.025
  MAXIMUM_LATITUDE = 19.5546
  MINIMUM_LATITUDE = 5.67463
  POSITIVE_LONGITUDE_DIRECTION = EAST
  REFERENCE_LATITUDE = "N/A"
  REFERENCE_LONGITUDE = "N/A"
  SAMPLE_FIRST_PIXEL = 1
  SAMPLE_LAST_PIXEL = 3318
  SAMPLE_PROJECTION_OFFSET = 2538.25
  SECOND_STANDARD_PARALLEL = "N/A"
  WESTERNMOST_LONGITUDE = 104.837
END_OBJECT = IMAGE_MAP_PROJECTION
/* The JPEG2000 image data file associated with this label. */
OBJECT = COMPRESSED_FILE
  FILE_NAME = "H3065_0000_S13.JP2"
  RECORD_TYPE = UNDEFINED
  FILE_RECORDS = UNK
  ENCODING_TYPE = "JP2"
  INTERCHANGE_FORMAT = BINARY
  UNCOMPRESSED_FILE_NAME = "H3065_0000_S13.IMG"
  REQUIRED_STORAGE_BYTES = "108837036"
  ^DESCRIPTION = "JP2INFO.TXT"
END_OBJECT = COMPRESSED_FILE
END
