PDS_VERSION_ID = PDS3
/* FILE DATA ELEMENTS */
RECORD_TYPE = STREAM
/* POINTERS TO DATA OBJECTS */
^COMPRESSED_FILE = "H3068_0000_ND3.JP2"
/* IDENTIFICATION DATA ELEMENTS */
DATA_SET_ID = "MEX-M-HRSC-5-REFDR-MAPPROJECTED-V3.0"
DATA_SET_NAME = "MARS EXPRESS HRSC MAP PROJECTED REFDR V3.0"
DETECTOR_ID = MEX_HRSC_NADIR
EVENT_TYPE = "MARS-REGIONAL-MAPPING-Vo-Gl-Eo"
INSTRUMENT_HOST_ID = MEX
INSTRUMENT_HOST_NAME = "MARS EXPRESS"
INSTRUMENT_ID = HRSC
INSTRUMENT_NAME = "HIGH RESOLUTION STEREO CAMERA"
MISSION_NAME = "MARS EXPRESS"
MISSION_PHASE_NAME = ME_Phase_3
PROCESSING_LEVEL_ID = 3
PRODUCT_CREATION_TIME = 2016-04-08T19:13:29.000Z
PRODUCT_ID = "H3068_0000_ND3.JP2"
RELEASE_ID = 0037
REVISION_ID = 0000
/* QUALITY DATA ELEMENTS */
DATA_QUALITY_ID = 2
DATA_QUALITY_DESC = "Data calculated based on photogrammetrically improved orbit and attitude data"
/* TIME DATA ELEMENTS */
SPACECRAFT_CLOCK_START_COUNT = "1/0097178325.07281"
SPACECRAFT_CLOCK_STOP_COUNT = "1/0097178566.31981"
START_TIME = 2006-05-31T17:59:17.351Z
STOP_TIME = 2006-05-31T18:02:20.341Z
/* ORBITAL DATA ELEMENTS */
ASCENDING_NODE_LONGITUDE = 163.87
MAXIMUM_RESOLUTION = 12.1
FOOTPRINT_POINT_LATITUDE = (3.60162,3.60257,3.60415,3.3666,3.12902 ,2.89141,2.65379,2.41614,2.17848, 1.94081,1.70313,1.46544,1.22775, 0.990059,0.633527,0.395846,0.158175, -0.0794831,-0.317125,-0.554748, -0.792348,-1.02992,-1.26747,-1.50499, -1.74247,-1.97992,-2.21733,-2.45469, -2.69201,-2.92929,-3.40367,-3.87782, -4.24622,-4.49188,-4.73746,-4.98296, -5.22838,-5.4737,-5.71894,-5.96407, -6.2091,-6.45404,-6.69888,-6.94362, -7.18823,-7.43273,-7.81043,-8.06335, -8.31616,-8.4455,-8.44689,-8.4478, -8.19504,-7.94217,-7.68916,-7.43794, -7.19343,-6.94878,-6.70403,-6.45918, -6.21425,-5.9692,-5.72404,-5.47876, -5.2334,-4.98794,-4.74239,-4.49678, -4.25108,-3.88264,-3.40842,-2.93396, -2.69665,-2.4593,-2.22189,-1.98445, -1.74696,-1.50942,-1.27186,-1.03427, -0.796641,-0.558993,-0.321317, -0.0836243,0.154086,0.39181,0.629546, 0.86729,1.10504,1.34279,1.69941,1.93716 ,2.17489,2.41261,2.65032,2.88802, 3.12569,3.36334,3.60096,3.60162)
FOOTPRINT_POINT_LONGITUDE = (169.786,169.448,169.03,169.03,169.03, 169.03,169.03,169.03,169.03,169.03, 169.029,169.029,169.029,169.028,169.027 ,169.026,169.026,169.025,169.024, 169.023,169.022,169.021,169.02,169.019, 169.018,169.017,169.015,169.014,169.012 ,169.011,169.008,169.005,169.002,169.0, 168.999,168.997,168.995,168.993,168.991 ,168.988,168.986,168.983,168.981, 168.978,168.975,168.973,168.968,168.965 ,168.962,169.446,169.775,170.116, 170.114,170.113,170.112,170.111,170.11, 170.11,170.109,170.108,170.107,170.107, 170.106,170.106,170.105,170.105,170.104 ,170.104,170.103,170.103,170.103, 170.103,170.102,170.103,170.103,170.103 ,170.103,170.103,170.103,170.104, 170.104,170.104,170.105,170.105,170.105 ,170.106,170.107,170.107,170.108, 170.108,170.109,170.11,170.111,170.112, 170.113,170.113,170.114,170.115,170.116 ,169.786)
ORBIT_NUMBER = 3068
ORBITAL_ECCENTRICITY = 0.571
ORBITAL_INCLINATION = 86.64
ORBITAL_SEMIMAJOR_AXIS = 8620.21
PERIAPSIS_ALTITUDE = 299.73
PERIAPSIS_ARGUMENT_ANGLE = 179.08
PERIAPSIS_TIME = 2006-05-31T17:59:57.000Z
SPACECRAFT_ORIENTATION = (0.0,-1.0,0.0)
^MEX_ORIENTATION_DESC = "MEX_ORIENTATION_DESC.TXT"
SPACECRAFT_POINTING_MODE = ACROSSTRACK
^MEX_POINTING_DESC = "MEX_POINTING_DESC.TXT"
RIGHT_ASCENSION = -1e+32
DECLINATION = -1e+32
OFFSET_ANGLE = -0.6
SPACECRAFT_SOLAR_DISTANCE = 2.48758e+08
TARGET_NAME = MARS
/* CAMERA DATA ELEMENTS */
DETECTOR_TEMPERATURE = 17.9627
FOCAL_PLANE_TEMPERATURE = 9.195
INST_CMPRS_NAME = "DISCRETE COSINE TRANSFORMATION (DCT)"
INST_CMPRS_RATIO = 6.33283
INST_CMPRS_QUALITY = 0
INST_CMPRS_QUANTZ_TBL_ID = 0
INSTRUMENT_TEMPERATURE = 11.0301
LENS_TEMPERATURE = 8.5833
MACROPIXEL_SIZE = 1
MISSING_FRAMES = 0
PIXEL_SUBSAMPLING_FLAG = N
SIGNAL_CHAIN_ID = 0
/* RADIOMETRIC DATA ELEMENTS */
BANDWIDTH = 177.0
CENTER_FILTER_WAVELENGTH = 677.5
RADIANCE_OFFSET = 1.96405
RADIANCE_SCALING_FACTOR = 0.0145935
REFLECTANCE_SCALING_FACTOR = 0.000479735
MEX:REFLECTANCE_OFFSET = 0.0645643
/* IMAGE OBJECT DEFINITIONS */
OBJECT = IMAGE
  INTERCHANGE_FORMAT = BINARY
  LINES = 57151
  LINE_SAMPLES = 5735
  SAMPLE_TYPE = UNSIGNED_INTEGER
  SAMPLE_BITS = 8
  BANDS = 1
  BAND_STORAGE_TYPE = BAND_SEQUENTIAL
  MAXIMUM = 255
  MEAN = 138.403
  MINIMUM = 1
  STANDARD_DEVIATION = 17.0019
END_OBJECT = IMAGE
/* MAP OBJECT DEFINITIONS */
OBJECT = IMAGE_MAP_PROJECTION
  ^DATA_SET_MAP_PROJECTION_CATALOG= "DSMAP.CAT"
  A_AXIS_RADIUS = 3396.0
  B_AXIS_RADIUS = 3396.0
  C_AXIS_RADIUS = 3396.0
  CENTER_LATITUDE = 0.0
  CENTER_LONGITUDE = 170.0
  COORDINATE_SYSTEM_NAME = PLANETOGRAPHIC
  COORDINATE_SYSTEM_TYPE = "BODY-FIXED ROTATING"
  EASTERNMOST_LONGITUDE = 170.116
  FIRST_STANDARD_PARALLEL = "N/A"
  LINE_FIRST_PIXEL = 1
  LINE_LAST_PIXEL = 57151
  LINE_PROJECTION_OFFSET = 17096.0
  MAP_PROJECTION_ROTATION = 0.0
  MAP_PROJECTION_TYPE = SINUSOIDAL
  MAP_RESOLUTION = 4741.71043093333
  MAP_SCALE = 0.0125
  MAXIMUM_LATITUDE = 3.60415
  MINIMUM_LATITUDE = -8.447800000000001
  POSITIVE_LONGITUDE_DIRECTION = EAST
  REFERENCE_LATITUDE = "N/A"
  REFERENCE_LONGITUDE = "N/A"
  SAMPLE_FIRST_PIXEL = 1
  SAMPLE_LAST_PIXEL = 5735
  SAMPLE_PROJECTION_OFFSET = 5171.0
  SECOND_STANDARD_PARALLEL = "N/A"
  WESTERNMOST_LONGITUDE = 168.962
END_OBJECT = IMAGE_MAP_PROJECTION
/* The JPEG2000 image data file associated with this label. */
OBJECT = COMPRESSED_FILE
  FILE_NAME = "H3068_0000_ND3.JP2"
  RECORD_TYPE = UNDEFINED
  FILE_RECORDS = UNK
  ENCODING_TYPE = "JP2"
  INTERCHANGE_FORMAT = BINARY
  UNCOMPRESSED_FILE_NAME = "H3068_0000_ND3.IMG"
  REQUIRED_STORAGE_BYTES = "327789660"
  ^DESCRIPTION = "JP2INFO.TXT"
END_OBJECT = COMPRESSED_FILE
END
