PDS_VERSION_ID = PDS3
/* FILE DATA ELEMENTS */
RECORD_TYPE = STREAM
/* POINTERS TO DATA OBJECTS */
^COMPRESSED_FILE = "H3069_0000_IR3.JP2"
/* IDENTIFICATION DATA ELEMENTS */
DATA_SET_ID = "MEX-M-HRSC-5-REFDR-MAPPROJECTED-V3.0"
DATA_SET_NAME = "MARS EXPRESS HRSC MAP PROJECTED REFDR V3.0"
DETECTOR_ID = MEX_HRSC_IR
EVENT_TYPE = "MARS-REGIONAL-COLOR-Vo-Fl-Ts"
INSTRUMENT_HOST_ID = MEX
INSTRUMENT_HOST_NAME = "MARS EXPRESS"
INSTRUMENT_ID = HRSC
INSTRUMENT_NAME = "HIGH RESOLUTION STEREO CAMERA"
MISSION_NAME = "MARS EXPRESS"
MISSION_PHASE_NAME = ME_Phase_3
PROCESSING_LEVEL_ID = 3
PRODUCT_CREATION_TIME = 2016-04-08T19:13:29.000Z
PRODUCT_ID = "H3069_0000_IR3.JP2"
RELEASE_ID = 0037
REVISION_ID = 0000
/* QUALITY DATA ELEMENTS */
DATA_QUALITY_ID = 2
DATA_QUALITY_DESC = "Data calculated based on photogrammetrically improved orbit and attitude data"
/* TIME DATA ELEMENTS */
SPACECRAFT_CLOCK_START_COUNT = "1/0097202166.09064"
SPACECRAFT_CLOCK_STOP_COUNT = "1/0097202405.39973"
START_TIME = 2006-06-01T00:36:19.073Z
STOP_TIME = 2006-06-01T00:39:13.906Z
/* ORBITAL DATA ELEMENTS */
ASCENDING_NODE_LONGITUDE = 163.85
MAXIMUM_RESOLUTION = 57.7
FOOTPRINT_POINT_LATITUDE = (25.0443,25.0374,25.0298,25.0214, 25.0123,25.0023,24.9916,24.629,24.4015, 24.1761,23.949,23.7212,23.4967,23.2789, 23.0559,22.8331,22.5055,22.2867,22.0669 ,21.8481,21.6336,21.4195,21.0963, 20.8802,20.6636,20.4468,20.1226,19.7972 ,19.579,19.252,19.0352,18.8165,18.5981, 18.379,18.1594,17.9395,17.7196,17.4002, 17.1222,16.9368,16.7512,16.5659,16.3792 ,16.193,16.0065,15.8193,15.6331,15.4464 ,15.2592,15.0719,14.7904,14.5087,14.445 ,14.4566,14.4647,14.475,14.5744,14.7628 ,15.044,15.3251,15.5139,15.7018,15.8878 ,16.0742,16.3539,16.5414,16.9069, 17.0933,17.2855,17.4693,17.7925,18.1221 ,18.342,18.6718,18.999,19.2174,19.4356, 19.6534,19.9801,20.1976,20.4142,20.739, 20.956,21.2802,21.4935,21.7078,21.9221, 22.2517,22.4718,22.8023,23.0247,23.2486 ,23.4721,23.6949,23.9199,24.1478, 24.3748,24.6009,24.8313,25.0443)
FOOTPRINT_POINT_LONGITUDE = (71.9919,71.7407,71.4879,71.2336,70.978 ,70.7207,70.4615,70.4142,70.4228, 70.4327,70.4416,70.4497,70.4565,70.4683 ,70.4765,70.4849,70.4963,70.5039, 70.5108,70.5176,70.5243,70.5315,70.5411 ,70.5472,70.5532,70.559,70.569,70.5784, 70.5838,70.5926,70.5996,70.6053,70.6113 ,70.617,70.6225,70.6278,70.6333,70.6407 ,70.6469,70.6511,70.6553,70.6598, 70.6634,70.6673,70.6712,70.6747,70.679, 70.683,70.6868,70.6906,70.6961,70.7015, 70.8937,71.2139,71.4601,71.7964,71.9621 ,71.9643,71.9677,71.971,71.9733,71.9756 ,71.9779,71.9803,71.9838,71.9862, 71.9911,71.9935,71.9959,71.9984,72.0028 ,72.0073,72.0104,72.015,72.0197,72.0229 ,72.0261,72.0293,72.0341,72.0374, 72.0407,72.0457,72.049,72.054,72.0576, 72.061,72.0645,72.0699,72.0734,72.0788, 72.0825,72.0863,72.0901,72.094,72.098, 72.102,72.1061,72.1103,72.1145,71.9919)
ORBIT_NUMBER = 3069
ORBITAL_ECCENTRICITY = 0.572
ORBITAL_INCLINATION = 86.65
ORBITAL_SEMIMAJOR_AXIS = 8629.83
PERIAPSIS_ALTITUDE = 298.93
PERIAPSIS_ARGUMENT_ANGLE = 178.9
PERIAPSIS_TIME = 2006-06-01T00:43:02.000Z
SPACECRAFT_ORIENTATION = (0.0,-1.0,0.0)
^MEX_ORIENTATION_DESC = "MEX_ORIENTATION_DESC.TXT"
SPACECRAFT_POINTING_MODE = ACROSSTRACK
^MEX_POINTING_DESC = "MEX_POINTING_DESC.TXT"
RIGHT_ASCENSION = -1e+32
DECLINATION = -1e+32
OFFSET_ANGLE = -0.6
SPACECRAFT_SOLAR_DISTANCE = 2.48769e+08
TARGET_NAME = MARS
/* CAMERA DATA ELEMENTS */
DETECTOR_TEMPERATURE = 18.5744
FOCAL_PLANE_TEMPERATURE = 8.3794
INST_CMPRS_NAME = "DISCRETE COSINE TRANSFORMATION (DCT)"
INST_CMPRS_RATIO = 12.0092
INST_CMPRS_QUALITY = 0
INST_CMPRS_QUANTZ_TBL_ID = 0
INSTRUMENT_TEMPERATURE = 11.0301
LENS_TEMPERATURE = 8.7872
MACROPIXEL_SIZE = 4
MISSING_FRAMES = 0
PIXEL_SUBSAMPLING_FLAG = N
SIGNAL_CHAIN_ID = 2
/* RADIOMETRIC DATA ELEMENTS */
BANDWIDTH = 81.0
CENTER_FILTER_WAVELENGTH = 955.5
RADIANCE_OFFSET = 0.292566
RADIANCE_SCALING_FACTOR = 0.00540879
REFLECTANCE_SCALING_FACTOR = 0.000722133
MEX:REFLECTANCE_OFFSET = 0.0390608
/* IMAGE OBJECT DEFINITIONS */
OBJECT = IMAGE
  INTERCHANGE_FORMAT = BINARY
  LINES = 12519
  LINE_SAMPLES = 1844
  SAMPLE_TYPE = UNSIGNED_INTEGER
  SAMPLE_BITS = 8
  BANDS = 1
  BAND_STORAGE_TYPE = BAND_SEQUENTIAL
  MAXIMUM = 255
  MEAN = 90.9236
  MINIMUM = 1
  STANDARD_DEVIATION = 46.0729
END_OBJECT = IMAGE
/* MAP OBJECT DEFINITIONS */
OBJECT = IMAGE_MAP_PROJECTION
  ^DATA_SET_MAP_PROJECTION_CATALOG= "DSMAP.CAT"
  A_AXIS_RADIUS = 3396.0
  B_AXIS_RADIUS = 3396.0
  C_AXIS_RADIUS = 3396.0
  CENTER_LATITUDE = 0.0
  CENTER_LONGITUDE = 71.0
  COORDINATE_SYSTEM_NAME = PLANETOGRAPHIC
  COORDINATE_SYSTEM_TYPE = "BODY-FIXED ROTATING"
  EASTERNMOST_LONGITUDE = 72.11450000000001
  FIRST_STANDARD_PARALLEL = "N/A"
  LINE_FIRST_PIXEL = 1
  LINE_LAST_PIXEL = 12519
  LINE_PROJECTION_OFFSET = 29672.375
  MAP_PROJECTION_ROTATION = 0.0
  MAP_PROJECTION_TYPE = SINUSOIDAL
  MAP_RESOLUTION = 1185.42760773333
  MAP_SCALE = 0.05
  MAXIMUM_LATITUDE = 25.0443
  MINIMUM_LATITUDE = 14.445
  POSITIVE_LONGITUDE_DIRECTION = EAST
  REFERENCE_LATITUDE = "N/A"
  REFERENCE_LONGITUDE = "N/A"
  SAMPLE_FIRST_PIXEL = 1
  SAMPLE_LAST_PIXEL = 1844
  SAMPLE_PROJECTION_OFFSET = 682.125
  SECOND_STANDARD_PARALLEL = "N/A"
  WESTERNMOST_LONGITUDE = 70.41419999999999
END_OBJECT = IMAGE_MAP_PROJECTION
/* The JPEG2000 image data file associated with this label. */
OBJECT = COMPRESSED_FILE
  FILE_NAME = "H3069_0000_IR3.JP2"
  RECORD_TYPE = UNDEFINED
  FILE_RECORDS = UNK
  ENCODING_TYPE = "JP2"
  INTERCHANGE_FORMAT = BINARY
  UNCOMPRESSED_FILE_NAME = "H3069_0000_IR3.IMG"
  REQUIRED_STORAGE_BYTES = "23105320"
  ^DESCRIPTION = "JP2INFO.TXT"
END_OBJECT = COMPRESSED_FILE
END
