PDS_VERSION_ID = PDS3
/* FILE DATA ELEMENTS */
RECORD_TYPE = STREAM
/* POINTERS TO DATA OBJECTS */
^COMPRESSED_FILE = "H3076_0000_S23.JP2"
/* IDENTIFICATION DATA ELEMENTS */
DATA_SET_ID = "MEX-M-HRSC-5-REFDR-MAPPROJECTED-V3.0"
DATA_SET_NAME = "MARS EXPRESS HRSC MAP PROJECTED REFDR V3.0"
DETECTOR_ID = MEX_HRSC_S2
EVENT_TYPE = "MARS-REGIONAL-STEREO-Te-Pf"
INSTRUMENT_HOST_ID = MEX
INSTRUMENT_HOST_NAME = "MARS EXPRESS"
INSTRUMENT_ID = HRSC
INSTRUMENT_NAME = "HIGH RESOLUTION STEREO CAMERA"
MISSION_NAME = "MARS EXPRESS"
MISSION_PHASE_NAME = ME_Phase_3
PROCESSING_LEVEL_ID = 3
PRODUCT_CREATION_TIME = 2016-04-08T19:13:29.000Z
PRODUCT_ID = "H3076_0000_S23.JP2"
RELEASE_ID = 0037
REVISION_ID = 0000
/* QUALITY DATA ELEMENTS */
DATA_QUALITY_ID = 2
DATA_QUALITY_DESC = "Data calculated based on photogrammetrically improved orbit and attitude data"
/* TIME DATA ELEMENTS */
SPACECRAFT_CLOCK_START_COUNT = "1/0097371600.08265"
SPACECRAFT_CLOCK_STOP_COUNT = "1/0097371875.16362"
START_TIME = 2006-06-02T23:41:11.609Z
STOP_TIME = 2006-06-02T23:44:38.621Z
/* ORBITAL DATA ELEMENTS */
ASCENDING_NODE_LONGITUDE = 163.7
MAXIMUM_RESOLUTION = 25.7
FOOTPRINT_POINT_LATITUDE = (19.7718,19.7656,19.7594,19.7532, 19.7472,19.7413,19.4711,19.1712,18.8712 ,18.4211,18.1205,17.6741,17.2376, 16.9469,16.655,16.2175,15.9262,15.6379, 15.3569,14.9359,14.513,14.2318,13.9501, 13.6688,13.3882,13.1077,12.8363,12.5647 ,12.1558,11.7503,11.4792,11.2073, 10.7996,10.5267,10.1198,9.84814,9.58025 ,9.3164,9.05539,8.79322,8.53365,8.27338 ,8.00961,7.61973,7.35862,7.09907, 6.84279,6.58339,6.32403,5.93488,5.93235 ,5.93745,5.94766,5.95599,5.96249, 6.22123,6.48066,6.73909,6.99786,7.25827 ,7.51782,7.90699,8.16735,8.55758, 8.81763,9.07837,9.34061,9.74409,10.1499 ,10.4208,10.8265,11.0982,11.5005, 11.7836,12.1916,12.5919,12.8625,13.1329 ,13.4148,13.6965,14.1184,14.3998, 14.8219,15.1031,15.5248,15.8088,16.2457 ,16.537,16.9735,17.2658,17.5565,17.8481 ,18.1492,18.4495,18.5998,18.9002, 19.0507,19.3509,19.6509,19.7718)
FOOTPRINT_POINT_LONGITUDE = (105.122,104.916,104.711,104.508, 104.306,104.105,103.953,103.957,103.962 ,103.968,103.972,103.977,103.982, 103.986,103.989,103.993,103.996,103.999 ,104.002,104.005,104.009,104.011, 104.013,104.015,104.017,104.019,104.021 ,104.022,104.025,104.027,104.028, 104.029,104.031,104.032,104.033,104.034 ,104.035,104.035,104.036,104.037, 104.037,104.037,104.038,104.038,104.038 ,104.038,104.038,104.038,104.038, 104.038,104.274,104.429,104.722,104.954 ,105.118,105.12,105.121,105.122,105.123 ,105.126,105.127,105.13,105.132,105.135 ,105.137,105.139,105.142,105.146,105.15 ,105.152,105.156,105.159,105.161, 105.171,105.176,105.177,105.18,105.183, 105.188,105.191,105.197,105.201,105.206 ,105.21,105.216,105.22,105.227,105.232, 105.238,105.243,105.248,105.253,105.258 ,105.263,105.265,105.27,105.273,105.278 ,105.283,105.122)
ORBIT_NUMBER = 3076
ORBITAL_ECCENTRICITY = 0.572
ORBITAL_INCLINATION = 86.63
ORBITAL_SEMIMAJOR_AXIS = 8629.29
PERIAPSIS_ALTITUDE = 299.73
PERIAPSIS_ARGUMENT_ANGLE = 177.63
PERIAPSIS_TIME = 2006-06-02T23:45:06.000Z
SPACECRAFT_ORIENTATION = (0.0,-1.0,0.0)
^MEX_ORIENTATION_DESC = "MEX_ORIENTATION_DESC.TXT"
SPACECRAFT_POINTING_MODE = ACROSSTRACK
^MEX_POINTING_DESC = "MEX_POINTING_DESC.TXT"
RIGHT_ASCENSION = -1e+32
DECLINATION = -1e+32
OFFSET_ANGLE = 0.5
SPACECRAFT_SOLAR_DISTANCE = 2.48839e+08
TARGET_NAME = MARS
/* CAMERA DATA ELEMENTS */
DETECTOR_TEMPERATURE = 18.5744
FOCAL_PLANE_TEMPERATURE = 7.9716
INST_CMPRS_NAME = "DISCRETE COSINE TRANSFORMATION (DCT)"
INST_CMPRS_RATIO = 8.18127
INST_CMPRS_QUALITY = 0
INST_CMPRS_QUANTZ_TBL_ID = 0
INSTRUMENT_TEMPERATURE = 11.234
LENS_TEMPERATURE = 8.3794
MACROPIXEL_SIZE = 2
MISSING_FRAMES = 0
PIXEL_SUBSAMPLING_FLAG = N
SIGNAL_CHAIN_ID = 1
/* RADIOMETRIC DATA ELEMENTS */
BANDWIDTH = 178.0
CENTER_FILTER_WAVELENGTH = 679.0
RADIANCE_OFFSET = 2.47627
RADIANCE_SCALING_FACTOR = 0.0178985
REFLECTANCE_SCALING_FACTOR = 0.000586925
MEX:REFLECTANCE_OFFSET = 0.0812017
/* IMAGE OBJECT DEFINITIONS */
OBJECT = IMAGE
  INTERCHANGE_FORMAT = BINARY
  LINES = 32757
  LINE_SAMPLES = 3206
  SAMPLE_TYPE = UNSIGNED_INTEGER
  SAMPLE_BITS = 8
  BANDS = 1
  BAND_STORAGE_TYPE = BAND_SEQUENTIAL
  MAXIMUM = 255
  MEAN = 138.466
  MINIMUM = 1
  STANDARD_DEVIATION = 19.1477
END_OBJECT = IMAGE
/* MAP OBJECT DEFINITIONS */
OBJECT = IMAGE_MAP_PROJECTION
  ^DATA_SET_MAP_PROJECTION_CATALOG= "DSMAP.CAT"
  A_AXIS_RADIUS = 3396.0
  B_AXIS_RADIUS = 3396.0
  C_AXIS_RADIUS = 3396.0
  CENTER_LATITUDE = 0.0
  CENTER_LONGITUDE = 105.0
  COORDINATE_SYSTEM_NAME = PLANETOGRAPHIC
  COORDINATE_SYSTEM_TYPE = "BODY-FIXED ROTATING"
  EASTERNMOST_LONGITUDE = 105.283
  FIRST_STANDARD_PARALLEL = "N/A"
  LINE_FIRST_PIXEL = 1
  LINE_LAST_PIXEL = 32757
  LINE_PROJECTION_OFFSET = 46810.75
  MAP_PROJECTION_ROTATION = 0.0
  MAP_PROJECTION_TYPE = SINUSOIDAL
  MAP_RESOLUTION = 2370.85521546667
  MAP_SCALE = 0.025
  MAXIMUM_LATITUDE = 19.7718
  MINIMUM_LATITUDE = 5.93235
  POSITIVE_LONGITUDE_DIRECTION = EAST
  REFERENCE_LATITUDE = "N/A"
  REFERENCE_LONGITUDE = "N/A"
  SAMPLE_FIRST_PIXEL = 1
  SAMPLE_LAST_PIXEL = 3206
  SAMPLE_PROJECTION_OFFSET = 2408.75
  SECOND_STANDARD_PARALLEL = "N/A"
  WESTERNMOST_LONGITUDE = 103.953
END_OBJECT = IMAGE_MAP_PROJECTION
/* The JPEG2000 image data file associated with this label. */
OBJECT = COMPRESSED_FILE
  FILE_NAME = "H3076_0000_S23.JP2"
  RECORD_TYPE = UNDEFINED
  FILE_RECORDS = UNK
  ENCODING_TYPE = "JP2"
  INTERCHANGE_FORMAT = BINARY
  UNCOMPRESSED_FILE_NAME = "H3076_0000_S23.IMG"
  REQUIRED_STORAGE_BYTES = "105041384"
  ^DESCRIPTION = "JP2INFO.TXT"
END_OBJECT = COMPRESSED_FILE
END
