PDS_VERSION_ID = PDS3
/* FILE DATA ELEMENTS */
RECORD_TYPE = STREAM
/* POINTERS TO DATA OBJECTS */
^COMPRESSED_FILE = "H3079_0000_BL3.JP2"
/* IDENTIFICATION DATA ELEMENTS */
DATA_SET_ID = "MEX-M-HRSC-5-REFDR-MAPPROJECTED-V3.0"
DATA_SET_NAME = "MARS EXPRESS HRSC MAP PROJECTED REFDR V3.0"
DETECTOR_ID = MEX_HRSC_BLUE
EVENT_TYPE = "MARS-REGIONAL-MAPPING-Vo-Gl-Eo"
INSTRUMENT_HOST_ID = MEX
INSTRUMENT_HOST_NAME = "MARS EXPRESS"
INSTRUMENT_ID = HRSC
INSTRUMENT_NAME = "HIGH RESOLUTION STEREO CAMERA"
MISSION_NAME = "MARS EXPRESS"
MISSION_PHASE_NAME = ME_Phase_3
PROCESSING_LEVEL_ID = 3
PRODUCT_CREATION_TIME = 2016-04-08T19:13:29.000Z
PRODUCT_ID = "H3079_0000_BL3.JP2"
RELEASE_ID = 0037
REVISION_ID = 0000
/* QUALITY DATA ELEMENTS */
DATA_QUALITY_ID = 2
DATA_QUALITY_DESC = "Data calculated based on photogrammetrically improved orbit and attitude data"
/* TIME DATA ELEMENTS */
SPACECRAFT_CLOCK_START_COUNT = "1/0097444431.08412"
SPACECRAFT_CLOCK_STOP_COUNT = "1/0097444673.58394"
START_TIME = 2006-06-03T19:54:28.093Z
STOP_TIME = 2006-06-03T19:57:31.464Z
/* ORBITAL DATA ELEMENTS */
ASCENDING_NODE_LONGITUDE = 163.63
MAXIMUM_RESOLUTION = 97.6
FOOTPRINT_POINT_LATITUDE = (3.65243,3.65575,3.65909,3.66244,3.3198 ,3.08868,2.85759,2.62653,2.39549, 2.16448,1.93352,1.70259,1.4717,1.24085, 1.01006,0.779302,0.548573,0.0873916, -0.373601,-0.61055,-0.849398,-1.08818, -1.32688,-1.56549,-1.80403,-2.04248, -2.28084,-2.5191,-2.75726,-2.99538, -3.23334,-3.47121,-3.70892,-4.0654, -4.30291,-4.54031,-4.78476,-5.03043, -5.27596,-5.64378,-5.88902,-6.13371, -6.37844,-6.62313,-6.86758,-7.11179, -7.36062,-7.61302,-7.86524,-8.34586, -8.34933,-8.35333,-8.3561,-8.2319, -7.85386,-7.60171,-7.34926,-7.1008, -6.85653,-6.61215,-6.36758,-6.12281, -5.878,-5.6329,-5.38756,-5.14212, -4.89656,-4.53005,-4.29261,-4.05501, -3.81734,-3.5797,-3.34186,-2.98481, -2.7467,-2.50844,-2.27013,-2.0317, -1.7932,-1.55461,-1.31593,-1.07716, -0.838319,-0.599402,-0.363241,0.0978707 ,0.559227,0.789989,1.02081,1.25167, 1.48258,1.71354,1.94454,2.17557,2.40664 ,2.63775,2.86889,3.10007,3.33127, 3.65243)
FOOTPRINT_POINT_LONGITUDE = (169.156,168.844,168.528,168.206, 168.084,168.084,168.083,168.083,168.082 ,168.082,168.081,168.08,168.079,168.079 ,168.078,168.077,168.076,168.074, 168.071,168.07,168.068,168.067,168.065, 168.064,168.062,168.06,168.059,168.057, 168.055,168.053,168.051,168.049,168.047 ,168.044,168.042,168.04,168.037,168.035 ,168.033,168.029,168.027,168.023, 168.021,168.018,168.015,168.012,168.007 ,168.004,168.001,167.995,168.263, 168.595,168.848,169.168,169.166,169.165 ,169.163,169.162,169.161,169.16,169.159 ,169.158,169.157,169.156,169.155, 169.154,169.154,169.153,169.152,169.151 ,169.151,169.15,169.15,169.149,169.149, 169.149,169.149,169.148,169.148,169.148 ,169.148,169.148,169.148,169.148, 169.148,169.148,169.149,169.149,169.149 ,169.15,169.15,169.15,169.151,169.151, 169.152,169.152,169.153,169.153,169.154 ,169.156)
ORBIT_NUMBER = 3079
ORBITAL_ECCENTRICITY = 0.571
ORBITAL_INCLINATION = 86.64
ORBITAL_SEMIMAJOR_AXIS = 8619.94
PERIAPSIS_ALTITUDE = 300.69
PERIAPSIS_ARGUMENT_ANGLE = 177.11
PERIAPSIS_TIME = 2006-06-03T19:54:35.000Z
SPACECRAFT_ORIENTATION = (0.0,-1.0,0.0)
^MEX_ORIENTATION_DESC = "MEX_ORIENTATION_DESC.TXT"
SPACECRAFT_POINTING_MODE = ACROSSTRACK
^MEX_POINTING_DESC = "MEX_POINTING_DESC.TXT"
RIGHT_ASCENSION = -1e+32
DECLINATION = -1e+32
OFFSET_ANGLE = -0.6
SPACECRAFT_SOLAR_DISTANCE = 2.48867e+08
TARGET_NAME = MARS
/* CAMERA DATA ELEMENTS */
DETECTOR_TEMPERATURE = 18.3705
FOCAL_PLANE_TEMPERATURE = 9.3989
INST_CMPRS_NAME = "DISCRETE COSINE TRANSFORMATION (DCT)"
INST_CMPRS_RATIO = 14.783
INST_CMPRS_QUALITY = 0
INST_CMPRS_QUANTZ_TBL_ID = 0
INSTRUMENT_TEMPERATURE = 11.234
LENS_TEMPERATURE = 8.3794
MACROPIXEL_SIZE = 8
MISSING_FRAMES = 0
PIXEL_SUBSAMPLING_FLAG = N
SIGNAL_CHAIN_ID = 2
/* RADIOMETRIC DATA ELEMENTS */
BANDWIDTH = 76.0
CENTER_FILTER_WAVELENGTH = 444.0
RADIANCE_OFFSET = 0.311344
RADIANCE_SCALING_FACTOR = 0.00154655
REFLECTANCE_SCALING_FACTOR = 9.84133e-05
MEX:REFLECTANCE_OFFSET = 0.0198121
/* IMAGE OBJECT DEFINITIONS */
OBJECT = IMAGE
  INTERCHANGE_FORMAT = BINARY
  LINES = 7129
  LINE_SAMPLES = 737
  SAMPLE_TYPE = UNSIGNED_INTEGER
  SAMPLE_BITS = 8
  BANDS = 1
  BAND_STORAGE_TYPE = BAND_SEQUENTIAL
  MAXIMUM = 255
  MEAN = 166.406
  MINIMUM = 1
  STANDARD_DEVIATION = 19.6068
END_OBJECT = IMAGE
/* MAP OBJECT DEFINITIONS */
OBJECT = IMAGE_MAP_PROJECTION
  ^DATA_SET_MAP_PROJECTION_CATALOG= "DSMAP.CAT"
  A_AXIS_RADIUS = 3396.0
  B_AXIS_RADIUS = 3396.0
  C_AXIS_RADIUS = 3396.0
  CENTER_LATITUDE = 0.0
  CENTER_LONGITUDE = 169.0
  COORDINATE_SYSTEM_NAME = PLANETOGRAPHIC
  COORDINATE_SYSTEM_TYPE = "BODY-FIXED ROTATING"
  EASTERNMOST_LONGITUDE = 169.168
  FIRST_STANDARD_PARALLEL = "N/A"
  LINE_FIRST_PIXEL = 1
  LINE_LAST_PIXEL = 7129
  LINE_PROJECTION_OFFSET = 2177.4375
  MAP_PROJECTION_ROTATION = 0.0
  MAP_PROJECTION_TYPE = SINUSOIDAL
  MAP_RESOLUTION = 592.713803866667
  MAP_SCALE = 0.1
  MAXIMUM_LATITUDE = 3.66244
  MINIMUM_LATITUDE = -8.3561
  POSITIVE_LONGITUDE_DIRECTION = EAST
  REFERENCE_LATITUDE = "N/A"
  REFERENCE_LONGITUDE = "N/A"
  SAMPLE_FIRST_PIXEL = 1
  SAMPLE_LAST_PIXEL = 737
  SAMPLE_PROJECTION_OFFSET = 637.0625
  SECOND_STANDARD_PARALLEL = "N/A"
  WESTERNMOST_LONGITUDE = 167.995
END_OBJECT = IMAGE_MAP_PROJECTION
/* The JPEG2000 image data file associated with this label. */
OBJECT = COMPRESSED_FILE
  FILE_NAME = "H3079_0000_BL3.JP2"
  RECORD_TYPE = UNDEFINED
  FILE_RECORDS = UNK
  ENCODING_TYPE = "JP2"
  INTERCHANGE_FORMAT = BINARY
  UNCOMPRESSED_FILE_NAME = "H3079_0000_BL3.IMG"
  REQUIRED_STORAGE_BYTES = "5271761"
  ^DESCRIPTION = "JP2INFO.TXT"
END_OBJECT = COMPRESSED_FILE
END
