PDS_VERSION_ID = PDS3
/* FILE DATA ELEMENTS */
RECORD_TYPE = STREAM
/* POINTERS TO DATA OBJECTS */
^COMPRESSED_FILE = "H3081_0000_GR3.JP2"
/* IDENTIFICATION DATA ELEMENTS */
DATA_SET_ID = "MEX-M-HRSC-5-REFDR-MAPPROJECTED-V3.0"
DATA_SET_NAME = "MARS EXPRESS HRSC MAP PROJECTED REFDR V3.0"
DETECTOR_ID = MEX_HRSC_GREEN
EVENT_TYPE = "MARS-REGIONAL-MAPPING-Fl-Lc"
INSTRUMENT_HOST_ID = MEX
INSTRUMENT_HOST_NAME = "MARS EXPRESS"
INSTRUMENT_ID = HRSC
INSTRUMENT_NAME = "HIGH RESOLUTION STEREO CAMERA"
MISSION_NAME = "MARS EXPRESS"
MISSION_PHASE_NAME = ME_Phase_3
PROCESSING_LEVEL_ID = 3
PRODUCT_CREATION_TIME = 2016-04-08T19:13:29.000Z
PRODUCT_ID = "H3081_0000_GR3.JP2"
RELEASE_ID = 0037
REVISION_ID = 0000
/* QUALITY DATA ELEMENTS */
DATA_QUALITY_ID = 2
DATA_QUALITY_DESC = "Data calculated based on photogrammetrically improved orbit and attitude data"
/* TIME DATA ELEMENTS */
SPACECRAFT_CLOCK_START_COUNT = "1/0097492568.08243"
SPACECRAFT_CLOCK_STOP_COUNT = "1/0097492749.57424"
START_TIME = 2006-06-04T09:16:41.350Z
STOP_TIME = 2006-06-04T09:18:41.245Z
/* ORBITAL DATA ELEMENTS */
ASCENDING_NODE_LONGITUDE = 163.6
MAXIMUM_RESOLUTION = 102.3
FOOTPRINT_POINT_LATITUDE = (18.904,18.9037,18.903,18.9022,18.9011, 18.8996,18.8122,18.6537,18.4156,18.1774 ,18.0184,17.8594,17.7003,17.541,17.3818 ,17.2224,17.0629,16.9033,16.7436, 16.5038,16.3439,16.1874,16.0325,15.8775 ,15.7225,15.5671,15.412,15.2567,15.1013 ,14.9458,14.7903,14.6346,14.4789, 14.2468,14.0205,13.7941,13.6431,13.4166 ,13.2655,13.0387,12.8118,12.5848, 12.3575,12.2061,12.0545,11.9028,11.7523 ,11.6061,11.3864,11.1514,11.1518,11.152 ,11.152,11.1518,11.1533,11.2999,11.4468 ,11.5934,11.7401,11.9662,12.1178, 12.2694,12.4967,12.6483,12.7996,12.9511 ,13.1023,13.3293,13.4804,13.6315, 13.7825,13.9333,14.1597,14.389,14.5448, 14.6994,14.8545,15.0101,15.2435,15.4773 ,15.6337,15.8663,16.0213,16.2538, 16.4925,16.6524,16.8123,16.9721,17.1317 ,17.2912,17.4507,17.6102,17.7695, 17.9287,18.0878,18.2468,18.4058,18.5646 ,18.7233,18.904)
FOOTPRINT_POINT_LONGITUDE = (333.071,332.879,332.637,332.443, 332.249,332.017,331.876,331.879,331.883 ,331.888,331.891,331.894,331.897,331.9, 331.903,331.905,331.908,331.911,331.914 ,331.917,331.92,331.922,331.925,331.927 ,331.93,331.931,331.934,331.936,331.938 ,331.94,331.943,331.944,331.946,331.949 ,331.951,331.953,331.955,331.957, 331.959,331.961,331.963,331.965,331.967 ,331.968,331.97,331.971,331.972,331.974 ,331.976,332.094,332.275,332.476, 332.655,332.94,333.104,333.106,333.107, 333.108,333.109,333.111,333.112,333.114 ,333.116,333.117,333.118,333.119, 333.121,333.123,333.124,333.126,333.127 ,333.129,333.131,333.133,333.135, 333.138,333.141,333.142,333.145,333.146 ,333.147,333.15,333.152,333.154,333.157 ,333.159,333.161,333.163,333.165, 333.167,333.169,333.171,333.173,333.175 ,333.177,333.179,333.181,333.183, 333.185,333.071)
ORBIT_NUMBER = 3081
ORBITAL_ECCENTRICITY = 0.571
ORBITAL_INCLINATION = 86.64
ORBITAL_SEMIMAJOR_AXIS = 8619.93
PERIAPSIS_ALTITUDE = 300.82
PERIAPSIS_ARGUMENT_ANGLE = 176.74
PERIAPSIS_TIME = 2006-06-04T09:20:46.000Z
SPACECRAFT_ORIENTATION = (0.0,-1.0,0.0)
^MEX_ORIENTATION_DESC = "MEX_ORIENTATION_DESC.TXT"
SPACECRAFT_POINTING_MODE = ACROSSTRACK
^MEX_POINTING_DESC = "MEX_POINTING_DESC.TXT"
RIGHT_ASCENSION = -1e+32
DECLINATION = -1e+32
OFFSET_ANGLE = -0.2
SPACECRAFT_SOLAR_DISTANCE = 2.48885e+08
TARGET_NAME = MARS
/* CAMERA DATA ELEMENTS */
DETECTOR_TEMPERATURE = 18.1666
FOCAL_PLANE_TEMPERATURE = 8.3794
INST_CMPRS_NAME = "DISCRETE COSINE TRANSFORMATION (DCT)"
INST_CMPRS_RATIO = 14.5774
INST_CMPRS_QUALITY = 0
INST_CMPRS_QUANTZ_TBL_ID = 0
INSTRUMENT_TEMPERATURE = 11.234
LENS_TEMPERATURE = 8.7872
MACROPIXEL_SIZE = 8
MISSING_FRAMES = 0
PIXEL_SUBSAMPLING_FLAG = N
SIGNAL_CHAIN_ID = 2
/* RADIOMETRIC DATA ELEMENTS */
BANDWIDTH = 88.0
CENTER_FILTER_WAVELENGTH = 538.0
RADIANCE_OFFSET = 1.17076
RADIANCE_SCALING_FACTOR = 0.00385335
REFLECTANCE_SCALING_FACTOR = 0.000205508
MEX:REFLECTANCE_OFFSET = 0.0624394
/* IMAGE OBJECT DEFINITIONS */
OBJECT = IMAGE
  INTERCHANGE_FORMAT = BINARY
  LINES = 4586
  LINE_SAMPLES = 774
  SAMPLE_TYPE = UNSIGNED_INTEGER
  SAMPLE_BITS = 8
  BANDS = 1
  BAND_STORAGE_TYPE = BAND_SEQUENTIAL
  MAXIMUM = 255
  MEAN = 137.278
  MINIMUM = 1
  STANDARD_DEVIATION = 25.2278
END_OBJECT = IMAGE
/* MAP OBJECT DEFINITIONS */
OBJECT = IMAGE_MAP_PROJECTION
  ^DATA_SET_MAP_PROJECTION_CATALOG= "DSMAP.CAT"
  A_AXIS_RADIUS = 3396.0
  B_AXIS_RADIUS = 3396.0
  C_AXIS_RADIUS = 3396.0
  CENTER_LATITUDE = 0.0
  CENTER_LONGITUDE = 333.0
  COORDINATE_SYSTEM_NAME = PLANETOGRAPHIC
  COORDINATE_SYSTEM_TYPE = "BODY-FIXED ROTATING"
  EASTERNMOST_LONGITUDE = 333.185
  FIRST_STANDARD_PARALLEL = "N/A"
  LINE_FIRST_PIXEL = 1
  LINE_LAST_PIXEL = 4586
  LINE_PROJECTION_OFFSET = 11206.9375
  MAP_PROJECTION_ROTATION = 0.0
  MAP_PROJECTION_TYPE = SINUSOIDAL
  MAP_RESOLUTION = 592.713803866667
  MAP_SCALE = 0.1
  MAXIMUM_LATITUDE = 18.904
  MINIMUM_LATITUDE = 11.1514
  POSITIVE_LONGITUDE_DIRECTION = EAST
  REFERENCE_LATITUDE = "N/A"
  REFERENCE_LONGITUDE = "N/A"
  SAMPLE_FIRST_PIXEL = 1
  SAMPLE_LAST_PIXEL = 774
  SAMPLE_PROJECTION_OFFSET = 658.3125
  SECOND_STANDARD_PARALLEL = "N/A"
  WESTERNMOST_LONGITUDE = 331.876
END_OBJECT = IMAGE_MAP_PROJECTION
/* The JPEG2000 image data file associated with this label. */
OBJECT = COMPRESSED_FILE
  FILE_NAME = "H3081_0000_GR3.JP2"
  RECORD_TYPE = UNDEFINED
  FILE_RECORDS = UNK
  ENCODING_TYPE = "JP2"
  INTERCHANGE_FORMAT = BINARY
  UNCOMPRESSED_FILE_NAME = "H3081_0000_GR3.IMG"
  REQUIRED_STORAGE_BYTES = "3568140"
  ^DESCRIPTION = "JP2INFO.TXT"
END_OBJECT = COMPRESSED_FILE
END
