PDS_VERSION_ID = PDS3
/* FILE DATA ELEMENTS */
RECORD_TYPE = STREAM
/* POINTERS TO DATA OBJECTS */
^COMPRESSED_FILE = "H3096_0000_IR3.JP2"
/* IDENTIFICATION DATA ELEMENTS */
DATA_SET_ID = "MEX-M-HRSC-5-REFDR-MAPPROJECTED-V3.0"
DATA_SET_NAME = "MARS EXPRESS HRSC MAP PROJECTED REFDR V3.0"
DETECTOR_ID = MEX_HRSC_IR
EVENT_TYPE = "MARS-REGIONAL-MAPPING-Fl-Gl-Eo"
INSTRUMENT_HOST_ID = MEX
INSTRUMENT_HOST_NAME = "MARS EXPRESS"
INSTRUMENT_ID = HRSC
INSTRUMENT_NAME = "HIGH RESOLUTION STEREO CAMERA"
MISSION_NAME = "MARS EXPRESS"
MISSION_PHASE_NAME = ME_Phase_3
PROCESSING_LEVEL_ID = 3
PRODUCT_CREATION_TIME = 2016-04-08T19:13:29.000Z
PRODUCT_ID = "H3096_0000_IR3.JP2"
RELEASE_ID = 0037
REVISION_ID = 0000
/* QUALITY DATA ELEMENTS */
DATA_QUALITY_ID = 2
DATA_QUALITY_DESC = "Data calculated based on photogrammetrically improved orbit and attitude data"
/* TIME DATA ELEMENTS */
SPACECRAFT_CLOCK_START_COUNT = "1/0097855608.08254"
SPACECRAFT_CLOCK_STOP_COUNT = "1/0097855822.00407"
START_TIME = 2006-06-08T14:06:58.239Z
STOP_TIME = 2006-06-08T14:09:33.451Z
/* ORBITAL DATA ELEMENTS */
ASCENDING_NODE_LONGITUDE = 163.27
MAXIMUM_RESOLUTION = 100.8
FOOTPRINT_POINT_LATITUDE = (8.254,8.24574,8.22765,8.02422,7.82532, 7.62636,7.42744,7.22829,7.02905,6.82995 ,6.63046,6.33127,6.13153,5.93171, 5.73258,5.53311,5.33363,5.13352,4.83319 ,4.63289,4.33261,4.13226,3.93175, 3.73108,3.53096,3.22864,3.02472,2.82846 ,2.62677,2.42548,2.12357,1.92225, 1.72101,1.4191,1.21791,0.915908, 0.713912,0.403148,0.194204,-0.119441, -0.328523,-0.537816,-0.747035,-0.956422 ,-1.16592,-1.48011,-1.6894,-2.00613, -2.00871,-2.01374,-2.0055,-1.99845, -1.78421,-1.57455,-1.36906,-1.05454, -0.843048,-0.63089,-0.310815,-0.100694, 0.109835,0.321881,0.53061,0.735631, 0.935835,1.13705,1.33816,1.63975, 1.84195,2.04335,2.24456,2.44516,2.74685 ,2.94856,3.14957,3.35047,3.5514,3.75183 ,3.9526,4.25365,4.45384,4.65428,4.85471 ,5.05494,5.25506,5.555,5.75478,5.95388, 6.1544,6.45498,6.65349,6.85261,7.05134, 7.251,7.45036,7.64944,7.84816,8.04706, 8.2505,8.254)
FOOTPRINT_POINT_LONGITUDE = (298.488,298.166,297.708,297.708, 297.709,297.71,297.71,297.711,297.712, 297.712,297.713,297.713,297.713,297.714 ,297.714,297.715,297.715,297.715, 297.715,297.715,297.715,297.715,297.715 ,297.715,297.715,297.714,297.711, 297.714,297.713,297.712,297.711,297.71, 297.71,297.709,297.708,297.707,297.705, 297.704,297.703,297.701,297.7,297.699, 297.698,297.696,297.695,297.692,297.691 ,297.687,297.901,298.184,298.531, 298.769,298.769,298.768,298.768,298.768 ,298.768,298.768,298.767,298.767, 298.767,298.767,298.767,298.767,298.767 ,298.767,298.768,298.768,298.768, 298.768,298.769,298.769,298.77,298.77, 298.77,298.771,298.771,298.771,298.772, 298.773,298.773,298.774,298.774,298.775 ,298.776,298.776,298.777,298.778, 298.779,298.78,298.78,298.781,298.782, 298.783,298.784,298.785,298.785,298.786 ,298.787,298.488)
ORBIT_NUMBER = 3096
ORBITAL_ECCENTRICITY = 0.571
ORBITAL_INCLINATION = 86.64
ORBITAL_SEMIMAJOR_AXIS = 8624.81
PERIAPSIS_ALTITUDE = 302.11
PERIAPSIS_ARGUMENT_ANGLE = 174.09
PERIAPSIS_TIME = 2006-06-08T14:07:56.000Z
SPACECRAFT_ORIENTATION = (0.0,-1.0,0.0)
^MEX_ORIENTATION_DESC = "MEX_ORIENTATION_DESC.TXT"
SPACECRAFT_POINTING_MODE = ACROSSTRACK
^MEX_POINTING_DESC = "MEX_POINTING_DESC.TXT"
RIGHT_ASCENSION = -1e+32
DECLINATION = -1e+32
OFFSET_ANGLE = -0.45
SPACECRAFT_SOLAR_DISTANCE = 2.49007e+08
TARGET_NAME = MARS
/* CAMERA DATA ELEMENTS */
DETECTOR_TEMPERATURE = 17.7588
FOCAL_PLANE_TEMPERATURE = 8.5833
INST_CMPRS_NAME = "DISCRETE COSINE TRANSFORMATION (DCT)"
INST_CMPRS_RATIO = 16.0708
INST_CMPRS_QUALITY = 0
INST_CMPRS_QUANTZ_TBL_ID = 0
INSTRUMENT_TEMPERATURE = 11.4379
LENS_TEMPERATURE = 8.7872
MACROPIXEL_SIZE = 8
MISSING_FRAMES = 0
PIXEL_SUBSAMPLING_FLAG = N
SIGNAL_CHAIN_ID = 2
/* RADIOMETRIC DATA ELEMENTS */
BANDWIDTH = 81.0
CENTER_FILTER_WAVELENGTH = 955.5
RADIANCE_OFFSET = 0.615032
RADIANCE_SCALING_FACTOR = 0.00504304
REFLECTANCE_SCALING_FACTOR = 0.000674595
MEX:REFLECTANCE_OFFSET = 0.0822712
/* IMAGE OBJECT DEFINITIONS */
OBJECT = IMAGE
  INTERCHANGE_FORMAT = BINARY
  LINES = 6088
  LINE_SAMPLES = 709
  SAMPLE_TYPE = UNSIGNED_INTEGER
  SAMPLE_BITS = 8
  BANDS = 1
  BAND_STORAGE_TYPE = BAND_SEQUENTIAL
  MAXIMUM = 255
  MEAN = 124.821
  MINIMUM = 1
  STANDARD_DEVIATION = 17.7423
END_OBJECT = IMAGE
/* MAP OBJECT DEFINITIONS */
OBJECT = IMAGE_MAP_PROJECTION
  ^DATA_SET_MAP_PROJECTION_CATALOG= "DSMAP.CAT"
  A_AXIS_RADIUS = 3396.0
  B_AXIS_RADIUS = 3396.0
  C_AXIS_RADIUS = 3396.0
  CENTER_LATITUDE = 0.0
  CENTER_LONGITUDE = 298.0
  COORDINATE_SYSTEM_NAME = PLANETOGRAPHIC
  COORDINATE_SYSTEM_TYPE = "BODY-FIXED ROTATING"
  EASTERNMOST_LONGITUDE = 298.787
  FIRST_STANDARD_PARALLEL = "N/A"
  LINE_FIRST_PIXEL = 1
  LINE_LAST_PIXEL = 6088
  LINE_PROJECTION_OFFSET = 4895.9375
  MAP_PROJECTION_ROTATION = 0.0
  MAP_PROJECTION_TYPE = SINUSOIDAL
  MAP_RESOLUTION = 592.713803866667
  MAP_SCALE = 0.1
  MAXIMUM_LATITUDE = 8.254
  MINIMUM_LATITUDE = -2.01374
  POSITIVE_LONGITUDE_DIRECTION = EAST
  REFERENCE_LATITUDE = "N/A"
  REFERENCE_LONGITUDE = "N/A"
  SAMPLE_FIRST_PIXEL = 1
  SAMPLE_LAST_PIXEL = 709
  SAMPLE_PROJECTION_OFFSET = 243.1875
  SECOND_STANDARD_PARALLEL = "N/A"
  WESTERNMOST_LONGITUDE = 297.687
END_OBJECT = IMAGE_MAP_PROJECTION
/* The JPEG2000 image data file associated with this label. */
OBJECT = COMPRESSED_FILE
  FILE_NAME = "H3096_0000_IR3.JP2"
  RECORD_TYPE = UNDEFINED
  FILE_RECORDS = UNK
  ENCODING_TYPE = "JP2"
  INTERCHANGE_FORMAT = BINARY
  UNCOMPRESSED_FILE_NAME = "H3096_0000_IR3.IMG"
  REQUIRED_STORAGE_BYTES = "4334117"
  ^DESCRIPTION = "JP2INFO.TXT"
END_OBJECT = COMPRESSED_FILE
END
