PDS_VERSION_ID = PDS3
/* FILE DATA ELEMENTS */
RECORD_TYPE = STREAM
/* POINTERS TO DATA OBJECTS */
^COMPRESSED_FILE = "H3103_0000_P13.JP2"
/* IDENTIFICATION DATA ELEMENTS */
DATA_SET_ID = "MEX-M-HRSC-5-REFDR-MAPPROJECTED-V3.0"
DATA_SET_NAME = "MARS EXPRESS HRSC MAP PROJECTED REFDR V3.0"
DETECTOR_ID = MEX_HRSC_P1
EVENT_TYPE = "MARS-REGIONAL-MAPPING-Fl-Gl-Pf"
INSTRUMENT_HOST_ID = MEX
INSTRUMENT_HOST_NAME = "MARS EXPRESS"
INSTRUMENT_ID = HRSC
INSTRUMENT_NAME = "HIGH RESOLUTION STEREO CAMERA"
MISSION_NAME = "MARS EXPRESS"
MISSION_PHASE_NAME = ME_Phase_3
PROCESSING_LEVEL_ID = 3
PRODUCT_CREATION_TIME = 2016-04-08T23:06:02.000Z
PRODUCT_ID = "H3103_0000_P13.JP2"
RELEASE_ID = 0038
REVISION_ID = 0000
/* QUALITY DATA ELEMENTS */
DATA_QUALITY_ID = 2
DATA_QUALITY_DESC = "Data calculated based on photogrammetrically improved orbit and attitude data"
/* TIME DATA ELEMENTS */
SPACECRAFT_CLOCK_START_COUNT = "1/0098024585.07283"
SPACECRAFT_CLOCK_STOP_COUNT = "1/0098024787.47447"
START_TIME = 2006-06-10T13:03:25.927Z
STOP_TIME = 2006-06-10T13:05:38.207Z
/* ORBITAL DATA ELEMENTS */
ASCENDING_NODE_LONGITUDE = 163.13
MAXIMUM_RESOLUTION = 60.4
FOOTPRINT_POINT_LATITUDE = (30.5219,30.5199,30.5177,30.5156, 30.5121,30.5075,30.5038,30.2119,30.0446 ,29.8771,29.7095,29.5424,29.3785, 29.2145,29.0502,28.8857,28.7211,28.5583 ,28.3975,28.2365,28.0753,27.9139, 27.7522,27.592,27.2763,26.96,26.8016, 26.643,26.4841,26.3251,26.0859,25.9263, 25.7667,25.607,25.4471,25.287,25.1268, 24.9666,24.8061,24.6455,24.4852,24.3242 ,24.163,24.0018,23.759,23.5972,23.4359, 23.2741,23.0383,22.834,22.5614,22.4541, 22.4561,22.4577,22.4587,22.4592,22.4599 ,22.7328,23.0054,23.3156,23.4775, 23.7205,23.8822,24.0438,24.2052,24.3666 ,24.5277,24.6887,24.8496,25.0103, 25.1709,25.3313,25.4916,25.6517,25.8116 ,25.9713,26.1308,26.2903,26.4494, 26.6879,26.8466,27.0055,27.3223,27.6384 ,27.8805,28.0421,28.2843,28.4455, 28.6066,28.7707,28.9356,29.1829,29.3475 ,29.5117,29.7623,29.9303,30.098,30.2657 ,30.4331,30.5219)
FOOTPRINT_POINT_LONGITUDE = (331.475,331.099,330.854,330.658, 330.397,330.119,329.923,329.877,329.885 ,329.892,329.899,329.907,329.914, 329.921,329.927,329.934,329.941,329.947 ,329.954,329.96,329.966,329.972,329.979 ,329.984,329.996,330.007,330.013, 330.018,330.024,330.029,330.037,330.042 ,330.047,330.052,330.057,330.062, 330.067,330.072,330.076,330.081,330.086 ,330.091,330.095,330.1,330.106,330.11, 330.115,330.119,330.126,330.131,330.138 ,330.294,330.501,330.799,331.005, 331.303,331.527,331.531,331.535,331.539 ,331.542,331.545,331.548,331.55,331.552 ,331.555,331.557,331.56,331.562,331.565 ,331.567,331.57,331.572,331.575,331.577 ,331.58,331.583,331.585,331.588,331.592 ,331.595,331.597,331.602,331.608, 331.612,331.615,331.619,331.622,331.625 ,331.628,331.631,331.636,331.639, 331.642,331.646,331.65,331.653,331.656, 331.659,331.475)
ORBIT_NUMBER = 3103
ORBITAL_ECCENTRICITY = 0.571
ORBITAL_INCLINATION = 86.65
ORBITAL_SEMIMAJOR_AXIS = 8618.73
PERIAPSIS_ALTITUDE = 303.26
PERIAPSIS_ARGUMENT_ANGLE = 172.81
PERIAPSIS_TIME = 2006-06-10T13:09:53.000Z
SPACECRAFT_ORIENTATION = (0.0,-1.0,0.0)
^MEX_ORIENTATION_DESC = "MEX_ORIENTATION_DESC.TXT"
SPACECRAFT_POINTING_MODE = NADIR
^MEX_POINTING_DESC = "MEX_POINTING_DESC.TXT"
RIGHT_ASCENSION = -1e+32
DECLINATION = -1e+32
OFFSET_ANGLE = -1e+32
SPACECRAFT_SOLAR_DISTANCE = 2.49055e+08
TARGET_NAME = MARS
/* CAMERA DATA ELEMENTS */
DETECTOR_TEMPERATURE = 17.351
FOCAL_PLANE_TEMPERATURE = 8.3794
INST_CMPRS_NAME = "DISCRETE COSINE TRANSFORMATION (DCT)"
INST_CMPRS_RATIO = 14.4255
INST_CMPRS_QUALITY = 0
INST_CMPRS_QUANTZ_TBL_ID = 0
INSTRUMENT_TEMPERATURE = 11.0301
LENS_TEMPERATURE = 8.7872
MACROPIXEL_SIZE = 4
MISSING_FRAMES = 0
PIXEL_SUBSAMPLING_FLAG = N
SIGNAL_CHAIN_ID = 3
/* RADIOMETRIC DATA ELEMENTS */
BANDWIDTH = 174.0
CENTER_FILTER_WAVELENGTH = 675.0
RADIANCE_OFFSET = 2.75998
RADIANCE_SCALING_FACTOR = 0.0117705
REFLECTANCE_SCALING_FACTOR = 0.000392708
MEX:REFLECTANCE_OFFSET = 0.0920832
/* IMAGE OBJECT DEFINITIONS */
OBJECT = IMAGE
  INTERCHANGE_FORMAT = BINARY
  LINES = 9536
  LINE_SAMPLES = 1824
  SAMPLE_TYPE = UNSIGNED_INTEGER
  SAMPLE_BITS = 8
  BANDS = 1
  BAND_STORAGE_TYPE = BAND_SEQUENTIAL
  MAXIMUM = 255
  MEAN = 104.99
  MINIMUM = 1
  STANDARD_DEVIATION = 15.576
END_OBJECT = IMAGE
/* MAP OBJECT DEFINITIONS */
OBJECT = IMAGE_MAP_PROJECTION
  ^DATA_SET_MAP_PROJECTION_CATALOG= "DSMAP.CAT"
  A_AXIS_RADIUS = 3396.0
  B_AXIS_RADIUS = 3396.0
  C_AXIS_RADIUS = 3396.0
  CENTER_LATITUDE = 0.0
  CENTER_LONGITUDE = 331.0
  COORDINATE_SYSTEM_NAME = PLANETOGRAPHIC
  COORDINATE_SYSTEM_TYPE = "BODY-FIXED ROTATING"
  EASTERNMOST_LONGITUDE = 331.659
  FIRST_STANDARD_PARALLEL = "N/A"
  LINE_FIRST_PIXEL = 1
  LINE_LAST_PIXEL = 9536
  LINE_PROJECTION_OFFSET = 36168.125
  MAP_PROJECTION_ROTATION = 0.0
  MAP_PROJECTION_TYPE = SINUSOIDAL
  MAP_RESOLUTION = 1185.42760773333
  MAP_SCALE = 0.05
  MAXIMUM_LATITUDE = 30.5219
  MINIMUM_LATITUDE = 22.4541
  POSITIVE_LONGITUDE_DIRECTION = EAST
  REFERENCE_LATITUDE = "N/A"
  REFERENCE_LONGITUDE = "N/A"
  SAMPLE_FIRST_PIXEL = 1
  SAMPLE_LAST_PIXEL = 1824
  SAMPLE_PROJECTION_OFFSET = 1158.375
  SECOND_STANDARD_PARALLEL = "N/A"
  WESTERNMOST_LONGITUDE = 329.877
END_OBJECT = IMAGE_MAP_PROJECTION
/* The JPEG2000 image data file associated with this label. */
OBJECT = COMPRESSED_FILE
  FILE_NAME = "H3103_0000_P13.JP2"
  RECORD_TYPE = UNDEFINED
  FILE_RECORDS = UNK
  ENCODING_TYPE = "JP2"
  INTERCHANGE_FORMAT = BINARY
  UNCOMPRESSED_FILE_NAME = "H3103_0000_P13.IMG"
  REQUIRED_STORAGE_BYTES = "17413728"
  ^DESCRIPTION = "JP2INFO.TXT"
END_OBJECT = COMPRESSED_FILE
END
