PDS_VERSION_ID = PDS3
/* FILE DATA ELEMENTS */
RECORD_TYPE = STREAM
/* POINTERS TO DATA OBJECTS */
^COMPRESSED_FILE = "H3115_0000_BL3.JP2"
/* IDENTIFICATION DATA ELEMENTS */
DATA_SET_ID = "MEX-M-HRSC-5-REFDR-MAPPROJECTED-V3.0"
DATA_SET_NAME = "MARS EXPRESS HRSC MAP PROJECTED REFDR V3.0"
DETECTOR_ID = MEX_HRSC_BLUE
EVENT_TYPE = "MARS-REGIONAL-MAPPING-Vo-Fl-Mw"
INSTRUMENT_HOST_ID = MEX
INSTRUMENT_HOST_NAME = "MARS EXPRESS"
INSTRUMENT_ID = HRSC
INSTRUMENT_NAME = "HIGH RESOLUTION STEREO CAMERA"
MISSION_NAME = "MARS EXPRESS"
MISSION_PHASE_NAME = ME_Phase_3
PROCESSING_LEVEL_ID = 3
PRODUCT_CREATION_TIME = 2016-04-08T23:06:02.000Z
PRODUCT_ID = "H3115_0000_BL3.JP2"
RELEASE_ID = 0038
REVISION_ID = 0000
/* QUALITY DATA ELEMENTS */
DATA_QUALITY_ID = 2
DATA_QUALITY_DESC = "Data calculated based on photogrammetrically improved orbit and attitude data"
/* TIME DATA ELEMENTS */
SPACECRAFT_CLOCK_START_COUNT = "1/0098314942.09083"
SPACECRAFT_CLOCK_STOP_COUNT = "1/0098315222.57930"
START_TIME = 2006-06-13T21:43:09.063Z
STOP_TIME = 2006-06-13T21:46:43.821Z
/* ORBITAL DATA ELEMENTS */
ASCENDING_NODE_LONGITUDE = 162.88
MAXIMUM_RESOLUTION = 97.7
FOOTPRINT_POINT_LATITUDE = (26.8267,26.8232,26.8196,26.6752,26.386 ,26.0957,25.6611,25.2256,24.9351, 24.6443,24.353,24.0616,23.7698,23.4779, 23.1857,22.8933,22.6006,22.3076,21.8692 ,21.585,21.3007,21.016,20.7312,20.3039, 20.019,19.734,19.4584,19.1826,18.9067, 18.6311,18.2178,17.942,17.6659,17.3894, 17.1128,16.8406,16.5734,16.1725,15.9052 ,15.6378,15.3703,15.1028,14.8352, 14.5675,14.2998,14.0321,13.7643,13.4965 ,13.2287,12.7862,12.7871,12.7874, 12.7892,13.0572,13.3252,13.5931,13.861, 14.1289,14.3967,14.6645,14.9322,15.1999 ,15.6013,15.8689,16.1364,16.4038, 16.6712,16.9385,17.2142,17.4909,17.7674 ,18.0439,18.3203,18.5966,18.8727, 19.1488,19.4247,19.7005,20.1265,20.4116 ,20.6964,20.9811,21.2656,21.5499,21.834 ,22.1247,22.418,22.711,23.0037,23.4425, 23.8802,24.1718,24.6089,25.0456,25.3366 ,25.7729,26.0638,26.3538,26.6436, 26.8267)
FOOTPRINT_POINT_LONGITUDE = (232.289,231.785,231.416,231.185, 231.193,231.201,231.212,231.222,231.229 ,231.236,231.242,231.249,231.255, 231.261,231.267,231.272,231.278,231.284 ,231.292,231.297,231.302,231.307, 231.312,231.318,231.322,231.327,231.33, 231.334,231.337,231.34,231.344,231.347, 231.35,231.352,231.355,231.357,231.36, 231.363,231.365,231.367,231.369,231.371 ,231.372,231.374,231.375,231.376, 231.378,231.379,231.38,231.47,231.834, 232.077,232.462,232.464,232.465,232.467 ,232.469,232.47,232.472,232.474,232.476 ,232.478,232.481,232.483,232.485, 232.487,232.489,232.491,232.494,232.496 ,232.499,232.501,232.504,232.507, 232.509,232.512,232.515,232.518,232.523 ,232.526,232.529,232.533,232.536,232.54 ,232.543,232.547,232.55,232.554,232.557 ,232.563,232.567,232.57,232.575,232.58, 232.585,232.591,232.597,232.601,232.605 ,232.289)
ORBIT_NUMBER = 3115
ORBITAL_ECCENTRICITY = 0.571
ORBITAL_INCLINATION = 86.65
ORBITAL_SEMIMAJOR_AXIS = 8632.48
PERIAPSIS_ALTITUDE = 303.87
PERIAPSIS_ARGUMENT_ANGLE = 170.67
PERIAPSIS_TIME = 2006-06-13T21:47:32.000Z
SPACECRAFT_ORIENTATION = (0.0,-1.0,0.0)
^MEX_ORIENTATION_DESC = "MEX_ORIENTATION_DESC.TXT"
SPACECRAFT_POINTING_MODE = ACROSSTRACK
^MEX_POINTING_DESC = "MEX_POINTING_DESC.TXT"
RIGHT_ASCENSION = -1e+32
DECLINATION = -1e+32
OFFSET_ANGLE = 0.25
SPACECRAFT_SOLAR_DISTANCE = 2.49125e+08
TARGET_NAME = MARS
/* CAMERA DATA ELEMENTS */
DETECTOR_TEMPERATURE = 18.3705
FOCAL_PLANE_TEMPERATURE = 7.9716
INST_CMPRS_NAME = "DISCRETE COSINE TRANSFORMATION (DCT)"
INST_CMPRS_RATIO = 22.7779
INST_CMPRS_QUALITY = 0
INST_CMPRS_QUANTZ_TBL_ID = 0
INSTRUMENT_TEMPERATURE = 11.234
LENS_TEMPERATURE = 8.3794
MACROPIXEL_SIZE = 8
MISSING_FRAMES = 0
PIXEL_SUBSAMPLING_FLAG = N
SIGNAL_CHAIN_ID = 2
/* RADIOMETRIC DATA ELEMENTS */
BANDWIDTH = 76.0
CENTER_FILTER_WAVELENGTH = 444.0
RADIANCE_OFFSET = 0.42085
RADIANCE_SCALING_FACTOR = 0.00244897
REFLECTANCE_SCALING_FACTOR = 0.00015616
MEX:REFLECTANCE_OFFSET = 0.0268358
/* IMAGE OBJECT DEFINITIONS */
OBJECT = IMAGE
  INTERCHANGE_FORMAT = BINARY
  LINES = 8330
  LINE_SAMPLES = 806
  SAMPLE_TYPE = UNSIGNED_INTEGER
  SAMPLE_BITS = 8
  BANDS = 1
  BAND_STORAGE_TYPE = BAND_SEQUENTIAL
  MAXIMUM = 255
  MEAN = 126.104
  MINIMUM = 1
  STANDARD_DEVIATION = 26.5079
END_OBJECT = IMAGE
/* MAP OBJECT DEFINITIONS */
OBJECT = IMAGE_MAP_PROJECTION
  ^DATA_SET_MAP_PROJECTION_CATALOG= "DSMAP.CAT"
  A_AXIS_RADIUS = 3396.0
  B_AXIS_RADIUS = 3396.0
  C_AXIS_RADIUS = 3396.0
  CENTER_LATITUDE = 0.0
  CENTER_LONGITUDE = 232.0
  COORDINATE_SYSTEM_NAME = PLANETOGRAPHIC
  COORDINATE_SYSTEM_TYPE = "BODY-FIXED ROTATING"
  EASTERNMOST_LONGITUDE = 232.605
  FIRST_STANDARD_PARALLEL = "N/A"
  LINE_FIRST_PIXEL = 1
  LINE_LAST_PIXEL = 8330
  LINE_PROJECTION_OFFSET = 15908.9375
  MAP_PROJECTION_ROTATION = 0.0
  MAP_PROJECTION_TYPE = SINUSOIDAL
  MAP_RESOLUTION = 592.713803866667
  MAP_SCALE = 0.1
  MAXIMUM_LATITUDE = 26.8267
  MINIMUM_LATITUDE = 12.7862
  POSITIVE_LONGITUDE_DIRECTION = EAST
  REFERENCE_LATITUDE = "N/A"
  REFERENCE_LONGITUDE = "N/A"
  SAMPLE_FIRST_PIXEL = 1
  SAMPLE_LAST_PIXEL = 806
  SAMPLE_PROJECTION_OFFSET = 453.3125
  SECOND_STANDARD_PARALLEL = "N/A"
  WESTERNMOST_LONGITUDE = 231.185
END_OBJECT = IMAGE_MAP_PROJECTION
/* The JPEG2000 image data file associated with this label. */
OBJECT = COMPRESSED_FILE
  FILE_NAME = "H3115_0000_BL3.JP2"
  RECORD_TYPE = UNDEFINED
  FILE_RECORDS = UNK
  ENCODING_TYPE = "JP2"
  INTERCHANGE_FORMAT = BINARY
  UNCOMPRESSED_FILE_NAME = "H3115_0000_BL3.IMG"
  REQUIRED_STORAGE_BYTES = "6731712"
  ^DESCRIPTION = "JP2INFO.TXT"
END_OBJECT = COMPRESSED_FILE
END
