PDS_VERSION_ID = PDS3
/* FILE DATA ELEMENTS */
RECORD_TYPE = STREAM
/* POINTERS TO DATA OBJECTS */
^COMPRESSED_FILE = "H3115_0000_ND3.JP2"
/* IDENTIFICATION DATA ELEMENTS */
DATA_SET_ID = "MEX-M-HRSC-5-REFDR-MAPPROJECTED-V3.0"
DATA_SET_NAME = "MARS EXPRESS HRSC MAP PROJECTED REFDR V3.0"
DETECTOR_ID = MEX_HRSC_NADIR
EVENT_TYPE = "MARS-REGIONAL-MAPPING-Vo-Fl-Mw"
INSTRUMENT_HOST_ID = MEX
INSTRUMENT_HOST_NAME = "MARS EXPRESS"
INSTRUMENT_ID = HRSC
INSTRUMENT_NAME = "HIGH RESOLUTION STEREO CAMERA"
MISSION_NAME = "MARS EXPRESS"
MISSION_PHASE_NAME = ME_Phase_3
PROCESSING_LEVEL_ID = 3
PRODUCT_CREATION_TIME = 2016-04-08T23:06:02.000Z
PRODUCT_ID = "H3115_0000_ND3.JP2"
RELEASE_ID = 0038
REVISION_ID = 0000
/* QUALITY DATA ELEMENTS */
DATA_QUALITY_ID = 2
DATA_QUALITY_DESC = "Data calculated based on photogrammetrically improved orbit and attitude data"
/* TIME DATA ELEMENTS */
SPACECRAFT_CLOCK_START_COUNT = "1/0098314942.09083"
SPACECRAFT_CLOCK_STOP_COUNT = "1/0098315222.57930"
START_TIME = 2006-06-13T21:43:03.201Z
STOP_TIME = 2006-06-13T21:46:39.216Z
/* ORBITAL DATA ELEMENTS */
ASCENDING_NODE_LONGITUDE = 162.88
MAXIMUM_RESOLUTION = 12.2
FOOTPRINT_POINT_LATITUDE = (26.8403,26.8377,26.8329,26.5445, 26.2558,25.9667,25.6774,25.3878,25.0979 ,24.8076,24.5171,24.2263,23.9352, 23.4963,23.2045,22.9124,22.62,22.3274, 22.0346,21.7415,21.4525,21.1684,20.8841 ,20.5995,20.3148,20.0299,19.7447, 19.3203,19.0443,18.7681,18.4917,18.2152 ,17.9386,17.6618,17.3848,17.1077, 16.8305,16.5566,16.0207,15.4843,15.216, 14.9475,14.679,14.4104,14.1417,13.8729, 13.6041,13.3352,13.0662,12.7898,12.7898 ,12.789,13.0582,13.3272,13.5962,13.8652 ,14.1341,14.4029,14.6716,14.9402, 15.2088,15.4773,16.0139,16.5501,16.8238 ,17.1012,17.3785,17.6556,17.9326, 18.2094,18.4861,18.7627,19.0391,19.3153 ,19.7397,20.025,20.3101,20.595,20.8797, 21.1643,21.4486,21.7375,22.0308,22.3239 ,22.6167,22.9093,23.2016,23.4937,23.933 ,24.2243,24.5154,24.8062,25.0968,25.387 ,25.677,25.9667,26.2561,26.5451,26.8338 ,26.8403)
FOOTPRINT_POINT_LONGITUDE = (232.159,231.705,231.157,231.166, 231.174,231.182,231.189,231.196,231.203 ,231.21,231.217,231.224,231.23,231.24, 231.246,231.252,231.258,231.264,231.269 ,231.275,231.28,231.285,231.29,231.295, 231.3,231.304,231.309,231.315,231.318, 231.322,231.325,231.328,231.33,231.333, 231.336,231.339,231.341,231.344,231.348 ,231.352,231.354,231.356,231.358, 231.359,231.361,231.362,231.363,231.365 ,231.366,231.474,231.925,232.463, 232.465,232.466,232.468,232.47,232.471, 232.473,232.475,232.477,232.479,232.481 ,232.485,232.49,232.492,232.495,232.497 ,232.5,232.502,232.505,232.508,232.511, 232.514,232.517,232.521,232.524,232.528 ,232.531,232.535,232.538,232.542, 232.545,232.549,232.553,232.556,232.56, 232.563,232.567,232.572,232.575,232.578 ,232.582,232.586,232.59,232.594,232.601 ,232.605,232.609,232.613,232.159)
ORBIT_NUMBER = 3115
ORBITAL_ECCENTRICITY = 0.571
ORBITAL_INCLINATION = 86.65
ORBITAL_SEMIMAJOR_AXIS = 8632.48
PERIAPSIS_ALTITUDE = 303.87
PERIAPSIS_ARGUMENT_ANGLE = 170.67
PERIAPSIS_TIME = 2006-06-13T21:47:32.000Z
SPACECRAFT_ORIENTATION = (0.0,-1.0,0.0)
^MEX_ORIENTATION_DESC = "MEX_ORIENTATION_DESC.TXT"
SPACECRAFT_POINTING_MODE = ACROSSTRACK
^MEX_POINTING_DESC = "MEX_POINTING_DESC.TXT"
RIGHT_ASCENSION = -1e+32
DECLINATION = -1e+32
OFFSET_ANGLE = 0.25
SPACECRAFT_SOLAR_DISTANCE = 2.49125e+08
TARGET_NAME = MARS
/* CAMERA DATA ELEMENTS */
DETECTOR_TEMPERATURE = 18.3705
FOCAL_PLANE_TEMPERATURE = 7.9716
INST_CMPRS_NAME = "DISCRETE COSINE TRANSFORMATION (DCT)"
INST_CMPRS_RATIO = 7.12098
INST_CMPRS_QUALITY = 0
INST_CMPRS_QUANTZ_TBL_ID = 0
INSTRUMENT_TEMPERATURE = 11.234
LENS_TEMPERATURE = 8.3794
MACROPIXEL_SIZE = 1
MISSING_FRAMES = 1
PIXEL_SUBSAMPLING_FLAG = N
SIGNAL_CHAIN_ID = 0
/* RADIOMETRIC DATA ELEMENTS */
BANDWIDTH = 177.0
CENTER_FILTER_WAVELENGTH = 677.5
RADIANCE_OFFSET = 2.83172
RADIANCE_SCALING_FACTOR = 0.0273654
REFLECTANCE_SCALING_FACTOR = 0.000902236
MEX:REFLECTANCE_OFFSET = 0.0933618
/* IMAGE OBJECT DEFINITIONS */
OBJECT = IMAGE
  INTERCHANGE_FORMAT = BINARY
  LINES = 66637
  LINE_SAMPLES = 6445
  SAMPLE_TYPE = UNSIGNED_INTEGER
  SAMPLE_BITS = 8
  BANDS = 1
  BAND_STORAGE_TYPE = BAND_SEQUENTIAL
  MAXIMUM = 255
  MEAN = 130.942
  MINIMUM = 1
  STANDARD_DEVIATION = 22.5142
END_OBJECT = IMAGE
/* MAP OBJECT DEFINITIONS */
OBJECT = IMAGE_MAP_PROJECTION
  ^DATA_SET_MAP_PROJECTION_CATALOG= "DSMAP.CAT"
  A_AXIS_RADIUS = 3396.0
  B_AXIS_RADIUS = 3396.0
  C_AXIS_RADIUS = 3396.0
  CENTER_LATITUDE = 0.0
  CENTER_LONGITUDE = 232.0
  COORDINATE_SYSTEM_NAME = PLANETOGRAPHIC
  COORDINATE_SYSTEM_TYPE = "BODY-FIXED ROTATING"
  EASTERNMOST_LONGITUDE = 232.613
  FIRST_STANDARD_PARALLEL = "N/A"
  LINE_FIRST_PIXEL = 1
  LINE_LAST_PIXEL = 66637
  LINE_PROJECTION_OFFSET = 127275.0
  MAP_PROJECTION_ROTATION = 0.0
  MAP_PROJECTION_TYPE = SINUSOIDAL
  MAP_RESOLUTION = 4741.71043093333
  MAP_SCALE = 0.0125
  MAXIMUM_LATITUDE = 26.8403
  MINIMUM_LATITUDE = 12.789
  POSITIVE_LONGITUDE_DIRECTION = EAST
  REFERENCE_LATITUDE = "N/A"
  REFERENCE_LONGITUDE = "N/A"
  SAMPLE_FIRST_PIXEL = 1
  SAMPLE_LAST_PIXEL = 6445
  SAMPLE_PROJECTION_OFFSET = 3630.0
  SECOND_STANDARD_PARALLEL = "N/A"
  WESTERNMOST_LONGITUDE = 231.157
END_OBJECT = IMAGE_MAP_PROJECTION
/* The JPEG2000 image data file associated with this label. */
OBJECT = COMPRESSED_FILE
  FILE_NAME = "H3115_0000_ND3.JP2"
  RECORD_TYPE = UNDEFINED
  FILE_RECORDS = UNK
  ENCODING_TYPE = "JP2"
  INTERCHANGE_FORMAT = BINARY
  UNCOMPRESSED_FILE_NAME = "H3115_0000_ND3.IMG"
  REQUIRED_STORAGE_BYTES = "429507690"
  ^DESCRIPTION = "JP2INFO.TXT"
END_OBJECT = COMPRESSED_FILE
END
