PDS_VERSION_ID = PDS3
/* FILE DATA ELEMENTS */
RECORD_TYPE = STREAM
/* POINTERS TO DATA OBJECTS */
^COMPRESSED_FILE = "H3117_0000_RE3.JP2"
/* IDENTIFICATION DATA ELEMENTS */
DATA_SET_ID = "MEX-M-HRSC-5-REFDR-MAPPROJECTED-V3.0"
DATA_SET_NAME = "MARS EXPRESS HRSC MAP PROJECTED REFDR V3.0"
DETECTOR_ID = MEX_HRSC_RED
EVENT_TYPE = "MARS-REGIONAL-MAPPING-Im-Fl-La"
INSTRUMENT_HOST_ID = MEX
INSTRUMENT_HOST_NAME = "MARS EXPRESS"
INSTRUMENT_ID = HRSC
INSTRUMENT_NAME = "HIGH RESOLUTION STEREO CAMERA"
MISSION_NAME = "MARS EXPRESS"
MISSION_PHASE_NAME = ME_Phase_3
PROCESSING_LEVEL_ID = 3
PRODUCT_CREATION_TIME = 2016-04-08T23:06:02.000Z
PRODUCT_ID = "H3117_0000_RE3.JP2"
RELEASE_ID = 0038
REVISION_ID = 0000
/* QUALITY DATA ELEMENTS */
DATA_QUALITY_ID = 1
DATA_QUALITY_DESC = "Data calculated based on original SPICE kernels"
/* TIME DATA ELEMENTS */
SPACECRAFT_CLOCK_START_COUNT = "1/0098363377.07302"
SPACECRAFT_CLOCK_STOP_COUNT = "1/0098363541.38105"
START_TIME = 2006-06-14T11:10:41.425Z
STOP_TIME = 2006-06-14T11:12:20.046Z
/* ORBITAL DATA ELEMENTS */
ASCENDING_NODE_LONGITUDE = 162.83
MAXIMUM_RESOLUTION = 105.7
FOOTPRINT_POINT_LATITUDE = (23.8711,23.8628,23.8546,23.8464, 23.8382,23.83,23.7711,23.6372,23.5039, 23.3742,23.2421,23.0401,22.9048,22.7692 ,22.5762,22.3826,22.2533,22.1236, 21.9942,21.8644,21.7341,21.6018,21.4053 ,21.2755,21.1466,21.0183,20.8893, 20.7607,20.6313,20.5008,20.3722,20.2471 ,20.1221,19.9973,19.8105,19.6258, 19.3761,19.2507,19.1254,19.0005,18.8135 ,18.623,18.4357,18.1868,17.9997,17.8124 ,17.6874,17.5005,17.2879,17.297,17.3035 ,17.3107,17.3209,17.3293,17.4597, 17.5852,17.8332,17.9583,18.0839,18.2089 ,18.3341,18.5836,18.7087,18.8342, 18.9594,19.0843,19.2095,19.3349,19.4601 ,19.5852,19.7754,19.9636,20.1494, 20.2743,20.3995,20.5278,20.6573,20.7866 ,20.9159,21.0458,21.2424,21.3734, 21.5007,21.6946,21.8242,21.9535,22.0809 ,22.2104,22.3399,22.534,22.6636,22.7935 ,22.9934,23.1273,23.2619,23.3963, 23.5301,23.6643,23.7983,23.8711)
FOOTPRINT_POINT_LONGITUDE = (36.4873,36.2859,36.0866,35.8894, 35.6945,35.5013,35.3313,35.3331,35.335, 35.3375,35.3395,35.342,35.3434,35.3447, 35.3473,35.3498,35.3513,35.3528,35.3543 ,35.3557,35.357,35.3579,35.3596,35.3609 ,35.3623,35.3638,35.3652,35.3666, 35.3678,35.3688,35.3701,35.3713,35.3724 ,35.3735,35.3753,35.3773,35.3794, 35.3803,35.3812,35.3822,35.3837,35.3844 ,35.3857,35.3875,35.3888,35.3899, 35.3906,35.3918,35.5091,35.7575,35.9322 ,36.0983,36.3228,36.5049,36.572,36.5737 ,36.5745,36.5758,36.5777,36.579,36.5804 ,36.5826,36.5841,36.5858,36.5873, 36.5886,36.5901,36.5918,36.5934,36.5948 ,36.5995,36.6022,36.6027,36.6041, 36.6057,36.6075,36.6091,36.6107,36.6122 ,36.6142,36.6191,36.6223,36.6219, 36.6244,36.6262,36.6279,36.6277,36.6296 ,36.6315,36.6342,36.6362,36.6385, 36.6421,36.6443,36.6472,36.6498,36.6519 ,36.6544,36.6567,36.4873)
ORBIT_NUMBER = 3117
ORBITAL_ECCENTRICITY = 0.571
ORBITAL_INCLINATION = 86.64
ORBITAL_SEMIMAJOR_AXIS = 8626.55
PERIAPSIS_ALTITUDE = 305.03
PERIAPSIS_ARGUMENT_ANGLE = 170.33
PERIAPSIS_TIME = 2006-06-14T11:13:53.000Z
SPACECRAFT_ORIENTATION = (0.0,-1.0,0.0)
^MEX_ORIENTATION_DESC = "MEX_ORIENTATION_DESC.TXT"
SPACECRAFT_POINTING_MODE = ACROSSTRACK
^MEX_POINTING_DESC = "MEX_POINTING_DESC.TXT"
RIGHT_ASCENSION = -1e+32
DECLINATION = -1e+32
OFFSET_ANGLE = 0.82
SPACECRAFT_SOLAR_DISTANCE = 2.49134e+08
TARGET_NAME = MARS
/* CAMERA DATA ELEMENTS */
DETECTOR_TEMPERATURE = 18.3705
FOCAL_PLANE_TEMPERATURE = 7.9716
INST_CMPRS_NAME = "DISCRETE COSINE TRANSFORMATION (DCT)"
INST_CMPRS_RATIO = 14.1099
INST_CMPRS_QUALITY = 0
INST_CMPRS_QUANTZ_TBL_ID = 0
INSTRUMENT_TEMPERATURE = 11.0301
LENS_TEMPERATURE = 8.3794
MACROPIXEL_SIZE = 8
MISSING_FRAMES = 0
PIXEL_SUBSAMPLING_FLAG = N
SIGNAL_CHAIN_ID = 2
/* RADIOMETRIC DATA ELEMENTS */
BANDWIDTH = 48.0
CENTER_FILTER_WAVELENGTH = 748.0
RADIANCE_OFFSET = 1.28298
RADIANCE_SCALING_FACTOR = 0.00525999
REFLECTANCE_SCALING_FACTOR = 0.000745038
MEX:REFLECTANCE_OFFSET = 0.181724
/* IMAGE OBJECT DEFINITIONS */
OBJECT = IMAGE
  INTERCHANGE_FORMAT = BINARY
  LINES = 3895
  LINE_SAMPLES = 788
  SAMPLE_TYPE = UNSIGNED_INTEGER
  SAMPLE_BITS = 8
  BANDS = 1
  BAND_STORAGE_TYPE = BAND_SEQUENTIAL
  MAXIMUM = 255
  MEAN = 119.243
  MINIMUM = 1
  STANDARD_DEVIATION = 18.4881
END_OBJECT = IMAGE
/* MAP OBJECT DEFINITIONS */
OBJECT = IMAGE_MAP_PROJECTION
  ^DATA_SET_MAP_PROJECTION_CATALOG= "DSMAP.CAT"
  A_AXIS_RADIUS = 3396.0
  B_AXIS_RADIUS = 3396.0
  C_AXIS_RADIUS = 3396.0
  CENTER_LATITUDE = 0.0
  CENTER_LONGITUDE = 36.0
  COORDINATE_SYSTEM_NAME = PLANETOGRAPHIC
  COORDINATE_SYSTEM_TYPE = "BODY-FIXED ROTATING"
  EASTERNMOST_LONGITUDE = 36.6567
  FIRST_STANDARD_PARALLEL = "N/A"
  LINE_FIRST_PIXEL = 1
  LINE_LAST_PIXEL = 3895
  LINE_PROJECTION_OFFSET = 14146.5625
  MAP_PROJECTION_ROTATION = 0.0
  MAP_PROJECTION_TYPE = SINUSOIDAL
  MAP_RESOLUTION = 592.713803866667
  MAP_SCALE = 0.1
  MAXIMUM_LATITUDE = 23.8711
  MINIMUM_LATITUDE = 17.2879
  POSITIVE_LONGITUDE_DIRECTION = EAST
  REFERENCE_LATITUDE = "N/A"
  REFERENCE_LONGITUDE = "N/A"
  SAMPLE_FIRST_PIXEL = 1
  SAMPLE_LAST_PIXEL = 788
  SAMPLE_PROJECTION_OFFSET = 379.9375
  SECOND_STANDARD_PARALLEL = "N/A"
  WESTERNMOST_LONGITUDE = 35.3313
END_OBJECT = IMAGE_MAP_PROJECTION
/* The JPEG2000 image data file associated with this label. */
OBJECT = COMPRESSED_FILE
  FILE_NAME = "H3117_0000_RE3.JP2"
  RECORD_TYPE = UNDEFINED
  FILE_RECORDS = UNK
  ENCODING_TYPE = "JP2"
  INTERCHANGE_FORMAT = BINARY
  UNCOMPRESSED_FILE_NAME = "H3117_0000_RE3.IMG"
  REQUIRED_STORAGE_BYTES = "3086596"
  ^DESCRIPTION = "JP2INFO.TXT"
END_OBJECT = COMPRESSED_FILE
END
