PDS_VERSION_ID = PDS3
/* FILE DATA ELEMENTS */
RECORD_TYPE = STREAM
/* POINTERS TO DATA OBJECTS */
^COMPRESSED_FILE = "H3117_0000_S23.JP2"
/* IDENTIFICATION DATA ELEMENTS */
DATA_SET_ID = "MEX-M-HRSC-5-REFDR-MAPPROJECTED-V3.0"
DATA_SET_NAME = "MARS EXPRESS HRSC MAP PROJECTED REFDR V3.0"
DETECTOR_ID = MEX_HRSC_S2
EVENT_TYPE = "MARS-REGIONAL-MAPPING-Im-Fl-La"
INSTRUMENT_HOST_ID = MEX
INSTRUMENT_HOST_NAME = "MARS EXPRESS"
INSTRUMENT_ID = HRSC
INSTRUMENT_NAME = "HIGH RESOLUTION STEREO CAMERA"
MISSION_NAME = "MARS EXPRESS"
MISSION_PHASE_NAME = ME_Phase_3
PROCESSING_LEVEL_ID = 3
PRODUCT_CREATION_TIME = 2016-04-08T23:06:02.000Z
PRODUCT_ID = "H3117_0000_S23.JP2"
RELEASE_ID = 0038
REVISION_ID = 0000
/* QUALITY DATA ELEMENTS */
DATA_QUALITY_ID = 1
DATA_QUALITY_DESC = "Data calculated based on original SPICE kernels"
/* TIME DATA ELEMENTS */
SPACECRAFT_CLOCK_START_COUNT = "1/0098363377.07302"
SPACECRAFT_CLOCK_STOP_COUNT = "1/0098363541.38105"
START_TIME = 2006-06-14T11:10:46.673Z
STOP_TIME = 2006-06-14T11:12:24.921Z
/* ORBITAL DATA ELEMENTS */
ASCENDING_NODE_LONGITUDE = 162.83
MAXIMUM_RESOLUTION = 26.8
FOOTPRINT_POINT_LATITUDE = (23.8694,23.8589,23.8485,23.8382,23.828 ,23.8179,23.8289,23.6919,23.555,23.3543 ,23.2192,23.0831,22.9495,22.8122, 22.6796,22.5484,22.416,22.2833,22.1506, 22.018,21.8852,21.7517,21.6149,21.4798, 21.3471,21.1492,21.0177,20.8861,20.7541 ,20.6238,20.4951,20.3036,20.1757, 20.0481,19.9201,19.7311,19.4773,19.2848 ,19.1566,19.0289,18.8378,18.6425, 18.4509,18.197,18.0692,17.8779,17.7501, 17.6227,17.433,17.2782,17.2846,17.2949, 17.3021,17.3095,17.3204,17.3281,17.584, 17.8373,17.9652,18.0937,18.2215,18.3495 ,18.6045,18.7325,18.8609,18.9889, 19.1166,19.2447,19.3731,19.5011,19.6292 ,19.7595,19.8884,20.0167,20.2704, 20.4626,20.5908,20.719,20.8495,20.9817, 21.1155,21.2503,21.4498,21.6469,21.7795 ,21.912,22.0423,22.1747,22.3075,22.4401 ,22.5726,22.7054,22.8389,22.9722, 23.1049,23.3097,23.4469,23.5845,23.7217 ,23.8694)
FOOTPRINT_POINT_LONGITUDE = (36.5229,36.3133,36.106,35.901,35.6985, 35.498,35.3227,35.3246,35.3265,35.3299, 35.332,35.3337,35.3353,35.3364,35.338, 35.3399,35.3415,35.3431,35.3446,35.3461 ,35.3476,35.3489,35.3498,35.3508, 35.3522,35.3544,35.3558,35.3573,35.3586 ,35.3597,35.3608,35.3627,35.3638,35.365 ,35.3661,35.3681,35.3705,35.3719, 35.3728,35.3737,35.3752,35.376,35.3773, 35.3792,35.38,35.3812,35.3819,35.3826, 35.3838,35.4733,35.6301,35.8562,35.9937 ,36.1326,36.3315,36.4734,36.5767, 36.5775,36.5788,36.5807,36.582,36.5835, 36.5857,36.5872,36.589,36.5905,36.5917, 36.5933,36.5951,36.5965,36.5982,36.6015 ,36.6036,36.6054,36.6066,36.6091, 36.6108,36.6124,36.614,36.6155,36.6181, 36.6216,36.6247,36.626,36.6279,36.6296, 36.6296,36.6313,36.6333,36.6351,36.6369 ,36.639,36.6415,36.6439,36.646,36.6504, 36.6526,36.6551,36.6573,36.5229)
ORBIT_NUMBER = 3117
ORBITAL_ECCENTRICITY = 0.571
ORBITAL_INCLINATION = 86.64
ORBITAL_SEMIMAJOR_AXIS = 8626.55
PERIAPSIS_ALTITUDE = 305.03
PERIAPSIS_ARGUMENT_ANGLE = 170.33
PERIAPSIS_TIME = 2006-06-14T11:13:53.000Z
SPACECRAFT_ORIENTATION = (0.0,-1.0,0.0)
^MEX_ORIENTATION_DESC = "MEX_ORIENTATION_DESC.TXT"
SPACECRAFT_POINTING_MODE = ACROSSTRACK
^MEX_POINTING_DESC = "MEX_POINTING_DESC.TXT"
RIGHT_ASCENSION = -1e+32
DECLINATION = -1e+32
OFFSET_ANGLE = 0.82
SPACECRAFT_SOLAR_DISTANCE = 2.49134e+08
TARGET_NAME = MARS
/* CAMERA DATA ELEMENTS */
DETECTOR_TEMPERATURE = 18.3705
FOCAL_PLANE_TEMPERATURE = 7.9716
INST_CMPRS_NAME = "DISCRETE COSINE TRANSFORMATION (DCT)"
INST_CMPRS_RATIO = 11.4466
INST_CMPRS_QUALITY = 0
INST_CMPRS_QUANTZ_TBL_ID = 0
INSTRUMENT_TEMPERATURE = 11.0301
LENS_TEMPERATURE = 8.3794
MACROPIXEL_SIZE = 2
MISSING_FRAMES = 0
PIXEL_SUBSAMPLING_FLAG = N
SIGNAL_CHAIN_ID = 1
/* RADIOMETRIC DATA ELEMENTS */
BANDWIDTH = 178.0
CENTER_FILTER_WAVELENGTH = 679.0
RADIANCE_OFFSET = 4.39918
RADIANCE_SCALING_FACTOR = 0.0191386
REFLECTANCE_SCALING_FACTOR = 0.000629082
MEX:REFLECTANCE_OFFSET = 0.1446
/* IMAGE OBJECT DEFINITIONS */
OBJECT = IMAGE
  INTERCHANGE_FORMAT = BINARY
  LINES = 15578
  LINE_SAMPLES = 3152
  SAMPLE_TYPE = UNSIGNED_INTEGER
  SAMPLE_BITS = 8
  BANDS = 1
  BAND_STORAGE_TYPE = BAND_SEQUENTIAL
  MAXIMUM = 255
  MEAN = 125.174
  MINIMUM = 1
  STANDARD_DEVIATION = 18.6777
END_OBJECT = IMAGE
/* MAP OBJECT DEFINITIONS */
OBJECT = IMAGE_MAP_PROJECTION
  ^DATA_SET_MAP_PROJECTION_CATALOG= "DSMAP.CAT"
  A_AXIS_RADIUS = 3396.0
  B_AXIS_RADIUS = 3396.0
  C_AXIS_RADIUS = 3396.0
  CENTER_LATITUDE = 0.0
  CENTER_LONGITUDE = 36.0
  COORDINATE_SYSTEM_NAME = PLANETOGRAPHIC
  COORDINATE_SYSTEM_TYPE = "BODY-FIXED ROTATING"
  EASTERNMOST_LONGITUDE = 36.6573
  FIRST_STANDARD_PARALLEL = "N/A"
  LINE_FIRST_PIXEL = 1
  LINE_LAST_PIXEL = 15578
  LINE_PROJECTION_OFFSET = 56587.75
  MAP_PROJECTION_ROTATION = 0.0
  MAP_PROJECTION_TYPE = SINUSOIDAL
  MAP_RESOLUTION = 2370.85521546667
  MAP_SCALE = 0.025
  MAXIMUM_LATITUDE = 23.8694
  MINIMUM_LATITUDE = 17.2782
  POSITIVE_LONGITUDE_DIRECTION = EAST
  REFERENCE_LATITUDE = "N/A"
  REFERENCE_LONGITUDE = "N/A"
  SAMPLE_FIRST_PIXEL = 1
  SAMPLE_LAST_PIXEL = 3152
  SAMPLE_PROJECTION_OFFSET = 1521.25
  SECOND_STANDARD_PARALLEL = "N/A"
  WESTERNMOST_LONGITUDE = 35.3227
END_OBJECT = IMAGE_MAP_PROJECTION
/* The JPEG2000 image data file associated with this label. */
OBJECT = COMPRESSED_FILE
  FILE_NAME = "H3117_0000_S23.JP2"
  RECORD_TYPE = UNDEFINED
  FILE_RECORDS = UNK
  ENCODING_TYPE = "JP2"
  INTERCHANGE_FORMAT = BINARY
  UNCOMPRESSED_FILE_NAME = "H3117_0000_S23.IMG"
  REQUIRED_STORAGE_BYTES = "49123920"
  ^DESCRIPTION = "JP2INFO.TXT"
END_OBJECT = COMPRESSED_FILE
END
