PDS_VERSION_ID = PDS3
/* FILE DATA ELEMENTS */
RECORD_TYPE = STREAM
/* POINTERS TO DATA OBJECTS */
^COMPRESSED_FILE = "H3124_0000_ND3.JP2"
/* IDENTIFICATION DATA ELEMENTS */
DATA_SET_ID = "MEX-M-HRSC-5-REFDR-MAPPROJECTED-V3.0"
DATA_SET_NAME = "MARS EXPRESS HRSC MAP PROJECTED REFDR V3.0"
DETECTOR_ID = MEX_HRSC_NADIR
EVENT_TYPE = "MARS-REGIONAL-MAPPING-Vo-La"
INSTRUMENT_HOST_ID = MEX
INSTRUMENT_HOST_NAME = "MARS EXPRESS"
INSTRUMENT_ID = HRSC
INSTRUMENT_NAME = "HIGH RESOLUTION STEREO CAMERA"
MISSION_NAME = "MARS EXPRESS"
MISSION_PHASE_NAME = ME_Phase_3
PROCESSING_LEVEL_ID = 3
PRODUCT_CREATION_TIME = 2016-04-08T23:06:02.000Z
PRODUCT_ID = "H3124_0000_ND3.JP2"
RELEASE_ID = 0038
REVISION_ID = 0000
/* QUALITY DATA ELEMENTS */
DATA_QUALITY_ID = 2
DATA_QUALITY_DESC = "Data calculated based on photogrammetrically improved orbit and attitude data"
/* TIME DATA ELEMENTS */
SPACECRAFT_CLOCK_START_COUNT = "1/0098532718.09048"
SPACECRAFT_CLOCK_STOP_COUNT = "1/0098532945.41877"
START_TIME = 2006-06-16T10:12:35.834Z
STOP_TIME = 2006-06-16T10:15:21.838Z
/* ORBITAL DATA ELEMENTS */
ASCENDING_NODE_LONGITUDE = 162.68
MAXIMUM_RESOLUTION = 12.2
FOOTPRINT_POINT_LATITUDE = (24.2882,24.2871,24.2835,24.1659, 23.9369,23.7077,23.4784,23.249,23.0194, 22.7902,22.5677,22.3451,22.1223,21.8994 ,21.5648,21.3416,21.1183,20.8949, 20.5622,20.3459,20.1296,19.9132,19.6966 ,19.48,19.2633,19.0465,18.8296,18.6127, 18.3956,18.1785,17.9613,17.7469,17.3271 ,16.9071,16.4868,16.2766,16.0663,15.856 ,15.6456,15.4351,15.2247,15.0141, 14.8036,14.593,14.3823,14.1717,13.961, 13.7502,13.4345,13.435,13.435,13.5401, 13.751,13.9618,14.1726,14.3834,14.5942, 14.8049,15.0156,15.2262,15.4368,15.6473 ,15.8579,16.0683,16.2787,16.4891, 16.6994,16.9096,17.1198,17.3299,17.75, 17.9645,18.1819,18.3992,18.6164,18.8335 ,19.0505,19.2675,19.4843,19.7011, 19.9178,20.1344,20.3509,20.5673,20.7886 ,21.0122,21.2357,21.4592,21.6825, 21.9057,22.1287,22.3517,22.5746,22.7974 ,23.1417,23.3714,23.601,23.8305,24.0598 ,24.2882)
FOOTPRINT_POINT_LONGITUDE = (67.6858,67.3891,66.8344,66.5033, 66.5079,66.5126,66.5163,66.5206,66.5258 ,66.5306,66.5349,66.5391,66.5437, 66.5484,66.5575,66.5624,66.5666,66.5703 ,66.5751,66.578,66.5813,66.5845,66.5878 ,66.5909,66.5939,66.5968,66.5996, 66.6024,66.6051,66.6078,66.6102,66.6126 ,66.6172,66.6216,66.6254,66.6273, 66.6292,66.631,66.6328,66.6344,66.636, 66.6375,66.6389,66.6402,66.6415,66.6427 ,66.6439,66.645,66.6466,66.9816,67.284, 67.7437,67.7449,67.746,67.747,67.7482, 67.7493,67.7504,67.7516,67.7527,67.7538 ,67.755,67.7566,67.7575,67.7588,67.7601 ,67.7615,67.7628,67.7642,67.7655, 67.7682,67.7696,67.771,67.7726,67.7741, 67.7755,67.7768,67.7776,67.7784,67.7798 ,67.7815,67.7841,67.7859,67.7876, 67.7905,67.7915,67.7926,67.7948,67.7965 ,67.7979,67.7997,67.803,67.8061,67.8097 ,67.8117,67.8111,67.8129,67.8151, 67.8172,67.6858)
ORBIT_NUMBER = 3124
ORBITAL_ECCENTRICITY = 0.571
ORBITAL_INCLINATION = 86.66
ORBITAL_SEMIMAJOR_AXIS = 8626.55
PERIAPSIS_ALTITUDE = 305.39
PERIAPSIS_ARGUMENT_ANGLE = 169.07
PERIAPSIS_TIME = 2006-06-16T10:16:00.000Z
SPACECRAFT_ORIENTATION = (0.0,-1.0,0.0)
^MEX_ORIENTATION_DESC = "MEX_ORIENTATION_DESC.TXT"
SPACECRAFT_POINTING_MODE = NADIR
^MEX_POINTING_DESC = "MEX_POINTING_DESC.TXT"
RIGHT_ASCENSION = -1e+32
DECLINATION = -1e+32
OFFSET_ANGLE = -1e+32
SPACECRAFT_SOLAR_DISTANCE = 2.49165e+08
TARGET_NAME = MARS
/* CAMERA DATA ELEMENTS */
DETECTOR_TEMPERATURE = 18.1666
FOCAL_PLANE_TEMPERATURE = 8.5833
INST_CMPRS_NAME = "DISCRETE COSINE TRANSFORMATION (DCT)"
INST_CMPRS_RATIO = 7.98631
INST_CMPRS_QUALITY = 0
INST_CMPRS_QUANTZ_TBL_ID = 0
INSTRUMENT_TEMPERATURE = 11.234
LENS_TEMPERATURE = 8.7872
MACROPIXEL_SIZE = 1
MISSING_FRAMES = 0
PIXEL_SUBSAMPLING_FLAG = N
SIGNAL_CHAIN_ID = 0
/* RADIOMETRIC DATA ELEMENTS */
BANDWIDTH = 177.0
CENTER_FILTER_WAVELENGTH = 677.5
RADIANCE_OFFSET = 1.6805
RADIANCE_SCALING_FACTOR = 0.0200452
REFLECTANCE_SCALING_FACTOR = 0.000661105
MEX:REFLECTANCE_OFFSET = 0.0554242
/* IMAGE OBJECT DEFINITIONS */
OBJECT = IMAGE
  INTERCHANGE_FORMAT = BINARY
  LINES = 51470
  LINE_SAMPLES = 6020
  SAMPLE_TYPE = UNSIGNED_INTEGER
  SAMPLE_BITS = 8
  BANDS = 1
  BAND_STORAGE_TYPE = BAND_SEQUENTIAL
  MAXIMUM = 255
  MEAN = 107.97
  MINIMUM = 1
  STANDARD_DEVIATION = 58.5158
END_OBJECT = IMAGE
/* MAP OBJECT DEFINITIONS */
OBJECT = IMAGE_MAP_PROJECTION
  ^DATA_SET_MAP_PROJECTION_CATALOG= "DSMAP.CAT"
  A_AXIS_RADIUS = 3396.0
  B_AXIS_RADIUS = 3396.0
  C_AXIS_RADIUS = 3396.0
  CENTER_LATITUDE = 0.0
  CENTER_LONGITUDE = 67.0
  COORDINATE_SYSTEM_NAME = PLANETOGRAPHIC
  COORDINATE_SYSTEM_TYPE = "BODY-FIXED ROTATING"
  EASTERNMOST_LONGITUDE = 67.8172
  FIRST_STANDARD_PARALLEL = "N/A"
  LINE_FIRST_PIXEL = 1
  LINE_LAST_PIXEL = 51470
  LINE_PROJECTION_OFFSET = 115171.0
  MAP_PROJECTION_ROTATION = 0.0
  MAP_PROJECTION_TYPE = SINUSOIDAL
  MAP_RESOLUTION = 4741.71043093333
  MAP_SCALE = 0.0125
  MAXIMUM_LATITUDE = 24.2882
  MINIMUM_LATITUDE = 13.4345
  POSITIVE_LONGITUDE_DIRECTION = EAST
  REFERENCE_LATITUDE = "N/A"
  REFERENCE_LONGITUDE = "N/A"
  SAMPLE_FIRST_PIXEL = 1
  SAMPLE_LAST_PIXEL = 6020
  SAMPLE_PROJECTION_OFFSET = 2301.0
  SECOND_STANDARD_PARALLEL = "N/A"
  WESTERNMOST_LONGITUDE = 66.5033
END_OBJECT = IMAGE_MAP_PROJECTION
/* The JPEG2000 image data file associated with this label. */
OBJECT = COMPRESSED_FILE
  FILE_NAME = "H3124_0000_ND3.JP2"
  RECORD_TYPE = UNDEFINED
  FILE_RECORDS = UNK
  ENCODING_TYPE = "JP2"
  INTERCHANGE_FORMAT = BINARY
  UNCOMPRESSED_FILE_NAME = "H3124_0000_ND3.IMG"
  REQUIRED_STORAGE_BYTES = "309879500"
  ^DESCRIPTION = "JP2INFO.TXT"
END_OBJECT = COMPRESSED_FILE
END
