PDS_VERSION_ID = PDS3
/* FILE DATA ELEMENTS */
RECORD_TYPE = STREAM
/* POINTERS TO DATA OBJECTS */
^COMPRESSED_FILE = "H3125_0000_GR3.JP2"
/* IDENTIFICATION DATA ELEMENTS */
DATA_SET_ID = "MEX-M-HRSC-5-REFDR-MAPPROJECTED-V3.0"
DATA_SET_NAME = "MARS EXPRESS HRSC MAP PROJECTED REFDR V3.0"
DETECTOR_ID = MEX_HRSC_GREEN
EVENT_TYPE = "MARS-REGIONAL-MAPPING-Te-Fl-La"
INSTRUMENT_HOST_ID = MEX
INSTRUMENT_HOST_NAME = "MARS EXPRESS"
INSTRUMENT_ID = HRSC
INSTRUMENT_NAME = "HIGH RESOLUTION STEREO CAMERA"
MISSION_NAME = "MARS EXPRESS"
MISSION_PHASE_NAME = ME_Phase_3
PROCESSING_LEVEL_ID = 3
PRODUCT_CREATION_TIME = 2016-04-08T23:06:02.000Z
PRODUCT_ID = "H3125_0000_GR3.JP2"
RELEASE_ID = 0038
REVISION_ID = 0000
/* QUALITY DATA ELEMENTS */
DATA_QUALITY_ID = 1
DATA_QUALITY_DESC = "Data calculated based on original SPICE kernels"
/* TIME DATA ELEMENTS */
SPACECRAFT_CLOCK_START_COUNT = "1/0098557361.07279"
SPACECRAFT_CLOCK_STOP_COUNT = "1/0098557538.05422"
START_TIME = 2006-06-16T17:03:12.401Z
STOP_TIME = 2006-06-16T17:04:53.467Z
/* ORBITAL DATA ELEMENTS */
ASCENDING_NODE_LONGITUDE = 162.66
MAXIMUM_RESOLUTION = 115.4
FOOTPRINT_POINT_LATITUDE = (-5.28885,-5.28793,-5.28693,-5.28588, -5.28496,-5.28386,-5.28319,-5.39788, -5.56779,-5.68082,-5.90575,-6.12987, -6.29731,-6.52194,-6.63546,-6.85938, -7.05857,-7.19162,-7.39142,-7.59137, -7.72452,-7.85779,-7.99084,-8.12394, -8.25692,-8.38941,-8.52134,-8.71884, -8.85161,-9.04992,-9.18235,-9.31483, -9.44685,-9.57892,-9.71289,-9.91169, -10.1074,-10.2393,-10.3711,-10.5021, -10.6335,-10.7651,-10.8966,-11.0939, -11.2253,-11.3564,-11.4873,-11.6182, -11.7193,-11.7202,-11.7219,-11.7227, -11.724,-11.7248,-11.6572,-11.5262, -11.3952,-11.264,-11.1328,-10.9362, -10.7388,-10.6073,-10.4761,-10.3444, -10.2121,-10.0801,-9.94829,-9.81632, -9.68448,-9.55249,-9.42035,-9.288, -9.15607,-9.02401,-8.8921,-8.75949, -8.62658,-8.42852,-8.29574,-8.16347, -7.96431,-7.83132,-7.69809,-7.56483, -7.43157,-7.29812,-7.16473,-7.03164, -6.89804,-6.66973,-6.50157,-6.33234, -6.21908,-6.10666,-5.93815,-5.71358, -5.60117,-5.48878,-5.3763,-5.28885)
FOOTPRINT_POINT_LONGITUDE = (329.369,329.194,329.007,328.82,328.656 ,328.47,328.353,328.261,328.256,328.252 ,328.248,328.244,328.242,328.237, 328.232,328.228,328.224,328.222,328.219 ,328.214,328.212,328.209,328.206, 328.203,328.2,328.198,328.197,328.196, 328.192,328.189,328.186,328.183,328.181 ,328.178,328.172,328.166,328.166, 328.163,328.16,328.158,328.155,328.152, 328.149,328.144,328.141,328.138,328.135 ,328.133,328.32,328.457,328.73,328.921, 329.194,329.412,329.585,329.583,329.581 ,329.579,329.577,329.575,329.572,329.57 ,329.569,329.568,329.565,329.563, 329.561,329.56,329.558,329.557,329.555, 329.554,329.553,329.552,329.551,329.55, 329.548,329.547,329.546,329.546,329.544 ,329.543,329.541,329.539,329.538, 329.536,329.535,329.534,329.533,329.53, 329.528,329.524,329.521,329.52,329.518, 329.516,329.515,329.514,329.513, 329.369)
ORBIT_NUMBER = 3125
ORBITAL_ECCENTRICITY = 0.57
ORBITAL_INCLINATION = 86.66
ORBITAL_SEMIMAJOR_AXIS = 8616.79
PERIAPSIS_ALTITUDE = 306.31
PERIAPSIS_ARGUMENT_ANGLE = 168.88
PERIAPSIS_TIME = 2006-06-16T16:59:06.000Z
SPACECRAFT_ORIENTATION = (0.0,-1.0,0.0)
^MEX_ORIENTATION_DESC = "MEX_ORIENTATION_DESC.TXT"
SPACECRAFT_POINTING_MODE = NADIR
^MEX_POINTING_DESC = "MEX_POINTING_DESC.TXT"
RIGHT_ASCENSION = -1e+32
DECLINATION = -1e+32
OFFSET_ANGLE = -1e+32
SPACECRAFT_SOLAR_DISTANCE = 2.49169e+08
TARGET_NAME = MARS
/* CAMERA DATA ELEMENTS */
DETECTOR_TEMPERATURE = 18.1666
FOCAL_PLANE_TEMPERATURE = 8.5833
INST_CMPRS_NAME = "DISCRETE COSINE TRANSFORMATION (DCT)"
INST_CMPRS_RATIO = 6.52049
INST_CMPRS_QUALITY = 0
INST_CMPRS_QUANTZ_TBL_ID = 0
INSTRUMENT_TEMPERATURE = 11.234
LENS_TEMPERATURE = 9.195
MACROPIXEL_SIZE = 8
MISSING_FRAMES = 0
PIXEL_SUBSAMPLING_FLAG = N
SIGNAL_CHAIN_ID = 2
/* RADIOMETRIC DATA ELEMENTS */
BANDWIDTH = 88.0
CENTER_FILTER_WAVELENGTH = 538.0
RADIANCE_OFFSET = 0.592819
RADIANCE_SCALING_FACTOR = 0.00379486
REFLECTANCE_SCALING_FACTOR = 0.00020285
MEX:REFLECTANCE_OFFSET = 0.0316884
/* IMAGE OBJECT DEFINITIONS */
OBJECT = IMAGE
  INTERCHANGE_FORMAT = BINARY
  LINES = 3815
  LINE_SAMPLES = 905
  SAMPLE_TYPE = UNSIGNED_INTEGER
  SAMPLE_BITS = 8
  BANDS = 1
  BAND_STORAGE_TYPE = BAND_SEQUENTIAL
  MAXIMUM = 254
  MEAN = 113.239
  MINIMUM = 1
  STANDARD_DEVIATION = 26.9329
END_OBJECT = IMAGE
/* MAP OBJECT DEFINITIONS */
OBJECT = IMAGE_MAP_PROJECTION
  ^DATA_SET_MAP_PROJECTION_CATALOG= "DSMAP.CAT"
  A_AXIS_RADIUS = 3396.0
  B_AXIS_RADIUS = 3396.0
  C_AXIS_RADIUS = 3396.0
  CENTER_LATITUDE = 0.0
  CENTER_LONGITUDE = 329.0
  COORDINATE_SYSTEM_NAME = PLANETOGRAPHIC
  COORDINATE_SYSTEM_TYPE = "BODY-FIXED ROTATING"
  EASTERNMOST_LONGITUDE = 329.585
  FIRST_STANDARD_PARALLEL = "N/A"
  LINE_FIRST_PIXEL = 1
  LINE_LAST_PIXEL = 3815
  LINE_PROJECTION_OFFSET = -3127.1875
  MAP_PROJECTION_ROTATION = 0.0
  MAP_PROJECTION_TYPE = SINUSOIDAL
  MAP_RESOLUTION = 592.713803866667
  MAP_SCALE = 0.1
  MAXIMUM_LATITUDE = -5.28319
  MINIMUM_LATITUDE = -11.7248
  POSITIVE_LONGITUDE_DIRECTION = EAST
  REFERENCE_LATITUDE = "N/A"
  REFERENCE_LONGITUDE = "N/A"
  SAMPLE_FIRST_PIXEL = 1
  SAMPLE_LAST_PIXEL = 905
  SAMPLE_PROJECTION_OFFSET = 538.1875
  SECOND_STANDARD_PARALLEL = "N/A"
  WESTERNMOST_LONGITUDE = 328.133
END_OBJECT = IMAGE_MAP_PROJECTION
/* The JPEG2000 image data file associated with this label. */
OBJECT = COMPRESSED_FILE
  FILE_NAME = "H3125_0000_GR3.JP2"
  RECORD_TYPE = UNDEFINED
  FILE_RECORDS = UNK
  ENCODING_TYPE = "JP2"
  INTERCHANGE_FORMAT = BINARY
  UNCOMPRESSED_FILE_NAME = "H3125_0000_GR3.IMG"
  REQUIRED_STORAGE_BYTES = "3470675"
  ^DESCRIPTION = "JP2INFO.TXT"
END_OBJECT = COMPRESSED_FILE
END
