PDS_VERSION_ID = PDS3
/* FILE DATA ELEMENTS */
RECORD_TYPE = STREAM
/* POINTERS TO DATA OBJECTS */
^COMPRESSED_FILE = "H3128_0000_GR3.JP2"
/* IDENTIFICATION DATA ELEMENTS */
DATA_SET_ID = "MEX-M-HRSC-5-REFDR-MAPPROJECTED-V3.0"
DATA_SET_NAME = "MARS EXPRESS HRSC MAP PROJECTED REFDR V3.0"
DETECTOR_ID = MEX_HRSC_GREEN
EVENT_TYPE = "MARS-REGIONAL-MAPPING-Im-Fl-La"
INSTRUMENT_HOST_ID = MEX
INSTRUMENT_HOST_NAME = "MARS EXPRESS"
INSTRUMENT_ID = HRSC
INSTRUMENT_NAME = "HIGH RESOLUTION STEREO CAMERA"
MISSION_NAME = "MARS EXPRESS"
MISSION_PHASE_NAME = ME_Phase_3
PROCESSING_LEVEL_ID = 3
PRODUCT_CREATION_TIME = 2016-04-08T23:06:02.000Z
PRODUCT_ID = "H3128_0000_GR3.JP2"
RELEASE_ID = 0038
REVISION_ID = 0000
/* QUALITY DATA ELEMENTS */
DATA_QUALITY_ID = 2
DATA_QUALITY_DESC = "Data calculated based on photogrammetrically improved orbit and attitude data"
/* TIME DATA ELEMENTS */
SPACECRAFT_CLOCK_START_COUNT = "1/0098629427.08421"
SPACECRAFT_CLOCK_STOP_COUNT = "1/0098629657.24915"
START_TIME = 2006-06-17T13:04:22.058Z
STOP_TIME = 2006-06-17T13:07:08.159Z
/* ORBITAL DATA ELEMENTS */
ASCENDING_NODE_LONGITUDE = 162.59
MAXIMUM_RESOLUTION = 100.9
FOOTPRINT_POINT_LATITUDE = (27.743,27.7447,27.7471,27.7479,27.6137 ,27.3649,27.0419,26.8262,26.6103, 26.3942,26.1766,25.9602,25.7444,25.5275 ,25.3107,25.0931,24.8759,24.6585,24.441 ,24.2233,24.0055,23.7874,23.5693,23.351 ,23.0232,22.6954,22.4765,22.2578, 22.0458,21.8335,21.5149,21.3025,21.0898 ,20.8771,20.6644,20.4524,20.2392, 20.0259,19.8153,19.608,19.4018,19.1948, 18.9881,18.6779,18.4709,18.2639,18.0569 ,17.8498,17.6427,17.3317,17.1245, 17.0093,17.0067,17.0039,17.1042,17.4152 ,17.6226,17.8299,18.0371,18.2444, 18.4516,18.6587,18.9684,19.175,19.3816, 19.5883,19.7953,20.1126,20.3259,20.5393 ,20.7523,21.0718,21.2848,21.4976, 21.7098,22.0284,22.2404,22.5683,22.7871 ,23.1154,23.4435,23.6619,23.8803, 24.0986,24.3163,24.6429,24.8605,25.1867 ,25.4036,25.6203,25.8369,26.0535, 26.2699,26.4853,26.7013,26.9171,27.1328 ,27.3483,27.5958,27.743)
FOOTPRINT_POINT_LONGITUDE = (35.4818,35.2622,34.8284,34.4024, 34.2031,34.2088,34.2158,34.2205,34.2251 ,34.2296,34.2347,34.239,34.2427,34.2469 ,34.2509,34.2551,34.2589,34.2627, 34.2663,34.2699,34.2733,34.2768,34.28, 34.2833,34.288,34.2924,34.2952,34.2979, 34.3005,34.3031,34.3069,34.3092,34.3115 ,34.3138,34.3158,34.3172,34.3193, 34.3214,34.3233,34.3258,34.3274,34.3294 ,34.3311,34.3336,34.3352,34.3366,34.338 ,34.3393,34.3405,34.3423,34.3433, 34.5446,34.8461,35.0983,35.5088,35.5123 ,35.5143,35.5164,35.5185,35.5195, 35.5212,35.5225,35.5286,35.5312,35.5339 ,35.5354,35.5351,35.5383,35.5408, 35.5424,35.5454,35.5489,35.5509,35.5531 ,35.5572,35.5618,35.5655,35.5724, 35.5764,35.5805,35.584,35.5871,35.5897, 35.5919,35.5963,35.6009,35.6043,35.6083 ,35.6128,35.6173,35.622,35.6254,35.6293 ,35.6367,35.6411,35.645,35.6489,35.6528 ,35.6566,35.4818)
ORBIT_NUMBER = 3128
ORBITAL_ECCENTRICITY = 0.571
ORBITAL_INCLINATION = 86.64
ORBITAL_SEMIMAJOR_AXIS = 8625.03
PERIAPSIS_ALTITUDE = 306.2
PERIAPSIS_ARGUMENT_ANGLE = 168.37
PERIAPSIS_TIME = 2006-06-17T13:08:35.000Z
SPACECRAFT_ORIENTATION = (0.0,-1.0,0.0)
^MEX_ORIENTATION_DESC = "MEX_ORIENTATION_DESC.TXT"
SPACECRAFT_POINTING_MODE = ACROSSTRACK
^MEX_POINTING_DESC = "MEX_POINTING_DESC.TXT"
RIGHT_ASCENSION = -1e+32
DECLINATION = -1e+32
OFFSET_ANGLE = 0.75
SPACECRAFT_SOLAR_DISTANCE = 2.49181e+08
TARGET_NAME = MARS
/* CAMERA DATA ELEMENTS */
DETECTOR_TEMPERATURE = 17.9627
FOCAL_PLANE_TEMPERATURE = 8.3794
INST_CMPRS_NAME = "DISCRETE COSINE TRANSFORMATION (DCT)"
INST_CMPRS_RATIO = 19.7491
INST_CMPRS_QUALITY = 0
INST_CMPRS_QUANTZ_TBL_ID = 0
INSTRUMENT_TEMPERATURE = 11.4379
LENS_TEMPERATURE = 8.7872
MACROPIXEL_SIZE = 8
MISSING_FRAMES = 0
PIXEL_SUBSAMPLING_FLAG = N
SIGNAL_CHAIN_ID = 2
/* RADIOMETRIC DATA ELEMENTS */
BANDWIDTH = 88.0
CENTER_FILTER_WAVELENGTH = 538.0
RADIANCE_OFFSET = 1.50527
RADIANCE_SCALING_FACTOR = 0.00434527
REFLECTANCE_SCALING_FACTOR = 0.000232292
MEX:REFLECTANCE_OFFSET = 0.0804694
/* IMAGE OBJECT DEFINITIONS */
OBJECT = IMAGE
  INTERCHANGE_FORMAT = BINARY
  LINES = 6358
  LINE_SAMPLES = 810
  SAMPLE_TYPE = UNSIGNED_INTEGER
  SAMPLE_BITS = 8
  BANDS = 1
  BAND_STORAGE_TYPE = BAND_SEQUENTIAL
  MAXIMUM = 255
  MEAN = 125.344
  MINIMUM = 1
  STANDARD_DEVIATION = 19.4038
END_OBJECT = IMAGE
/* MAP OBJECT DEFINITIONS */
OBJECT = IMAGE_MAP_PROJECTION
  ^DATA_SET_MAP_PROJECTION_CATALOG= "DSMAP.CAT"
  A_AXIS_RADIUS = 3396.0
  B_AXIS_RADIUS = 3396.0
  C_AXIS_RADIUS = 3396.0
  CENTER_LATITUDE = 0.0
  CENTER_LONGITUDE = 35.0
  COORDINATE_SYSTEM_NAME = PLANETOGRAPHIC
  COORDINATE_SYSTEM_TYPE = "BODY-FIXED ROTATING"
  EASTERNMOST_LONGITUDE = 35.6566
  FIRST_STANDARD_PARALLEL = "N/A"
  LINE_FIRST_PIXEL = 1
  LINE_LAST_PIXEL = 6358
  LINE_PROJECTION_OFFSET = 16446.4375
  MAP_PROJECTION_ROTATION = 0.0
  MAP_PROJECTION_TYPE = SINUSOIDAL
  MAP_RESOLUTION = 592.713803866667
  MAP_SCALE = 0.1
  MAXIMUM_LATITUDE = 27.7479
  MINIMUM_LATITUDE = 17.0039
  POSITIVE_LONGITUDE_DIRECTION = EAST
  REFERENCE_LATITUDE = "N/A"
  REFERENCE_LONGITUDE = "N/A"
  SAMPLE_FIRST_PIXEL = 1
  SAMPLE_LAST_PIXEL = 810
  SAMPLE_PROJECTION_OFFSET = 425.3125
  SECOND_STANDARD_PARALLEL = "N/A"
  WESTERNMOST_LONGITUDE = 34.2031
END_OBJECT = IMAGE_MAP_PROJECTION
/* The JPEG2000 image data file associated with this label. */
OBJECT = COMPRESSED_FILE
  FILE_NAME = "H3128_0000_GR3.JP2"
  RECORD_TYPE = UNDEFINED
  FILE_RECORDS = UNK
  ENCODING_TYPE = "JP2"
  INTERCHANGE_FORMAT = BINARY
  UNCOMPRESSED_FILE_NAME = "H3128_0000_GR3.IMG"
  REQUIRED_STORAGE_BYTES = "5167800"
  ^DESCRIPTION = "JP2INFO.TXT"
END_OBJECT = COMPRESSED_FILE
END
