PDS_VERSION_ID = PDS3
/* FILE DATA ELEMENTS */
RECORD_TYPE = STREAM
/* POINTERS TO DATA OBJECTS */
^COMPRESSED_FILE = "H3132_0000_IR3.JP2"
/* IDENTIFICATION DATA ELEMENTS */
DATA_SET_ID = "MEX-M-HRSC-5-REFDR-MAPPROJECTED-V3.0"
DATA_SET_NAME = "MARS EXPRESS HRSC MAP PROJECTED REFDR V3.0"
DETECTOR_ID = MEX_HRSC_IR
EVENT_TYPE = "MARS-REGIONAL-MAPPING-Im-La"
INSTRUMENT_HOST_ID = MEX
INSTRUMENT_HOST_NAME = "MARS EXPRESS"
INSTRUMENT_ID = HRSC
INSTRUMENT_NAME = "HIGH RESOLUTION STEREO CAMERA"
MISSION_NAME = "MARS EXPRESS"
MISSION_PHASE_NAME = ME_Phase_3
PROCESSING_LEVEL_ID = 3
PRODUCT_CREATION_TIME = 2016-04-08T23:06:02.000Z
PRODUCT_ID = "H3132_0000_IR3.JP2"
RELEASE_ID = 0038
REVISION_ID = 0000
/* QUALITY DATA ELEMENTS */
DATA_QUALITY_ID = 2
DATA_QUALITY_DESC = "Data calculated based on photogrammetrically improved orbit and attitude data"
/* TIME DATA ELEMENTS */
SPACECRAFT_CLOCK_START_COUNT = "1/0098726461.07295"
SPACECRAFT_CLOCK_STOP_COUNT = "1/0098726638.55248"
START_TIME = 2006-06-18T16:01:11.210Z
STOP_TIME = 2006-06-18T16:03:08.386Z
/* ORBITAL DATA ELEMENTS */
ASCENDING_NODE_LONGITUDE = 162.51
MAXIMUM_RESOLUTION = 103.3
FOOTPRINT_POINT_LATITUDE = (10.8661,10.8588,10.8512,10.8432,10.835 ,10.8265,10.8175,10.5735,10.3476, 10.1968,10.0457,9.81856,9.66707,9.44047 ,9.2894,9.13764,8.91106,8.75998,8.53255 ,8.30587,8.15475,8.00279,7.84758, 7.69328,7.39649,7.24444,7.09237,6.86465 ,6.71284,6.56089,6.409,6.18107,5.95332, 5.80148,5.65027,5.49856,5.34586,5.11794 ,4.96559,4.80917,4.57263,4.41507, 4.25775,4.10101,3.94194,3.78389,3.62709 ,3.39071,3.23291,3.07578,3.06158, 3.07538,3.08517,3.0921,3.10039,3.26268, 3.42003,3.57778,3.7358,3.97209,4.12977, 4.2879,4.44403,4.60143,4.83884,4.99677, 5.14868,5.3008,5.45318,5.60517,5.75685, 5.90825,6.06001,6.28806,6.44028,6.5926, 6.7446,6.97201,7.19956,7.35136,7.50337, 7.65567,7.88362,8.11036,8.26165,8.41321 ,8.56442,8.71611,8.8678,9.01893,9.17035 ,9.32235,9.47403,9.62521,9.92433, 10.1502,10.3009,10.4545,10.6074, 10.8661)
FOOTPRINT_POINT_LONGITUDE = (360.73,360.568,360.403,360.238,360.07, 359.9,359.729,359.648,359.649,359.65, 359.65,359.651,359.651,359.651,359.652, 359.651,359.652,359.652,359.652,359.653 ,359.653,359.653,359.649,359.647, 359.652,359.652,359.651,359.651,359.65, 359.65,359.65,359.649,359.648,359.648, 359.648,359.647,359.646,359.645,359.644 ,359.643,359.642,359.641,359.64,359.64, 359.638,359.636,359.636,359.634,359.633 ,359.632,359.829,360.134,360.348, 360.507,360.706,360.775,360.774,360.774 ,360.774,360.773,360.773,360.773, 360.772,360.772,360.772,360.772,360.772 ,360.771,360.771,360.771,360.771,360.77 ,360.77,360.77,360.77,360.77,360.77, 360.769,360.769,360.769,360.769,360.769 ,360.769,360.769,360.768,360.768, 360.768,360.768,360.768,360.768,360.768 ,360.768,360.768,360.768,360.767, 360.767,360.767,360.767,360.768,360.73)
ORBIT_NUMBER = 3132
ORBITAL_ECCENTRICITY = 0.57
ORBITAL_INCLINATION = 86.64
ORBITAL_SEMIMAJOR_AXIS = 8619.73
PERIAPSIS_ALTITUDE = 307.03
PERIAPSIS_ARGUMENT_ANGLE = 167.62
PERIAPSIS_TIME = 2006-06-18T16:01:11.000Z
SPACECRAFT_ORIENTATION = (0.0,-1.0,0.0)
^MEX_ORIENTATION_DESC = "MEX_ORIENTATION_DESC.TXT"
SPACECRAFT_POINTING_MODE = ACROSSTRACK
^MEX_POINTING_DESC = "MEX_POINTING_DESC.TXT"
RIGHT_ASCENSION = -1e+32
DECLINATION = -1e+32
OFFSET_ANGLE = -0.8
SPACECRAFT_SOLAR_DISTANCE = 2.49194e+08
TARGET_NAME = MARS
/* CAMERA DATA ELEMENTS */
DETECTOR_TEMPERATURE = 17.351
FOCAL_PLANE_TEMPERATURE = 8.3794
INST_CMPRS_NAME = "DISCRETE COSINE TRANSFORMATION (DCT)"
INST_CMPRS_RATIO = 16.7266
INST_CMPRS_QUALITY = 0
INST_CMPRS_QUANTZ_TBL_ID = 0
INSTRUMENT_TEMPERATURE = 11.0301
LENS_TEMPERATURE = 8.5833
MACROPIXEL_SIZE = 8
MISSING_FRAMES = 0
PIXEL_SUBSAMPLING_FLAG = N
SIGNAL_CHAIN_ID = 2
/* RADIOMETRIC DATA ELEMENTS */
BANDWIDTH = 81.0
CENTER_FILTER_WAVELENGTH = 955.5
RADIANCE_OFFSET = 0.615046
RADIANCE_SCALING_FACTOR = 0.00602987
REFLECTANCE_SCALING_FACTOR = 0.000807815
MEX:REFLECTANCE_OFFSET = 0.0823971
/* IMAGE OBJECT DEFINITIONS */
OBJECT = IMAGE
  INTERCHANGE_FORMAT = BINARY
  LINES = 4586
  LINE_SAMPLES = 746
  SAMPLE_TYPE = UNSIGNED_INTEGER
  SAMPLE_BITS = 8
  BANDS = 1
  BAND_STORAGE_TYPE = BAND_SEQUENTIAL
  MAXIMUM = 255
  MEAN = 121.903
  MINIMUM = 1
  STANDARD_DEVIATION = 35.2032
END_OBJECT = IMAGE
/* MAP OBJECT DEFINITIONS */
OBJECT = IMAGE_MAP_PROJECTION
  ^DATA_SET_MAP_PROJECTION_CATALOG= "DSMAP.CAT"
  A_AXIS_RADIUS = 3396.0
  B_AXIS_RADIUS = 3396.0
  C_AXIS_RADIUS = 3396.0
  CENTER_LATITUDE = 0.0
  CENTER_LONGITUDE = 0.0
  COORDINATE_SYSTEM_NAME = PLANETOGRAPHIC
  COORDINATE_SYSTEM_TYPE = "BODY-FIXED ROTATING"
  EASTERNMOST_LONGITUDE = 0.775
  FIRST_STANDARD_PARALLEL = "N/A"
  LINE_FIRST_PIXEL = 1
  LINE_LAST_PIXEL = 4586
  LINE_PROJECTION_OFFSET = 6423.5625
  MAP_PROJECTION_ROTATION = 0.0
  MAP_PROJECTION_TYPE = SINUSOIDAL
  MAP_RESOLUTION = 592.713803866667
  MAP_SCALE = 0.1
  MAXIMUM_LATITUDE = 10.8661
  MINIMUM_LATITUDE = 3.06158
  POSITIVE_LONGITUDE_DIRECTION = EAST
  REFERENCE_LATITUDE = "N/A"
  REFERENCE_LONGITUDE = "N/A"
  SAMPLE_FIRST_PIXEL = 1
  SAMPLE_LAST_PIXEL = 746
  SAMPLE_PROJECTION_OFFSET = 277.8125
  SECOND_STANDARD_PARALLEL = "N/A"
  WESTERNMOST_LONGITUDE = -0.368
END_OBJECT = IMAGE_MAP_PROJECTION
/* The JPEG2000 image data file associated with this label. */
OBJECT = COMPRESSED_FILE
  FILE_NAME = "H3132_0000_IR3.JP2"
  RECORD_TYPE = UNDEFINED
  FILE_RECORDS = UNK
  ENCODING_TYPE = "JP2"
  INTERCHANGE_FORMAT = BINARY
  UNCOMPRESSED_FILE_NAME = "H3132_0000_IR3.IMG"
  REQUIRED_STORAGE_BYTES = "3439060"
  ^DESCRIPTION = "JP2INFO.TXT"
END_OBJECT = COMPRESSED_FILE
END
