PDS_VERSION_ID = PDS3
/* FILE DATA ELEMENTS */
RECORD_TYPE = STREAM
/* POINTERS TO DATA OBJECTS */
^COMPRESSED_FILE = "H3140_0000_RE3.JP2"
/* IDENTIFICATION DATA ELEMENTS */
DATA_SET_ID = "MEX-M-HRSC-5-REFDR-MAPPROJECTED-V3.0"
DATA_SET_NAME = "MARS EXPRESS HRSC MAP PROJECTED REFDR V3.0"
DETECTOR_ID = MEX_HRSC_RED
EVENT_TYPE = "MARS-REGIONAL-MAPPING-Te-Fl-Gl"
INSTRUMENT_HOST_ID = MEX
INSTRUMENT_HOST_NAME = "MARS EXPRESS"
INSTRUMENT_ID = HRSC
INSTRUMENT_NAME = "HIGH RESOLUTION STEREO CAMERA"
MISSION_NAME = "MARS EXPRESS"
MISSION_PHASE_NAME = ME_Phase_3
PROCESSING_LEVEL_ID = 3
PRODUCT_CREATION_TIME = 2016-04-08T23:06:02.000Z
PRODUCT_ID = "H3140_0000_RE3.JP2"
RELEASE_ID = 0038
REVISION_ID = 0000
/* QUALITY DATA ELEMENTS */
DATA_QUALITY_ID = 2
DATA_QUALITY_DESC = "Data calculated based on photogrammetrically improved orbit and attitude data"
/* TIME DATA ELEMENTS */
SPACECRAFT_CLOCK_START_COUNT = "1/0098919647.08394"
SPACECRAFT_CLOCK_STOP_COUNT = "1/0098919898.57660"
START_TIME = 2006-06-20T21:41:58.692Z
STOP_TIME = 2006-06-20T21:44:57.539Z
/* ORBITAL DATA ELEMENTS */
ASCENDING_NODE_LONGITUDE = 162.33
MAXIMUM_RESOLUTION = 105.4
FOOTPRINT_POINT_LATITUDE = (32.4261,32.4243,32.4213,32.4186, 32.4163,32.4139,32.324,32.09,31.8537, 31.6185,31.3822,31.0284,30.7925,30.5569 ,30.2038,29.9684,29.6159,29.3791, 29.0259,28.7904,28.554,28.3201,28.0811, 27.8452,27.491,27.2547,27.0196,26.7865, 26.4238,26.1823,25.945,25.7081,25.3525, 24.9973,24.7605,24.5235,24.168,23.9311, 23.6944,23.3395,22.9957,22.7536,22.5254 ,22.2797,22.0372,21.8009,21.564,21.3275 ,21.0927,20.8642,20.6361,20.5771, 20.5785,20.5793,20.6956,20.9238,21.1526 ,21.3895,21.6265,21.9835,22.2238, 22.4652,22.7056,23.0606,23.2997,23.5344 ,23.7607,23.9959,24.2328,24.5883, 24.8256,25.1847,25.4267,25.658,26.0166, 26.2613,26.497,26.8496,27.0856,27.3231, 27.5593,27.7962,28.1516,28.3884,28.7439 ,28.9803,29.217,29.5717,29.8082,30.0445 ,30.2795,30.5133,30.7526,30.9862, 31.3369,31.6909,31.9276,32.1639,32.4003 ,32.4261)
FOOTPRINT_POINT_LONGITUDE = (295.318,295.135,294.852,294.612, 294.429,294.246,294.002,294.011,294.021 ,294.03,294.04,294.053,294.061,294.07, 294.082,294.09,294.101,294.109,294.119, 294.126,294.134,294.14,294.148,294.154, 294.164,294.17,294.176,294.18,294.192, 294.2,294.206,294.212,294.22,294.228, 294.233,294.238,294.245,294.25,294.254, 294.26,294.262,294.268,294.269,294.276, 294.282,294.286,294.289,294.293,294.296 ,294.299,294.302,294.553,294.948, 295.288,295.471,295.472,295.472,295.473 ,295.474,295.477,295.479,295.482, 295.484,295.485,295.487,295.487,295.484 ,295.484,295.485,295.487,295.488, 295.491,295.494,295.493,295.496,295.5, 295.501,295.502,295.503,295.504,295.505 ,295.506,295.508,295.509,295.512, 295.513,295.514,295.516,295.517,295.518 ,295.519,295.52,295.522,295.522,295.523 ,295.525,295.527,295.528,295.53, 295.318)
ORBIT_NUMBER = 3140
ORBITAL_ECCENTRICITY = 0.571
ORBITAL_INCLINATION = 86.65
ORBITAL_SEMIMAJOR_AXIS = 8621.1
PERIAPSIS_ALTITUDE = 307.39
PERIAPSIS_ARGUMENT_ANGLE = 166.23
PERIAPSIS_TIME = 2006-06-20T21:46:18.000Z
SPACECRAFT_ORIENTATION = (0.0,-1.0,0.0)
^MEX_ORIENTATION_DESC = "MEX_ORIENTATION_DESC.TXT"
SPACECRAFT_POINTING_MODE = NADIR
^MEX_POINTING_DESC = "MEX_POINTING_DESC.TXT"
RIGHT_ASCENSION = -1e+32
DECLINATION = -1e+32
OFFSET_ANGLE = -1e+32
SPACECRAFT_SOLAR_DISTANCE = 2.49215e+08
TARGET_NAME = MARS
/* CAMERA DATA ELEMENTS */
DETECTOR_TEMPERATURE = 18.3705
FOCAL_PLANE_TEMPERATURE = 8.1755
INST_CMPRS_NAME = "DISCRETE COSINE TRANSFORMATION (DCT)"
INST_CMPRS_RATIO = 10.7279
INST_CMPRS_QUALITY = 0
INST_CMPRS_QUANTZ_TBL_ID = 0
INSTRUMENT_TEMPERATURE = 11.0301
LENS_TEMPERATURE = 8.5833
MACROPIXEL_SIZE = 8
MISSING_FRAMES = 0
PIXEL_SUBSAMPLING_FLAG = N
SIGNAL_CHAIN_ID = 2
/* RADIOMETRIC DATA ELEMENTS */
BANDWIDTH = 48.0
CENTER_FILTER_WAVELENGTH = 748.0
RADIANCE_OFFSET = 0.581826
RADIANCE_SCALING_FACTOR = 0.00782287
REFLECTANCE_SCALING_FACTOR = 0.00110877
MEX:REFLECTANCE_OFFSET = 0.0824645
/* IMAGE OBJECT DEFINITIONS */
OBJECT = IMAGE
  INTERCHANGE_FORMAT = BINARY
  LINES = 7048
  LINE_SAMPLES = 827
  SAMPLE_TYPE = UNSIGNED_INTEGER
  SAMPLE_BITS = 8
  BANDS = 1
  BAND_STORAGE_TYPE = BAND_SEQUENTIAL
  MAXIMUM = 255
  MEAN = 124.546
  MINIMUM = 1
  STANDARD_DEVIATION = 41.7597
END_OBJECT = IMAGE
/* MAP OBJECT DEFINITIONS */
OBJECT = IMAGE_MAP_PROJECTION
  ^DATA_SET_MAP_PROJECTION_CATALOG= "DSMAP.CAT"
  A_AXIS_RADIUS = 3396.0
  B_AXIS_RADIUS = 3396.0
  C_AXIS_RADIUS = 3396.0
  CENTER_LATITUDE = 0.0
  CENTER_LONGITUDE = 295.0
  COORDINATE_SYSTEM_NAME = PLANETOGRAPHIC
  COORDINATE_SYSTEM_TYPE = "BODY-FIXED ROTATING"
  EASTERNMOST_LONGITUDE = 295.53
  FIRST_STANDARD_PARALLEL = "N/A"
  LINE_FIRST_PIXEL = 1
  LINE_LAST_PIXEL = 7048
  LINE_PROJECTION_OFFSET = 19249.9375
  MAP_PROJECTION_ROTATION = 0.0
  MAP_PROJECTION_TYPE = SINUSOIDAL
  MAP_RESOLUTION = 592.713803866667
  MAP_SCALE = 0.1
  MAXIMUM_LATITUDE = 32.4261
  MINIMUM_LATITUDE = 20.5771
  POSITIVE_LONGITUDE_DIRECTION = EAST
  REFERENCE_LATITUDE = "N/A"
  REFERENCE_LONGITUDE = "N/A"
  SAMPLE_FIRST_PIXEL = 1
  SAMPLE_LAST_PIXEL = 827
  SAMPLE_PROJECTION_OFFSET = 528.6875
  SECOND_STANDARD_PARALLEL = "N/A"
  WESTERNMOST_LONGITUDE = 294.002
END_OBJECT = IMAGE_MAP_PROJECTION
/* The JPEG2000 image data file associated with this label. */
OBJECT = COMPRESSED_FILE
  FILE_NAME = "H3140_0000_RE3.JP2"
  RECORD_TYPE = UNDEFINED
  FILE_RECORDS = UNK
  ENCODING_TYPE = "JP2"
  INTERCHANGE_FORMAT = BINARY
  UNCOMPRESSED_FILE_NAME = "H3140_0000_RE3.IMG"
  REQUIRED_STORAGE_BYTES = "5846890"
  ^DESCRIPTION = "JP2INFO.TXT"
END_OBJECT = COMPRESSED_FILE
END
