PDS_VERSION_ID = PDS3
/* FILE DATA ELEMENTS */
RECORD_TYPE = STREAM
/* POINTERS TO DATA OBJECTS */
^COMPRESSED_FILE = "H3144_0000_GR3.JP2"
/* IDENTIFICATION DATA ELEMENTS */
DATA_SET_ID = "MEX-M-HRSC-5-REFDR-MAPPROJECTED-V3.0"
DATA_SET_NAME = "MARS EXPRESS HRSC MAP PROJECTED REFDR V3.0"
DETECTOR_ID = MEX_HRSC_GREEN
EVENT_TYPE = "MARS-REGIONAL-MAPPING-Vo-Te"
INSTRUMENT_HOST_ID = MEX
INSTRUMENT_HOST_NAME = "MARS EXPRESS"
INSTRUMENT_ID = HRSC
INSTRUMENT_NAME = "HIGH RESOLUTION STEREO CAMERA"
MISSION_NAME = "MARS EXPRESS"
MISSION_PHASE_NAME = ME_Phase_3
PROCESSING_LEVEL_ID = 3
PRODUCT_CREATION_TIME = 2016-04-08T23:06:02.000Z
PRODUCT_ID = "H3144_0000_GR3.JP2"
RELEASE_ID = 0038
REVISION_ID = 0000
/* QUALITY DATA ELEMENTS */
DATA_QUALITY_ID = 1
DATA_QUALITY_DESC = "Data calculated based on original SPICE kernels"
/* TIME DATA ELEMENTS */
SPACECRAFT_CLOCK_START_COUNT = "1/0099016428.08274"
SPACECRAFT_CLOCK_STOP_COUNT = "1/0099016669.24185"
START_TIME = 2006-06-22T00:34:24.030Z
STOP_TIME = 2006-06-22T00:37:20.037Z
/* ORBITAL DATA ELEMENTS */
ASCENDING_NODE_LONGITUDE = 162.25
MAXIMUM_RESOLUTION = 100.7
FOOTPRINT_POINT_LATITUDE = (31.6783,31.6734,31.6682,31.524,31.261, 30.9977,30.7342,30.4702,30.2109,29.9894 ,29.7677,29.5457,29.3235,29.1011, 28.8786,28.6559,28.433,28.2099,27.9866, 27.7632,27.5396,27.3158,27.0918,26.8677 ,26.6434,26.4189,26.1942,25.9694, 25.7444,25.5193,25.1819,24.9639,24.7455 ,24.527,24.3083,24.0895,23.8706,23.6515 ,23.4323,23.213,22.8848,22.4601,22.035, 21.8222,21.6094,21.3965,21.1835,20.9703 ,20.7572,20.5439,20.3377,20.3396, 20.3406,20.3424,20.556,20.7694,20.9828, 21.1961,21.4093,21.6224,21.8354,22.1547 ,22.5801,22.899,23.118,23.3394,23.5604, 23.7805,23.9999,24.2182,24.4356,24.653, 24.9799,25.1991,25.424,25.763,25.9901, 26.2152,26.4388,26.6621,26.8867,27.1111 ,27.3353,27.6714,27.8952,28.1189, 28.3424,28.677,28.9001,29.1231,29.3457, 29.5682,29.7906,30.0127,30.2346,30.6282 ,30.8924,31.1563,31.4199,31.6783)
FOOTPRINT_POINT_LONGITUDE = (262.454,261.846,261.422,260.948, 260.959,260.969,260.979,260.989,260.998 ,261.007,261.014,261.022,261.03,261.037 ,261.044,261.051,261.059,261.066, 261.072,261.079,261.086,261.092,261.098 ,261.105,261.111,261.117,261.123, 261.128,261.134,261.14,261.147,261.153, 261.158,261.162,261.167,261.172,261.176 ,261.181,261.185,261.189,261.195, 261.203,261.21,261.214,261.217,261.22, 261.224,261.227,261.23,261.233,261.331, 261.722,262.091,262.391,262.392,262.393 ,262.394,262.395,262.396,262.397, 262.398,262.4,262.402,262.404,262.405, 262.402,262.401,262.4,262.401,262.404, 262.408,262.412,262.416,262.416,262.418 ,262.418,262.416,262.417,262.421, 262.426,262.427,262.429,262.43,262.432, 262.434,262.435,262.437,262.44,262.441, 262.443,262.444,262.446,262.447,262.449 ,262.45,262.453,262.455,262.457,262.459 ,262.454)
ORBIT_NUMBER = 3144
ORBITAL_ECCENTRICITY = 0.571
ORBITAL_INCLINATION = 86.65
ORBITAL_SEMIMAJOR_AXIS = 8631.35
PERIAPSIS_ALTITUDE = 308.35
PERIAPSIS_ARGUMENT_ANGLE = 165.5
PERIAPSIS_TIME = 2006-06-22T00:38:54.000Z
SPACECRAFT_ORIENTATION = (0.0,-1.0,0.0)
^MEX_ORIENTATION_DESC = "MEX_ORIENTATION_DESC.TXT"
SPACECRAFT_POINTING_MODE = NADIR
^MEX_POINTING_DESC = "MEX_POINTING_DESC.TXT"
RIGHT_ASCENSION = -1e+32
DECLINATION = -1e+32
OFFSET_ANGLE = -1e+32
SPACECRAFT_SOLAR_DISTANCE = 2.49222e+08
TARGET_NAME = MARS
/* CAMERA DATA ELEMENTS */
DETECTOR_TEMPERATURE = 18.1666
FOCAL_PLANE_TEMPERATURE = 7.7677
INST_CMPRS_NAME = "DISCRETE COSINE TRANSFORMATION (DCT)"
INST_CMPRS_RATIO = 21.5154
INST_CMPRS_QUALITY = 0
INST_CMPRS_QUANTZ_TBL_ID = 0
INSTRUMENT_TEMPERATURE = 11.0301
LENS_TEMPERATURE = 8.1755
MACROPIXEL_SIZE = 8
MISSING_FRAMES = 0
PIXEL_SUBSAMPLING_FLAG = N
SIGNAL_CHAIN_ID = 2
/* RADIOMETRIC DATA ELEMENTS */
BANDWIDTH = 88.0
CENTER_FILTER_WAVELENGTH = 538.0
RADIANCE_OFFSET = 0.710285
RADIANCE_SCALING_FACTOR = 0.00847235
REFLECTANCE_SCALING_FACTOR = 0.000453072
MEX:REFLECTANCE_OFFSET = 0.0379836
/* IMAGE OBJECT DEFINITIONS */
OBJECT = IMAGE
  INTERCHANGE_FORMAT = BINARY
  LINES = 6724
  LINE_SAMPLES = 810
  SAMPLE_TYPE = UNSIGNED_INTEGER
  SAMPLE_BITS = 8
  BANDS = 1
  BAND_STORAGE_TYPE = BAND_SEQUENTIAL
  MAXIMUM = 255
  MEAN = 158.59
  MINIMUM = 1
  STANDARD_DEVIATION = 13.4578
END_OBJECT = IMAGE
/* MAP OBJECT DEFINITIONS */
OBJECT = IMAGE_MAP_PROJECTION
  ^DATA_SET_MAP_PROJECTION_CATALOG= "DSMAP.CAT"
  A_AXIS_RADIUS = 3396.0
  B_AXIS_RADIUS = 3396.0
  C_AXIS_RADIUS = 3396.0
  CENTER_LATITUDE = 0.0
  CENTER_LONGITUDE = 262.0
  COORDINATE_SYSTEM_NAME = PLANETOGRAPHIC
  COORDINATE_SYSTEM_TYPE = "BODY-FIXED ROTATING"
  EASTERNMOST_LONGITUDE = 262.459
  FIRST_STANDARD_PARALLEL = "N/A"
  LINE_FIRST_PIXEL = 1
  LINE_LAST_PIXEL = 6724
  LINE_PROJECTION_OFFSET = 18775.5625
  MAP_PROJECTION_ROTATION = 0.0
  MAP_PROJECTION_TYPE = SINUSOIDAL
  MAP_RESOLUTION = 592.713803866667
  MAP_SCALE = 0.1
  MAXIMUM_LATITUDE = 31.6783
  MINIMUM_LATITUDE = 20.3377
  POSITIVE_LONGITUDE_DIRECTION = EAST
  REFERENCE_LATITUDE = "N/A"
  REFERENCE_LONGITUDE = "N/A"
  SAMPLE_FIRST_PIXEL = 1
  SAMPLE_LAST_PIXEL = 810
  SAMPLE_PROJECTION_OFFSET = 557.6875
  SECOND_STANDARD_PARALLEL = "N/A"
  WESTERNMOST_LONGITUDE = 260.948
END_OBJECT = IMAGE_MAP_PROJECTION
/* The JPEG2000 image data file associated with this label. */
OBJECT = COMPRESSED_FILE
  FILE_NAME = "H3144_0000_GR3.JP2"
  RECORD_TYPE = UNDEFINED
  FILE_RECORDS = UNK
  ENCODING_TYPE = "JP2"
  INTERCHANGE_FORMAT = BINARY
  UNCOMPRESSED_FILE_NAME = "H3144_0000_GR3.IMG"
  REQUIRED_STORAGE_BYTES = "5464260"
  ^DESCRIPTION = "JP2INFO.TXT"
END_OBJECT = COMPRESSED_FILE
END
