PDS_VERSION_ID = PDS3
/* FILE DATA ELEMENTS */
RECORD_TYPE = STREAM
/* POINTERS TO DATA OBJECTS */
^COMPRESSED_FILE = "H3144_0000_P13.JP2"
/* IDENTIFICATION DATA ELEMENTS */
DATA_SET_ID = "MEX-M-HRSC-5-REFDR-MAPPROJECTED-V3.0"
DATA_SET_NAME = "MARS EXPRESS HRSC MAP PROJECTED REFDR V3.0"
DETECTOR_ID = MEX_HRSC_P1
EVENT_TYPE = "MARS-REGIONAL-MAPPING-Vo-Te"
INSTRUMENT_HOST_ID = MEX
INSTRUMENT_HOST_NAME = "MARS EXPRESS"
INSTRUMENT_ID = HRSC
INSTRUMENT_NAME = "HIGH RESOLUTION STEREO CAMERA"
MISSION_NAME = "MARS EXPRESS"
MISSION_PHASE_NAME = ME_Phase_3
PROCESSING_LEVEL_ID = 3
PRODUCT_CREATION_TIME = 2016-04-08T23:06:02.000Z
PRODUCT_ID = "H3144_0000_P13.JP2"
RELEASE_ID = 0038
REVISION_ID = 0000
/* QUALITY DATA ELEMENTS */
DATA_QUALITY_ID = 1
DATA_QUALITY_DESC = "Data calculated based on original SPICE kernels"
/* TIME DATA ELEMENTS */
SPACECRAFT_CLOCK_START_COUNT = "1/0099016428.08274"
SPACECRAFT_CLOCK_STOP_COUNT = "1/0099016669.24185"
START_TIME = 2006-06-22T00:34:06.297Z
STOP_TIME = 2006-06-22T00:37:06.157Z
/* ORBITAL DATA ELEMENTS */
ASCENDING_NODE_LONGITUDE = 162.25
MAXIMUM_RESOLUTION = 26.1
FOOTPRINT_POINT_LATITUDE = (31.713,31.7104,31.7074,31.7037,31.6823 ,31.4251,31.1674,30.9091,30.6501, 30.2623,30.003,29.7432,29.483,29.1096, 28.7814,28.5623,28.3429,28.1234,27.9032 ,27.6833,27.4629,27.2421,27.0213, 26.8003,26.579,26.2465,26.0245,25.8022, 25.5797,25.3571,25.133,24.9108,24.6874, 24.4638,24.1323,23.9154,23.6981,23.372, 23.1544,22.9365,22.7185,22.5003,22.2818 ,21.9551,21.7435,21.5317,21.3198, 21.1078,20.8956,20.6833,20.4708,20.3448 ,20.3467,20.3476,20.3481,20.6676, 20.8803,21.0927,21.305,21.517,21.729, 21.941,22.1579,22.3765,22.7044,23.0319, 23.366,23.5887,23.81,24.0273,24.2424, 24.4589,24.678,25.0083,25.2346,25.4571, 25.6807,25.9112,26.1363,26.3568,26.5714 ,26.7908,27.0122,27.3435,27.6751, 28.0056,28.3358,28.5554,28.7738,28.9937 ,29.213,29.6034,29.8641,30.1244,30.3841 ,30.7731,31.1609,31.4193,31.6771, 31.713)
FOOTPRINT_POINT_LONGITUDE = (262.098,261.841,261.614,261.372, 260.907,260.918,260.929,260.939,260.949 ,260.965,260.975,260.985,260.994, 261.007,261.018,261.026,261.033,261.04, 261.047,261.054,261.061,261.068,261.074 ,261.081,261.087,261.096,261.103, 261.108,261.114,261.12,261.125,261.131, 261.136,261.141,261.149,261.154,261.158 ,261.165,261.169,261.174,261.178, 261.182,261.186,261.192,261.195,261.199 ,261.203,261.206,261.209,261.212, 261.216,261.434,261.732,261.96,262.281, 262.401,262.402,262.403,262.404,262.406 ,262.407,262.408,262.409,262.411, 262.413,262.415,262.413,262.412,262.411 ,262.413,262.415,262.42,262.424,262.429 ,262.429,262.431,262.432,262.43,262.43, 262.433,262.438,262.441,262.443,262.446 ,262.448,262.451,262.454,262.456, 262.458,262.459,262.461,262.465,262.467 ,262.469,262.471,262.475,262.478,262.48 ,262.483,262.098)
ORBIT_NUMBER = 3144
ORBITAL_ECCENTRICITY = 0.571
ORBITAL_INCLINATION = 86.65
ORBITAL_SEMIMAJOR_AXIS = 8631.35
PERIAPSIS_ALTITUDE = 308.35
PERIAPSIS_ARGUMENT_ANGLE = 165.5
PERIAPSIS_TIME = 2006-06-22T00:38:54.000Z
SPACECRAFT_ORIENTATION = (0.0,-1.0,0.0)
^MEX_ORIENTATION_DESC = "MEX_ORIENTATION_DESC.TXT"
SPACECRAFT_POINTING_MODE = NADIR
^MEX_POINTING_DESC = "MEX_POINTING_DESC.TXT"
RIGHT_ASCENSION = -1e+32
DECLINATION = -1e+32
OFFSET_ANGLE = -1e+32
SPACECRAFT_SOLAR_DISTANCE = 2.49222e+08
TARGET_NAME = MARS
/* CAMERA DATA ELEMENTS */
DETECTOR_TEMPERATURE = 17.351
FOCAL_PLANE_TEMPERATURE = 7.7677
INST_CMPRS_NAME = "DISCRETE COSINE TRANSFORMATION (DCT)"
INST_CMPRS_RATIO = 13.6512
INST_CMPRS_QUALITY = 0
INST_CMPRS_QUANTZ_TBL_ID = 0
INSTRUMENT_TEMPERATURE = 11.0301
LENS_TEMPERATURE = 8.1755
MACROPIXEL_SIZE = 2
MISSING_FRAMES = 0
PIXEL_SUBSAMPLING_FLAG = N
SIGNAL_CHAIN_ID = 3
/* RADIOMETRIC DATA ELEMENTS */
BANDWIDTH = 174.0
CENTER_FILTER_WAVELENGTH = 675.0
RADIANCE_OFFSET = 2.38822
RADIANCE_SCALING_FACTOR = 0.0313262
REFLECTANCE_SCALING_FACTOR = 0.00104657
MEX:REFLECTANCE_OFFSET = 0.0797871
/* IMAGE OBJECT DEFINITIONS */
OBJECT = IMAGE
  INTERCHANGE_FORMAT = BINARY
  LINES = 26895
  LINE_SAMPLES = 3238
  SAMPLE_TYPE = UNSIGNED_INTEGER
  SAMPLE_BITS = 8
  BANDS = 1
  BAND_STORAGE_TYPE = BAND_SEQUENTIAL
  MAXIMUM = 255
  MEAN = 158.114
  MINIMUM = 1
  STANDARD_DEVIATION = 12.9731
END_OBJECT = IMAGE
/* MAP OBJECT DEFINITIONS */
OBJECT = IMAGE_MAP_PROJECTION
  ^DATA_SET_MAP_PROJECTION_CATALOG= "DSMAP.CAT"
  A_AXIS_RADIUS = 3396.0
  B_AXIS_RADIUS = 3396.0
  C_AXIS_RADIUS = 3396.0
  CENTER_LATITUDE = 0.0
  CENTER_LONGITUDE = 262.0
  COORDINATE_SYSTEM_NAME = PLANETOGRAPHIC
  COORDINATE_SYSTEM_TYPE = "BODY-FIXED ROTATING"
  EASTERNMOST_LONGITUDE = 262.483
  FIRST_STANDARD_PARALLEL = "N/A"
  LINE_FIRST_PIXEL = 1
  LINE_LAST_PIXEL = 26895
  LINE_PROJECTION_OFFSET = 75103.75
  MAP_PROJECTION_ROTATION = 0.0
  MAP_PROJECTION_TYPE = SINUSOIDAL
  MAP_RESOLUTION = 2370.85521546667
  MAP_SCALE = 0.025
  MAXIMUM_LATITUDE = 31.713
  MINIMUM_LATITUDE = 20.3448
  POSITIVE_LONGITUDE_DIRECTION = EAST
  REFERENCE_LATITUDE = "N/A"
  REFERENCE_LONGITUDE = "N/A"
  SAMPLE_FIRST_PIXEL = 1
  SAMPLE_LAST_PIXEL = 3238
  SAMPLE_PROJECTION_OFFSET = 2232.25
  SECOND_STANDARD_PARALLEL = "N/A"
  WESTERNMOST_LONGITUDE = 260.907
END_OBJECT = IMAGE_MAP_PROJECTION
/* The JPEG2000 image data file associated with this label. */
OBJECT = COMPRESSED_FILE
  FILE_NAME = "H3144_0000_P13.JP2"
  RECORD_TYPE = UNDEFINED
  FILE_RECORDS = UNK
  ENCODING_TYPE = "JP2"
  INTERCHANGE_FORMAT = BINARY
  UNCOMPRESSED_FILE_NAME = "H3144_0000_P13.IMG"
  REQUIRED_STORAGE_BYTES = "87108676"
  ^DESCRIPTION = "JP2INFO.TXT"
END_OBJECT = COMPRESSED_FILE
END
