PDS_VERSION_ID = PDS3
/* FILE DATA ELEMENTS */
RECORD_TYPE = STREAM
/* POINTERS TO DATA OBJECTS */
^COMPRESSED_FILE = "H3144_0000_RE3.JP2"
/* IDENTIFICATION DATA ELEMENTS */
DATA_SET_ID = "MEX-M-HRSC-5-REFDR-MAPPROJECTED-V3.0"
DATA_SET_NAME = "MARS EXPRESS HRSC MAP PROJECTED REFDR V3.0"
DETECTOR_ID = MEX_HRSC_RED
EVENT_TYPE = "MARS-REGIONAL-MAPPING-Vo-Te"
INSTRUMENT_HOST_ID = MEX
INSTRUMENT_HOST_NAME = "MARS EXPRESS"
INSTRUMENT_ID = HRSC
INSTRUMENT_NAME = "HIGH RESOLUTION STEREO CAMERA"
MISSION_NAME = "MARS EXPRESS"
MISSION_PHASE_NAME = ME_Phase_3
PROCESSING_LEVEL_ID = 3
PRODUCT_CREATION_TIME = 2016-04-08T23:06:02.000Z
PRODUCT_ID = "H3144_0000_RE3.JP2"
RELEASE_ID = 0038
REVISION_ID = 0000
/* QUALITY DATA ELEMENTS */
DATA_QUALITY_ID = 1
DATA_QUALITY_DESC = "Data calculated based on original SPICE kernels"
/* TIME DATA ELEMENTS */
SPACECRAFT_CLOCK_START_COUNT = "1/0099016428.08274"
SPACECRAFT_CLOCK_STOP_COUNT = "1/0099016669.24185"
START_TIME = 2006-06-22T00:34:57.307Z
STOP_TIME = 2006-06-22T00:37:48.023Z
/* ORBITAL DATA ELEMENTS */
ASCENDING_NODE_LONGITUDE = 162.25
MAXIMUM_RESOLUTION = 103.7
FOOTPRINT_POINT_LATITUDE = (31.6383,31.6366,31.6338,31.6312, 31.6291,31.6269,31.5197,31.2852,31.0509 ,30.6999,30.4644,30.2289,29.8763, 29.6413,29.4064,29.0539,28.701,28.4655, 28.2302,27.8772,27.5237,27.2884,26.9416 ,26.5992,26.2573,26.0293,25.6873, 25.3452,25.0034,24.7756,24.5551,24.3347 ,24.0041,23.6735,23.4531,23.1226, 22.7921,22.5718,22.2417,22.0214,21.8015 ,21.5838,21.3712,21.0525,20.8399, 20.5213,20.3089,20.3063,20.307,20.3079, 20.3084,20.309,20.4176,20.6302,20.949, 21.1615,21.3743,21.5869,21.8047,22.0254 ,22.2454,22.5762,22.9065,23.1266, 23.3392,23.5513,23.769,23.989,24.3276, 24.67,24.898,25.2367,25.4655,25.691, 25.9118,26.1362,26.3705,26.6054,26.8356 ,27.0641,27.2973,27.6507,27.8866, 28.1222,28.3579,28.4776,28.5964,28.8298 ,28.9482,29.1833,29.4187,29.6539,29.889 ,30.242,30.5946,30.8296,31.0651,31.4172 ,31.652,31.6383)
FOOTPRINT_POINT_LONGITUDE = (262.234,262.057,261.784,261.553, 261.376,261.198,260.971,260.979,260.988 ,261.0,261.009,261.017,261.029,261.037, 261.044,261.055,261.066,261.073,261.08, 261.09,261.1,261.106,261.115,261.124, 261.132,261.138,261.146,261.153,261.161 ,261.166,261.17,261.175,261.181,261.187 ,261.191,261.197,261.203,261.206, 261.211,261.215,261.218,261.221,261.224 ,261.228,261.231,261.235,261.238, 261.376,261.559,261.807,261.957,262.14, 262.385,262.385,262.386,262.387,262.388 ,262.389,262.389,262.39,262.391,262.392 ,262.393,262.394,262.391,262.389, 262.389,262.389,262.394,262.399,262.402 ,262.402,262.403,262.403,262.401,262.4, 262.404,262.408,262.409,262.41,262.412, 262.413,262.414,262.415,262.417,262.418 ,262.419,262.419,262.42,262.421,262.422 ,262.423,262.424,262.426,262.427, 262.428,262.43,262.431,262.432,262.234)
ORBIT_NUMBER = 3144
ORBITAL_ECCENTRICITY = 0.571
ORBITAL_INCLINATION = 86.65
ORBITAL_SEMIMAJOR_AXIS = 8631.35
PERIAPSIS_ALTITUDE = 308.35
PERIAPSIS_ARGUMENT_ANGLE = 165.5
PERIAPSIS_TIME = 2006-06-22T00:38:54.000Z
SPACECRAFT_ORIENTATION = (0.0,-1.0,0.0)
^MEX_ORIENTATION_DESC = "MEX_ORIENTATION_DESC.TXT"
SPACECRAFT_POINTING_MODE = NADIR
^MEX_POINTING_DESC = "MEX_POINTING_DESC.TXT"
RIGHT_ASCENSION = -1e+32
DECLINATION = -1e+32
OFFSET_ANGLE = -1e+32
SPACECRAFT_SOLAR_DISTANCE = 2.49222e+08
TARGET_NAME = MARS
/* CAMERA DATA ELEMENTS */
DETECTOR_TEMPERATURE = 18.3705
FOCAL_PLANE_TEMPERATURE = 7.7677
INST_CMPRS_NAME = "DISCRETE COSINE TRANSFORMATION (DCT)"
INST_CMPRS_RATIO = 19.2081
INST_CMPRS_QUALITY = 0
INST_CMPRS_QUANTZ_TBL_ID = 0
INSTRUMENT_TEMPERATURE = 11.0301
LENS_TEMPERATURE = 8.1755
MACROPIXEL_SIZE = 8
MISSING_FRAMES = 0
PIXEL_SUBSAMPLING_FLAG = N
SIGNAL_CHAIN_ID = 2
/* RADIOMETRIC DATA ELEMENTS */
BANDWIDTH = 48.0
CENTER_FILTER_WAVELENGTH = 748.0
RADIANCE_OFFSET = 0.687948
RADIANCE_SCALING_FACTOR = 0.00917263
REFLECTANCE_SCALING_FACTOR = 0.00130015
MEX:REFLECTANCE_OFFSET = 0.0975115
/* IMAGE OBJECT DEFINITIONS */
OBJECT = IMAGE
  INTERCHANGE_FORMAT = BINARY
  LINES = 6724
  LINE_SAMPLES = 810
  SAMPLE_TYPE = UNSIGNED_INTEGER
  SAMPLE_BITS = 8
  BANDS = 1
  BAND_STORAGE_TYPE = BAND_SEQUENTIAL
  MAXIMUM = 255
  MEAN = 152.768
  MINIMUM = 1
  STANDARD_DEVIATION = 13.8676
END_OBJECT = IMAGE
/* MAP OBJECT DEFINITIONS */
OBJECT = IMAGE_MAP_PROJECTION
  ^DATA_SET_MAP_PROJECTION_CATALOG= "DSMAP.CAT"
  A_AXIS_RADIUS = 3396.0
  B_AXIS_RADIUS = 3396.0
  C_AXIS_RADIUS = 3396.0
  CENTER_LATITUDE = 0.0
  CENTER_LONGITUDE = 262.0
  COORDINATE_SYSTEM_NAME = PLANETOGRAPHIC
  COORDINATE_SYSTEM_TYPE = "BODY-FIXED ROTATING"
  EASTERNMOST_LONGITUDE = 262.432
  FIRST_STANDARD_PARALLEL = "N/A"
  LINE_FIRST_PIXEL = 1
  LINE_LAST_PIXEL = 6724
  LINE_PROJECTION_OFFSET = 18775.5625
  MAP_PROJECTION_ROTATION = 0.0
  MAP_PROJECTION_TYPE = SINUSOIDAL
  MAP_RESOLUTION = 592.713803866667
  MAP_SCALE = 0.1
  MAXIMUM_LATITUDE = 31.652
  MINIMUM_LATITUDE = 20.3063
  POSITIVE_LONGITUDE_DIRECTION = EAST
  REFERENCE_LATITUDE = "N/A"
  REFERENCE_LONGITUDE = "N/A"
  SAMPLE_FIRST_PIXEL = 1
  SAMPLE_LAST_PIXEL = 810
  SAMPLE_PROJECTION_OFFSET = 557.6875
  SECOND_STANDARD_PARALLEL = "N/A"
  WESTERNMOST_LONGITUDE = 260.971
END_OBJECT = IMAGE_MAP_PROJECTION
/* The JPEG2000 image data file associated with this label. */
OBJECT = COMPRESSED_FILE
  FILE_NAME = "H3144_0000_RE3.JP2"
  RECORD_TYPE = UNDEFINED
  FILE_RECORDS = UNK
  ENCODING_TYPE = "JP2"
  INTERCHANGE_FORMAT = BINARY
  UNCOMPRESSED_FILE_NAME = "H3144_0000_RE3.IMG"
  REQUIRED_STORAGE_BYTES = "5464260"
  ^DESCRIPTION = "JP2INFO.TXT"
END_OBJECT = COMPRESSED_FILE
END
