PDS_VERSION_ID = PDS3
/* FILE DATA ELEMENTS */
RECORD_TYPE = STREAM
/* POINTERS TO DATA OBJECTS */
^COMPRESSED_FILE = "H3147_0000_GR3.JP2"
/* IDENTIFICATION DATA ELEMENTS */
DATA_SET_ID = "MEX-M-HRSC-5-REFDR-MAPPROJECTED-V3.0"
DATA_SET_NAME = "MARS EXPRESS HRSC MAP PROJECTED REFDR V3.0"
DETECTOR_ID = MEX_HRSC_GREEN
EVENT_TYPE = "MARS-LOCAL-CARTOGRAPHY-Fl-Ot"
INSTRUMENT_HOST_ID = MEX
INSTRUMENT_HOST_NAME = "MARS EXPRESS"
INSTRUMENT_ID = HRSC
INSTRUMENT_NAME = "HIGH RESOLUTION STEREO CAMERA"
MISSION_NAME = "MARS EXPRESS"
MISSION_PHASE_NAME = ME_Phase_3
PROCESSING_LEVEL_ID = 3
PRODUCT_CREATION_TIME = 2016-04-08T23:06:02.000Z
PRODUCT_ID = "H3147_0000_GR3.JP2"
RELEASE_ID = 0038
REVISION_ID = 0000
/* QUALITY DATA ELEMENTS */
DATA_QUALITY_ID = 2
DATA_QUALITY_DESC = "Data calculated based on photogrammetrically improved orbit and attitude data"
/* TIME DATA ELEMENTS */
SPACECRAFT_CLOCK_START_COUNT = "1/0099089162.09069"
SPACECRAFT_CLOCK_STOP_COUNT = "1/0099089279.32549"
START_TIME = 2006-06-22T20:46:31.487Z
STOP_TIME = 2006-06-22T20:47:30.573Z
/* ORBITAL DATA ELEMENTS */
ASCENDING_NODE_LONGITUDE = 162.19
MAXIMUM_RESOLUTION = 101.1
FOOTPRINT_POINT_LATITUDE = (21.4537,21.4536,21.4534,21.4532,21.453 ,21.4527,21.4523,21.4516,21.4511, 21.4506,21.4496,21.3627,21.2852,21.169, 21.0914,21.014,20.937,20.8588,20.7812, 20.7036,20.5873,20.5097,20.4322,20.3546 ,20.277,20.1604,20.0827,20.005,19.8894, 19.7019,19.5518,19.3642,19.2141,19.0263 ,18.8762,18.726,18.5757,18.5005,18.4254 ,18.3502,18.275,18.1999,18.1247,18.0495 ,17.9743,17.8991,17.8239,17.711,17.5762 ,17.5767,17.5771,17.5776,17.5778, 17.5781,17.5784,17.5785,17.5786,17.5786 ,17.5784,17.7303,17.8432,17.9184, 17.9935,18.0689,18.1441,18.2569,18.332, 18.4072,18.52,18.6705,18.7457,18.8584, 18.9336,19.0088,19.0839,19.159,19.2342, 19.3469,19.422,19.6099,19.76,19.9101, 20.0264,20.1041,20.1818,20.2594,20.376, 20.4536,20.5313,20.6089,20.6866,20.803, 20.8806,20.9582,21.0358,21.1134,21.191, 21.2685,21.3461,21.4537)
FOOTPRINT_POINT_LONGITUDE = (327.622,327.49,327.324,327.235,327.147 ,327.058,326.97,326.815,326.727,326.639 ,326.506,326.433,326.434,326.435, 326.436,326.438,326.44,326.44,326.441, 326.442,326.443,326.444,326.445,326.446 ,326.447,326.449,326.45,326.45,326.452, 326.454,326.456,326.458,326.459,326.461 ,326.463,326.465,326.466,326.467, 326.467,326.468,326.469,326.47,326.47, 326.471,326.472,326.472,326.473,326.474 ,326.475,326.602,326.699,326.86,326.957 ,327.054,327.193,327.279,327.386, 327.472,327.59,327.62,327.62,327.621, 327.621,327.621,327.622,327.622,327.623 ,327.623,327.623,327.624,327.624, 327.625,327.625,327.625,327.626,327.626 ,327.626,327.627,327.627,327.628, 327.628,327.629,327.63,327.63,327.63, 327.631,327.631,327.632,327.632,327.633 ,327.633,327.634,327.634,327.634, 327.635,327.635,327.635,327.636,327.636 ,327.622)
ORBIT_NUMBER = 3147
ORBITAL_ECCENTRICITY = 0.57
ORBITAL_INCLINATION = 86.67
ORBITAL_SEMIMAJOR_AXIS = 8613.88
PERIAPSIS_ALTITUDE = 309.31
PERIAPSIS_ARGUMENT_ANGLE = 164.96
PERIAPSIS_TIME = 2006-06-22T20:48:14.000Z
SPACECRAFT_ORIENTATION = (0.0,-1.0,0.0)
^MEX_ORIENTATION_DESC = "MEX_ORIENTATION_DESC.TXT"
SPACECRAFT_POINTING_MODE = NADIR
^MEX_POINTING_DESC = "MEX_POINTING_DESC.TXT"
RIGHT_ASCENSION = -1e+32
DECLINATION = -1e+32
OFFSET_ANGLE = -1e+32
SPACECRAFT_SOLAR_DISTANCE = 2.49227e+08
TARGET_NAME = MARS
/* CAMERA DATA ELEMENTS */
DETECTOR_TEMPERATURE = 18.1666
FOCAL_PLANE_TEMPERATURE = 8.3794
INST_CMPRS_NAME = "DISCRETE COSINE TRANSFORMATION (DCT)"
INST_CMPRS_RATIO = 18.9185
INST_CMPRS_QUALITY = 0
INST_CMPRS_QUANTZ_TBL_ID = 0
INSTRUMENT_TEMPERATURE = 11.4379
LENS_TEMPERATURE = 8.7872
MACROPIXEL_SIZE = 8
MISSING_FRAMES = 0
PIXEL_SUBSAMPLING_FLAG = N
SIGNAL_CHAIN_ID = 2
/* RADIOMETRIC DATA ELEMENTS */
BANDWIDTH = 88.0
CENTER_FILTER_WAVELENGTH = 538.0
RADIANCE_OFFSET = 1.34089
RADIANCE_SCALING_FACTOR = 0.00341794
REFLECTANCE_SCALING_FACTOR = 0.000182786
MEX:REFLECTANCE_OFFSET = 0.0717084
/* IMAGE OBJECT DEFINITIONS */
OBJECT = IMAGE
  INTERCHANGE_FORMAT = BINARY
  LINES = 2298
  LINE_SAMPLES = 705
  SAMPLE_TYPE = UNSIGNED_INTEGER
  SAMPLE_BITS = 8
  BANDS = 1
  BAND_STORAGE_TYPE = BAND_SEQUENTIAL
  MAXIMUM = 255
  MEAN = 140.248
  MINIMUM = 1
  STANDARD_DEVIATION = 15.7052
END_OBJECT = IMAGE
/* MAP OBJECT DEFINITIONS */
OBJECT = IMAGE_MAP_PROJECTION
  ^DATA_SET_MAP_PROJECTION_CATALOG= "DSMAP.CAT"
  A_AXIS_RADIUS = 3396.0
  B_AXIS_RADIUS = 3396.0
  C_AXIS_RADIUS = 3396.0
  CENTER_LATITUDE = 0.0
  CENTER_LONGITUDE = 327.0
  COORDINATE_SYSTEM_NAME = PLANETOGRAPHIC
  COORDINATE_SYSTEM_TYPE = "BODY-FIXED ROTATING"
  EASTERNMOST_LONGITUDE = 327.636
  FIRST_STANDARD_PARALLEL = "N/A"
  LINE_FIRST_PIXEL = 1
  LINE_LAST_PIXEL = 2298
  LINE_PROJECTION_OFFSET = 12715.6875
  MAP_PROJECTION_ROTATION = 0.0
  MAP_PROJECTION_TYPE = SINUSOIDAL
  MAP_RESOLUTION = 592.713803866667
  MAP_SCALE = 0.1
  MAXIMUM_LATITUDE = 21.4537
  MINIMUM_LATITUDE = 17.5762
  POSITIVE_LONGITUDE_DIRECTION = EAST
  REFERENCE_LATITUDE = "N/A"
  REFERENCE_LONGITUDE = "N/A"
  SAMPLE_FIRST_PIXEL = 1
  SAMPLE_LAST_PIXEL = 705
  SAMPLE_PROJECTION_OFFSET = 334.4375
  SECOND_STANDARD_PARALLEL = "N/A"
  WESTERNMOST_LONGITUDE = 326.433
END_OBJECT = IMAGE_MAP_PROJECTION
/* The JPEG2000 image data file associated with this label. */
OBJECT = COMPRESSED_FILE
  FILE_NAME = "H3147_0000_GR3.JP2"
  RECORD_TYPE = UNDEFINED
  FILE_RECORDS = UNK
  ENCODING_TYPE = "JP2"
  INTERCHANGE_FORMAT = BINARY
  UNCOMPRESSED_FILE_NAME = "H3147_0000_GR3.IMG"
  REQUIRED_STORAGE_BYTES = "1637715"
  ^DESCRIPTION = "JP2INFO.TXT"
END_OBJECT = COMPRESSED_FILE
END
