PDS_VERSION_ID = PDS3
/* FILE DATA ELEMENTS */
RECORD_TYPE = STREAM
/* POINTERS TO DATA OBJECTS */
^COMPRESSED_FILE = "H3147_0000_S13.JP2"
/* IDENTIFICATION DATA ELEMENTS */
DATA_SET_ID = "MEX-M-HRSC-5-REFDR-MAPPROJECTED-V3.0"
DATA_SET_NAME = "MARS EXPRESS HRSC MAP PROJECTED REFDR V3.0"
DETECTOR_ID = MEX_HRSC_S1
EVENT_TYPE = "MARS-LOCAL-CARTOGRAPHY-Fl-Ot"
INSTRUMENT_HOST_ID = MEX
INSTRUMENT_HOST_NAME = "MARS EXPRESS"
INSTRUMENT_ID = HRSC
INSTRUMENT_NAME = "HIGH RESOLUTION STEREO CAMERA"
MISSION_NAME = "MARS EXPRESS"
MISSION_PHASE_NAME = ME_Phase_3
PROCESSING_LEVEL_ID = 3
PRODUCT_CREATION_TIME = 2016-04-08T23:06:02.000Z
PRODUCT_ID = "H3147_0000_S13.JP2"
RELEASE_ID = 0038
REVISION_ID = 0000
/* QUALITY DATA ELEMENTS */
DATA_QUALITY_ID = 2
DATA_QUALITY_DESC = "Data calculated based on photogrammetrically improved orbit and attitude data"
/* TIME DATA ELEMENTS */
SPACECRAFT_CLOCK_START_COUNT = "1/0099089162.09069"
SPACECRAFT_CLOCK_STOP_COUNT = "1/0099089279.32549"
START_TIME = 2006-06-22T20:46:07.441Z
STOP_TIME = 2006-06-22T20:47:07.565Z
/* ORBITAL DATA ELEMENTS */
ASCENDING_NODE_LONGITUDE = 162.19
MAXIMUM_RESOLUTION = 27.1
FOOTPRINT_POINT_LATITUDE = (21.4599,21.46,21.4599,21.4597,21.4595, 21.4591,21.4587,21.4582,21.4575,21.4568 ,21.4553,21.4542,21.372,21.2204,21.1065 ,20.9563,20.8783,20.8019,20.6879, 20.5362,20.4222,20.3462,20.27,20.1934, 20.1168,20.0405,19.926,19.8497,19.7733, 19.697,19.5824,19.506,19.4296,19.3531, 19.2766,19.1618,19.0853,19.0088,18.9324 ,18.8559,18.741,18.6644,18.5878,18.5112 ,18.4344,18.3208,18.1729,18.0247, 17.8697,17.6835,17.5416,17.543,17.5442, 17.5447,17.5463,17.5476,17.5479,17.5494 ,17.5491,17.5868,17.7714,17.8819, 17.9991,18.185,18.3323,18.4462,18.523, 18.5997,18.6765,18.7533,18.8299,18.9066 ,19.0216,19.0982,19.1748,19.2514,19.328 ,19.4429,19.5195,19.5961,19.6726, 19.7872,19.8636,19.94,20.0162,20.0924, 20.2067,20.2828,20.3589,20.4351,20.5112 ,20.6253,20.7014,20.7773,20.8534, 20.9295,21.0436,21.1955,21.3473, 21.4599)
FOOTPRINT_POINT_LONGITUDE = (327.637,327.484,327.378,327.296, 327.202,327.107,327.025,326.931,326.837 ,326.743,326.589,326.483,326.408,326.41 ,326.412,326.415,326.416,326.417, 326.418,326.421,326.422,326.424,326.425 ,326.426,326.427,326.428,326.429,326.43 ,326.431,326.432,326.434,326.435, 326.436,326.437,326.437,326.439,326.44, 326.441,326.442,326.443,326.444,326.445 ,326.446,326.447,326.447,326.449,326.45 ,326.452,326.453,326.455,326.456, 326.626,326.785,326.876,327.023,327.205 ,327.296,327.42,327.511,327.628,327.63, 327.631,327.631,327.632,327.633,327.634 ,327.634,327.635,327.635,327.636, 327.636,327.636,327.637,327.638,327.638 ,327.638,327.639,327.639,327.64,327.64, 327.641,327.641,327.642,327.642,327.643 ,327.643,327.644,327.645,327.645, 327.645,327.646,327.647,327.647,327.648 ,327.648,327.649,327.649,327.65,327.651 ,327.637)
ORBIT_NUMBER = 3147
ORBITAL_ECCENTRICITY = 0.57
ORBITAL_INCLINATION = 86.67
ORBITAL_SEMIMAJOR_AXIS = 8613.88
PERIAPSIS_ALTITUDE = 309.31
PERIAPSIS_ARGUMENT_ANGLE = 164.96
PERIAPSIS_TIME = 2006-06-22T20:48:14.000Z
SPACECRAFT_ORIENTATION = (0.0,-1.0,0.0)
^MEX_ORIENTATION_DESC = "MEX_ORIENTATION_DESC.TXT"
SPACECRAFT_POINTING_MODE = NADIR
^MEX_POINTING_DESC = "MEX_POINTING_DESC.TXT"
RIGHT_ASCENSION = -1e+32
DECLINATION = -1e+32
OFFSET_ANGLE = -1e+32
SPACECRAFT_SOLAR_DISTANCE = 2.49227e+08
TARGET_NAME = MARS
/* CAMERA DATA ELEMENTS */
DETECTOR_TEMPERATURE = 17.1471
FOCAL_PLANE_TEMPERATURE = 8.3794
INST_CMPRS_NAME = "DISCRETE COSINE TRANSFORMATION (DCT)"
INST_CMPRS_RATIO = 11.4872
INST_CMPRS_QUALITY = 0
INST_CMPRS_QUANTZ_TBL_ID = 0
INSTRUMENT_TEMPERATURE = 11.4379
LENS_TEMPERATURE = 8.7872
MACROPIXEL_SIZE = 2
MISSING_FRAMES = 14
PIXEL_SUBSAMPLING_FLAG = N
SIGNAL_CHAIN_ID = 1
/* RADIOMETRIC DATA ELEMENTS */
BANDWIDTH = 180.0
CENTER_FILTER_WAVELENGTH = 677.0
RADIANCE_OFFSET = 3.85085
RADIANCE_SCALING_FACTOR = 0.0137031
REFLECTANCE_SCALING_FACTOR = 0.000444069
MEX:REFLECTANCE_OFFSET = 0.124792
/* IMAGE OBJECT DEFINITIONS */
OBJECT = IMAGE
  INTERCHANGE_FORMAT = BINARY
  LINES = 9189
  LINE_SAMPLES = 2819
  SAMPLE_TYPE = UNSIGNED_INTEGER
  SAMPLE_BITS = 8
  BANDS = 1
  BAND_STORAGE_TYPE = BAND_SEQUENTIAL
  MAXIMUM = 255
  MEAN = 127.804
  MINIMUM = 1
  STANDARD_DEVIATION = 20.983
END_OBJECT = IMAGE
/* MAP OBJECT DEFINITIONS */
OBJECT = IMAGE_MAP_PROJECTION
  ^DATA_SET_MAP_PROJECTION_CATALOG= "DSMAP.CAT"
  A_AXIS_RADIUS = 3396.0
  B_AXIS_RADIUS = 3396.0
  C_AXIS_RADIUS = 3396.0
  CENTER_LATITUDE = 0.0
  CENTER_LONGITUDE = 327.0
  COORDINATE_SYSTEM_NAME = PLANETOGRAPHIC
  COORDINATE_SYSTEM_TYPE = "BODY-FIXED ROTATING"
  EASTERNMOST_LONGITUDE = 327.651
  FIRST_STANDARD_PARALLEL = "N/A"
  LINE_FIRST_PIXEL = 1
  LINE_LAST_PIXEL = 9189
  LINE_PROJECTION_OFFSET = 50864.25
  MAP_PROJECTION_ROTATION = 0.0
  MAP_PROJECTION_TYPE = SINUSOIDAL
  MAP_RESOLUTION = 2370.85521546667
  MAP_SCALE = 0.025
  MAXIMUM_LATITUDE = 21.46
  MINIMUM_LATITUDE = 17.5416
  POSITIVE_LONGITUDE_DIRECTION = EAST
  REFERENCE_LATITUDE = "N/A"
  REFERENCE_LONGITUDE = "N/A"
  SAMPLE_FIRST_PIXEL = 1
  SAMPLE_LAST_PIXEL = 2819
  SAMPLE_PROJECTION_OFFSET = 1339.25
  SECOND_STANDARD_PARALLEL = "N/A"
  WESTERNMOST_LONGITUDE = 326.408
END_OBJECT = IMAGE_MAP_PROJECTION
/* The JPEG2000 image data file associated with this label. */
OBJECT = COMPRESSED_FILE
  FILE_NAME = "H3147_0000_S13.JP2"
  RECORD_TYPE = UNDEFINED
  FILE_RECORDS = UNK
  ENCODING_TYPE = "JP2"
  INTERCHANGE_FORMAT = BINARY
  UNCOMPRESSED_FILE_NAME = "H3147_0000_S13.IMG"
  REQUIRED_STORAGE_BYTES = "25926343"
  ^DESCRIPTION = "JP2INFO.TXT"
END_OBJECT = COMPRESSED_FILE
END
