PDS_VERSION_ID = PDS3
/* FILE DATA ELEMENTS */
RECORD_TYPE = STREAM
/* POINTERS TO DATA OBJECTS */
^COMPRESSED_FILE = "H3156_0000_P23.JP2"
/* IDENTIFICATION DATA ELEMENTS */
DATA_SET_ID = "MEX-M-HRSC-5-REFDR-MAPPROJECTED-V3.0"
DATA_SET_NAME = "MARS EXPRESS HRSC MAP PROJECTED REFDR V3.0"
DETECTOR_ID = MEX_HRSC_P2
EVENT_TYPE = "MARS-REGIONAL-MAPPING-Vo-Im-Eo"
INSTRUMENT_HOST_ID = MEX
INSTRUMENT_HOST_NAME = "MARS EXPRESS"
INSTRUMENT_ID = HRSC
INSTRUMENT_NAME = "HIGH RESOLUTION STEREO CAMERA"
MISSION_NAME = "MARS EXPRESS"
MISSION_PHASE_NAME = ME_Phase_3
PROCESSING_LEVEL_ID = 3
PRODUCT_CREATION_TIME = 2016-04-08T23:06:02.000Z
PRODUCT_ID = "H3156_0000_P23.JP2"
RELEASE_ID = 0038
REVISION_ID = 0000
/* QUALITY DATA ELEMENTS */
DATA_QUALITY_ID = 2
DATA_QUALITY_DESC = "Data calculated based on photogrammetrically improved orbit and attitude data"
/* TIME DATA ELEMENTS */
SPACECRAFT_CLOCK_START_COUNT = "1/0099307125.07286"
SPACECRAFT_CLOCK_STOP_COUNT = "1/0099307254.46377"
START_TIME = 2006-06-25T09:19:39.443Z
STOP_TIME = 2006-06-25T09:20:46.160Z
/* ORBITAL DATA ELEMENTS */
ASCENDING_NODE_LONGITUDE = 161.99
MAXIMUM_RESOLUTION = 56.4
FOOTPRINT_POINT_LATITUDE = (5.88295,5.88448,5.88587,5.88726, 5.88869,5.89014,5.89162,5.89314,5.89469 ,5.89625,5.89785,5.89946,5.90108, 5.87573,5.79242,5.70913,5.62587,5.5426, 5.45935,5.37619,5.29312,5.21004,5.12693 ,5.04386,4.91923,4.83615,4.75296, 4.58782,4.50501,4.42222,4.33947,4.25675 ,4.17406,4.09141,4.00867,3.8849,3.76152 ,3.60007,3.43669,3.27141,3.18639, 3.10066,3.01805,2.89609,2.73254,2.52751 ,2.32269,2.15899,1.99548,1.83208, 1.72583,1.72414,1.72182,1.71998,1.71818 ,1.71641,1.7137,1.7119,1.71033,1.70878, 1.70727,1.70481,1.82675,1.99095,2.15466 ,2.31848,2.48246,2.64657,2.81079, 2.97515,3.13967,3.30434,3.46913,3.63407 ,3.71658,3.79914,3.88172,3.96434, 4.04698,4.17104,4.25375,4.33654,4.41937 ,4.50224,4.58511,4.668,4.75096,4.83396, 4.91699,5.0,5.08307,5.16616,5.24929, 5.33246,5.41566,5.49888,5.58214,5.66542 ,5.74874,5.88295)
FOOTPRINT_POINT_LONGITUDE = (162.846,162.747,162.659,162.57,162.482 ,162.393,162.304,162.215,162.126, 162.037,161.947,161.858,161.768,161.675 ,161.674,161.673,161.672,161.671,161.67 ,161.669,161.668,161.667,161.666, 161.665,161.664,161.663,161.662,161.66, 161.659,161.658,161.657,161.655,161.654 ,161.653,161.652,161.65,161.648,161.644 ,161.641,161.639,161.639,161.64,161.639 ,161.637,161.634,161.63,161.627,161.625 ,161.622,161.619,161.665,161.75,161.871 ,161.968,162.065,162.161,162.317, 162.425,162.521,162.616,162.712,162.867 ,162.905,162.904,162.903,162.902, 162.901,162.9,162.899,162.898,162.897, 162.896,162.895,162.894,162.894,162.893 ,162.893,162.892,162.892,162.891, 162.891,162.89,162.89,162.889,162.889, 162.888,162.888,162.888,162.887,162.887 ,162.886,162.886,162.886,162.885, 162.885,162.884,162.884,162.884,162.883 ,162.846)
ORBIT_NUMBER = 3156
ORBITAL_ECCENTRICITY = 0.57
ORBITAL_INCLINATION = 86.67
ORBITAL_SEMIMAJOR_AXIS = 8613.0
PERIAPSIS_ALTITUDE = 310.48
PERIAPSIS_ARGUMENT_ANGLE = 163.38
PERIAPSIS_TIME = 2006-06-25T09:16:36.000Z
SPACECRAFT_ORIENTATION = (0.0,-1.0,0.0)
^MEX_ORIENTATION_DESC = "MEX_ORIENTATION_DESC.TXT"
SPACECRAFT_POINTING_MODE = ACROSSTRACK
^MEX_POINTING_DESC = "MEX_POINTING_DESC.TXT"
RIGHT_ASCENSION = -1e+32
DECLINATION = -1e+32
OFFSET_ANGLE = -0.3
SPACECRAFT_SOLAR_DISTANCE = 2.49234e+08
TARGET_NAME = MARS
/* CAMERA DATA ELEMENTS */
DETECTOR_TEMPERATURE = 18.3705
FOCAL_PLANE_TEMPERATURE = 7.9716
INST_CMPRS_NAME = "DISCRETE COSINE TRANSFORMATION (DCT)"
INST_CMPRS_RATIO = 9.97306
INST_CMPRS_QUALITY = 0
INST_CMPRS_QUANTZ_TBL_ID = 0
INSTRUMENT_TEMPERATURE = 11.234
LENS_TEMPERATURE = 8.5833
MACROPIXEL_SIZE = 4
MISSING_FRAMES = 0
PIXEL_SUBSAMPLING_FLAG = N
SIGNAL_CHAIN_ID = 3
/* RADIOMETRIC DATA ELEMENTS */
BANDWIDTH = 177.0
CENTER_FILTER_WAVELENGTH = 676.5
RADIANCE_OFFSET = 2.89205
RADIANCE_SCALING_FACTOR = 0.0216517
REFLECTANCE_SCALING_FACTOR = 0.000713124
MEX:REFLECTANCE_OFFSET = 0.095253
/* IMAGE OBJECT DEFINITIONS */
OBJECT = IMAGE
  INTERCHANGE_FORMAT = BINARY
  LINES = 4981
  LINE_SAMPLES = 1566
  SAMPLE_TYPE = UNSIGNED_INTEGER
  SAMPLE_BITS = 8
  BANDS = 1
  BAND_STORAGE_TYPE = BAND_SEQUENTIAL
  MAXIMUM = 255
  MEAN = 153.103
  MINIMUM = 1
  STANDARD_DEVIATION = 22.7845
END_OBJECT = IMAGE
/* MAP OBJECT DEFINITIONS */
OBJECT = IMAGE_MAP_PROJECTION
  ^DATA_SET_MAP_PROJECTION_CATALOG= "DSMAP.CAT"
  A_AXIS_RADIUS = 3396.0
  B_AXIS_RADIUS = 3396.0
  C_AXIS_RADIUS = 3396.0
  CENTER_LATITUDE = 0.0
  CENTER_LONGITUDE = 162.0
  COORDINATE_SYSTEM_NAME = PLANETOGRAPHIC
  COORDINATE_SYSTEM_TYPE = "BODY-FIXED ROTATING"
  EASTERNMOST_LONGITUDE = 162.905
  FIRST_STANDARD_PARALLEL = "N/A"
  LINE_FIRST_PIXEL = 1
  LINE_LAST_PIXEL = 4981
  LINE_PROJECTION_OFFSET = 6990.125
  MAP_PROJECTION_ROTATION = 0.0
  MAP_PROJECTION_TYPE = SINUSOIDAL
  MAP_RESOLUTION = 1185.42760773333
  MAP_SCALE = 0.05
  MAXIMUM_LATITUDE = 5.90108
  MINIMUM_LATITUDE = 1.70481
  POSITIVE_LONGITUDE_DIRECTION = EAST
  REFERENCE_LATITUDE = "N/A"
  REFERENCE_LONGITUDE = "N/A"
  SAMPLE_FIRST_PIXEL = 1
  SAMPLE_LAST_PIXEL = 1566
  SAMPLE_PROJECTION_OFFSET = 489.625
  SECOND_STANDARD_PARALLEL = "N/A"
  WESTERNMOST_LONGITUDE = 161.619
END_OBJECT = IMAGE_MAP_PROJECTION
/* The JPEG2000 image data file associated with this label. */
OBJECT = COMPRESSED_FILE
  FILE_NAME = "H3156_0000_P23.JP2"
  RECORD_TYPE = UNDEFINED
  FILE_RECORDS = UNK
  ENCODING_TYPE = "JP2"
  INTERCHANGE_FORMAT = BINARY
  UNCOMPRESSED_FILE_NAME = "H3156_0000_P23.IMG"
  REQUIRED_STORAGE_BYTES = "7819038"
  ^DESCRIPTION = "JP2INFO.TXT"
END_OBJECT = COMPRESSED_FILE
END
