PDS_VERSION_ID = PDS3
/* FILE DATA ELEMENTS */
RECORD_TYPE = STREAM
/* POINTERS TO DATA OBJECTS */
^COMPRESSED_FILE = "H3156_0001_RE3.JP2"
/* IDENTIFICATION DATA ELEMENTS */
DATA_SET_ID = "MEX-M-HRSC-5-REFDR-MAPPROJECTED-V3.0"
DATA_SET_NAME = "MARS EXPRESS HRSC MAP PROJECTED REFDR V3.0"
DETECTOR_ID = MEX_HRSC_RED
EVENT_TYPE = "MARS-REGIONAL-MAPPING-Im-Fl-Lc"
INSTRUMENT_HOST_ID = MEX
INSTRUMENT_HOST_NAME = "MARS EXPRESS"
INSTRUMENT_ID = HRSC
INSTRUMENT_NAME = "HIGH RESOLUTION STEREO CAMERA"
MISSION_NAME = "MARS EXPRESS"
MISSION_PHASE_NAME = ME_Phase_3
PROCESSING_LEVEL_ID = 3
PRODUCT_CREATION_TIME = 2016-04-08T23:06:02.000Z
PRODUCT_ID = "H3156_0001_RE3.JP2"
RELEASE_ID = 0038
REVISION_ID = 0000
/* QUALITY DATA ELEMENTS */
DATA_QUALITY_ID = 2
DATA_QUALITY_DESC = "Data calculated based on photogrammetrically improved orbit and attitude data"
/* TIME DATA ELEMENTS */
SPACECRAFT_CLOCK_START_COUNT = "1/0099307428.08237"
SPACECRAFT_CLOCK_STOP_COUNT = "1/0099307757.42757"
START_TIME = 2006-06-25T09:25:24.291Z
STOP_TIME = 2006-06-25T09:29:04.049Z
/* ORBITAL DATA ELEMENTS */
ASCENDING_NODE_LONGITUDE = 161.99
MAXIMUM_RESOLUTION = 183.7
FOOTPRINT_POINT_LATITUDE = (-14.0925,-14.0899,-14.0859,-14.0807, -14.0737,-14.0669,-14.2419,-14.6313, -14.8306,-15.2191,-15.4211,-15.6266, -15.928,-16.1301,-16.3325,-16.5387, -16.8465,-17.1563,-17.4694,-17.6784, -17.9927,-18.2057,-18.5254,-18.7398, -18.9583,-19.1743,-19.3933,-19.7161, -19.9386,-20.1583,-20.3826,-20.6056, -20.8304,-21.0558,-21.2841,-21.6267, -21.9718,-22.3207,-22.5547,-22.7889, -23.0257,-23.2642,-23.5007,-23.8562, -24.0992,-24.3437,-24.5859,-24.8296, -25.0689,-25.1135,-25.1233,-25.1286, -25.1348,-25.1403,-25.141,-25.1414, -25.1417,-25.0146,-24.7682,-24.5246, -24.1606,-23.9205,-23.6811,-23.324, -23.0847,-22.8499,-22.6137,-22.38, -22.1483,-21.8026,-21.5738,-21.3482, -21.1198,-20.8928,-20.5539,-20.2169, -19.9956,-19.7745,-19.5577,-19.3382, -19.1203,-18.7951,-18.4752,-18.2623, -18.0449,-17.8374,-17.6258,-17.4175, -17.212,-17.0054,-16.6973,-16.4913, -16.2875,-16.0848,-15.7811,-15.3785, -15.1741,-14.7761,-14.3909,-14.0925)
FOOTPRINT_POINT_LONGITUDE = (163.009,162.771,162.479,162.167, 161.817,161.522,161.165,161.148,161.141 ,161.12,161.113,161.106,161.093,161.083 ,161.074,161.065,161.051,161.036, 161.022,161.012,160.996,160.986,160.97, 160.959,160.95,160.938,160.928,160.909, 160.898,160.885,160.874,160.862,160.85, 160.837,160.825,160.806,160.787,160.767 ,160.754,160.74,160.726,160.713,160.698 ,160.674,160.659,160.645,160.629, 160.612,160.593,161.008,161.48,161.785, 162.2,162.614,162.835,163.055,163.358, 163.535,163.523,163.511,163.493,163.481 ,163.47,163.453,163.443,163.432,163.423 ,163.413,163.403,163.388,163.379, 163.369,163.36,163.352,163.34,163.328, 163.32,163.312,163.303,163.296,163.289, 163.278,163.267,163.26,163.254,163.247, 163.24,163.233,163.227,163.22,163.211, 163.205,163.199,163.193,163.185,163.174 ,163.17,163.16,163.149,163.009)
ORBIT_NUMBER = 3156
ORBITAL_ECCENTRICITY = 0.57
ORBITAL_INCLINATION = 86.67
ORBITAL_SEMIMAJOR_AXIS = 8613.0
PERIAPSIS_ALTITUDE = 310.48
PERIAPSIS_ARGUMENT_ANGLE = 163.38
PERIAPSIS_TIME = 2006-06-25T09:16:36.000Z
SPACECRAFT_ORIENTATION = (0.0,-1.0,0.0)
^MEX_ORIENTATION_DESC = "MEX_ORIENTATION_DESC.TXT"
SPACECRAFT_POINTING_MODE = ACROSSTRACK
^MEX_POINTING_DESC = "MEX_POINTING_DESC.TXT"
RIGHT_ASCENSION = -1e+32
DECLINATION = -1e+32
OFFSET_ANGLE = -0.3
SPACECRAFT_SOLAR_DISTANCE = 2.49234e+08
TARGET_NAME = MARS
/* CAMERA DATA ELEMENTS */
DETECTOR_TEMPERATURE = 19.7978
FOCAL_PLANE_TEMPERATURE = 8.3794
INST_CMPRS_NAME = "DISCRETE COSINE TRANSFORMATION (DCT)"
INST_CMPRS_RATIO = 3.62299
INST_CMPRS_QUALITY = 0
INST_CMPRS_QUANTZ_TBL_ID = 0
INSTRUMENT_TEMPERATURE = 12.0496
LENS_TEMPERATURE = 8.5833
MACROPIXEL_SIZE = 8
MISSING_FRAMES = 0
PIXEL_SUBSAMPLING_FLAG = N
SIGNAL_CHAIN_ID = 2
/* RADIOMETRIC DATA ELEMENTS */
BANDWIDTH = 48.0
CENTER_FILTER_WAVELENGTH = 748.0
RADIANCE_OFFSET = 0.200885
RADIANCE_SCALING_FACTOR = 0.00605018
REFLECTANCE_SCALING_FACTOR = 0.000857653
MEX:REFLECTANCE_OFFSET = 0.0284768
/* IMAGE OBJECT DEFINITIONS */
OBJECT = IMAGE
  INTERCHANGE_FORMAT = BINARY
  LINES = 3280
  LINE_SAMPLES = 736
  SAMPLE_TYPE = UNSIGNED_INTEGER
  SAMPLE_BITS = 8
  BANDS = 1
  BAND_STORAGE_TYPE = BAND_SEQUENTIAL
  MAXIMUM = 255
  MEAN = 120.304
  MINIMUM = 1
  STANDARD_DEVIATION = 30.3622
END_OBJECT = IMAGE
/* MAP OBJECT DEFINITIONS */
OBJECT = IMAGE_MAP_PROJECTION
  ^DATA_SET_MAP_PROJECTION_CATALOG= "DSMAP.CAT"
  A_AXIS_RADIUS = 3396.0
  B_AXIS_RADIUS = 3396.0
  C_AXIS_RADIUS = 3396.0
  CENTER_LATITUDE = 0.0
  CENTER_LONGITUDE = 162.0
  COORDINATE_SYSTEM_NAME = PLANETOGRAPHIC
  COORDINATE_SYSTEM_TYPE = "BODY-FIXED ROTATING"
  EASTERNMOST_LONGITUDE = 163.535
  FIRST_STANDARD_PARALLEL = "N/A"
  LINE_FIRST_PIXEL = 1
  LINE_LAST_PIXEL = 3280
  LINE_PROJECTION_OFFSET = -4169.3125
  MAP_PROJECTION_ROTATION = 0.0
  MAP_PROJECTION_TYPE = SINUSOIDAL
  MAP_RESOLUTION = 296.356901933333
  MAP_SCALE = 0.2
  MAXIMUM_LATITUDE = -14.0669
  MINIMUM_LATITUDE = -25.1417
  POSITIVE_LONGITUDE_DIRECTION = EAST
  REFERENCE_LATITUDE = "N/A"
  REFERENCE_LONGITUDE = "N/A"
  SAMPLE_FIRST_PIXEL = 1
  SAMPLE_LAST_PIXEL = 736
  SAMPLE_PROJECTION_OFFSET = 351.4375
  SECOND_STANDARD_PARALLEL = "N/A"
  WESTERNMOST_LONGITUDE = 160.593
END_OBJECT = IMAGE_MAP_PROJECTION
/* The JPEG2000 image data file associated with this label. */
OBJECT = COMPRESSED_FILE
  FILE_NAME = "H3156_0001_RE3.JP2"
  RECORD_TYPE = UNDEFINED
  FILE_RECORDS = UNK
  ENCODING_TYPE = "JP2"
  INTERCHANGE_FORMAT = BINARY
  UNCOMPRESSED_FILE_NAME = "H3156_0001_RE3.IMG"
  REQUIRED_STORAGE_BYTES = "2431744"
  ^DESCRIPTION = "JP2INFO.TXT"
END_OBJECT = COMPRESSED_FILE
END
