PDS_VERSION_ID = PDS3
/* FILE DATA ELEMENTS */
RECORD_TYPE = STREAM
/* POINTERS TO DATA OBJECTS */
^COMPRESSED_FILE = "H3158_0000_GR3.JP2"
/* IDENTIFICATION DATA ELEMENTS */
DATA_SET_ID = "MEX-M-HRSC-5-REFDR-MAPPROJECTED-V3.0"
DATA_SET_NAME = "MARS EXPRESS HRSC MAP PROJECTED REFDR V3.0"
DETECTOR_ID = MEX_HRSC_GREEN
EVENT_TYPE = "MARS-REGIONAL-MAPPING-Te-Fl-La"
INSTRUMENT_HOST_ID = MEX
INSTRUMENT_HOST_NAME = "MARS EXPRESS"
INSTRUMENT_ID = HRSC
INSTRUMENT_NAME = "HIGH RESOLUTION STEREO CAMERA"
MISSION_NAME = "MARS EXPRESS"
MISSION_PHASE_NAME = ME_Phase_3
PROCESSING_LEVEL_ID = 3
PRODUCT_CREATION_TIME = 2016-04-08T23:06:02.000Z
PRODUCT_ID = "H3158_0000_GR3.JP2"
RELEASE_ID = 0038
REVISION_ID = 0000
/* QUALITY DATA ELEMENTS */
DATA_QUALITY_ID = 2
DATA_QUALITY_DESC = "Data calculated based on photogrammetrically improved orbit and attitude data"
/* TIME DATA ELEMENTS */
SPACECRAFT_CLOCK_START_COUNT = "1/0099355661.07283"
SPACECRAFT_CLOCK_STOP_COUNT = "1/0099355884.40679"
START_TIME = 2006-06-25T22:48:16.015Z
STOP_TIME = 2006-06-25T22:50:26.291Z
/* ORBITAL DATA ELEMENTS */
ASCENDING_NODE_LONGITUDE = 161.96
MAXIMUM_RESOLUTION = 129.8
FOOTPRINT_POINT_LATITUDE = (-4.77073,-4.76969,-4.76851,-4.76742, -4.7663,-4.76516,-4.88459,-5.11657, -5.40501,-5.58174,-5.69998,-5.81803, -5.99496,-6.17165,-6.40713,-6.52537, -6.6464,-6.76695,-6.88766,-7.06843, -7.1889,-7.30918,-7.4293,-7.6122, -7.73517,-7.85827,-7.98125,-8.16546, -8.28855,-8.41127,-8.5359,-10.4034, -10.5337,-10.6641,-10.7941,-10.9244, -11.0546,-11.2534,-11.3861,-11.5184, -11.7174,-11.8499,-11.9845,-12.1201, -12.2528,-12.3871,-12.5218,-12.6568, -12.8187,-12.82,-12.8217,-12.8229, -12.8247,-12.8262,-12.8271,-12.8278, -12.8289,-12.7586,-12.622,-12.4871, -12.352,-12.2169,-12.0143,-11.8794, -11.7472,-11.6146,-11.4157,-11.2831, -11.0843,-10.953,-10.823,-10.6287, -10.4334,-8.56497,-8.37789,-8.25508, -8.13239,-8.00931,-7.88612,-7.76274, -7.63949,-7.51595,-7.39531,-7.21438, -7.09506,-6.91426,-6.73322,-6.55261, -6.43126,-6.31243,-6.07658,-5.95862, -5.78155,-5.66349,-5.54526,-5.42742, -5.19695,-5.02396,-4.79334,-4.77073)
FOOTPRINT_POINT_LONGITUDE = (326.24,326.031,325.795,325.584,325.373 ,325.161,325.011,325.002,324.994, 324.989,324.985,324.982,324.978,324.974 ,324.968,324.966,324.962,324.959, 324.955,324.95,324.947,324.944,324.941, 324.936,324.933,324.929,324.926,324.921 ,324.917,324.914,324.91,324.855,324.851 ,324.847,324.844,324.839,324.835, 324.829,324.825,324.822,324.815,324.811 ,324.806,324.801,324.803,324.801, 324.797,324.792,324.867,325.016,325.23, 325.378,325.624,325.853,326.0,326.131, 326.326,326.531,326.529,326.526,326.524 ,326.522,326.519,326.517,326.515, 326.513,326.51,326.508,326.506,326.502, 326.5,326.499,326.496,326.471,326.468, 326.467,326.465,326.464,326.462,326.46, 326.459,326.457,326.455,326.452,326.452 ,326.45,326.448,326.446,326.443,326.44, 326.438,326.436,326.434,326.433,326.432 ,326.431,326.429,326.427,326.425, 326.24)
ORBIT_NUMBER = 3158
ORBITAL_ECCENTRICITY = 0.57
ORBITAL_INCLINATION = 86.67
ORBITAL_SEMIMAJOR_AXIS = 8612.0
PERIAPSIS_ALTITUDE = 310.5
PERIAPSIS_ARGUMENT_ANGLE = 163.01
PERIAPSIS_TIME = 2006-06-25T22:42:46.000Z
SPACECRAFT_ORIENTATION = (0.0,-1.0,0.0)
^MEX_ORIENTATION_DESC = "MEX_ORIENTATION_DESC.TXT"
SPACECRAFT_POINTING_MODE = ACROSSTRACK
^MEX_POINTING_DESC = "MEX_POINTING_DESC.TXT"
RIGHT_ASCENSION = -1e+32
DECLINATION = -1e+32
OFFSET_ANGLE = -0.31
SPACECRAFT_SOLAR_DISTANCE = 2.49234e+08
TARGET_NAME = MARS
/* CAMERA DATA ELEMENTS */
DETECTOR_TEMPERATURE = 18.1666
FOCAL_PLANE_TEMPERATURE = 7.7677
INST_CMPRS_NAME = "DISCRETE COSINE TRANSFORMATION (DCT)"
INST_CMPRS_RATIO = 5.91116
INST_CMPRS_QUALITY = 0
INST_CMPRS_QUANTZ_TBL_ID = 0
INSTRUMENT_TEMPERATURE = 11.0301
LENS_TEMPERATURE = 8.3794
MACROPIXEL_SIZE = 8
MISSING_FRAMES = 103
PIXEL_SUBSAMPLING_FLAG = N
SIGNAL_CHAIN_ID = 2
/* RADIOMETRIC DATA ELEMENTS */
BANDWIDTH = 88.0
CENTER_FILTER_WAVELENGTH = 538.0
RADIANCE_OFFSET = 0.500376
RADIANCE_SCALING_FACTOR = 0.00539621
REFLECTANCE_SCALING_FACTOR = 0.000288598
MEX:REFLECTANCE_OFFSET = 0.0267609
/* IMAGE OBJECT DEFINITIONS */
OBJECT = IMAGE
  INTERCHANGE_FORMAT = BINARY
  LINES = 4781
  LINE_SAMPLES = 1073
  SAMPLE_TYPE = UNSIGNED_INTEGER
  SAMPLE_BITS = 8
  BANDS = 1
  BAND_STORAGE_TYPE = BAND_SEQUENTIAL
  MAXIMUM = 255
  MEAN = 109.234
  MINIMUM = 1
  STANDARD_DEVIATION = 31.603
END_OBJECT = IMAGE
/* MAP OBJECT DEFINITIONS */
OBJECT = IMAGE_MAP_PROJECTION
  ^DATA_SET_MAP_PROJECTION_CATALOG= "DSMAP.CAT"
  A_AXIS_RADIUS = 3396.0
  B_AXIS_RADIUS = 3396.0
  C_AXIS_RADIUS = 3396.0
  CENTER_LATITUDE = 0.0
  CENTER_LONGITUDE = 326.0
  COORDINATE_SYSTEM_NAME = PLANETOGRAPHIC
  COORDINATE_SYSTEM_TYPE = "BODY-FIXED ROTATING"
  EASTERNMOST_LONGITUDE = 326.531
  FIRST_STANDARD_PARALLEL = "N/A"
  LINE_FIRST_PIXEL = 1
  LINE_LAST_PIXEL = 4781
  LINE_PROJECTION_OFFSET = -2821.3125
  MAP_PROJECTION_ROTATION = 0.0
  MAP_PROJECTION_TYPE = SINUSOIDAL
  MAP_RESOLUTION = 592.713803866667
  MAP_SCALE = 0.1
  MAXIMUM_LATITUDE = -4.76516
  MINIMUM_LATITUDE = -12.8289
  POSITIVE_LONGITUDE_DIRECTION = EAST
  REFERENCE_LATITUDE = "N/A"
  REFERENCE_LONGITUDE = "N/A"
  SAMPLE_FIRST_PIXEL = 1
  SAMPLE_LAST_PIXEL = 1073
  SAMPLE_PROJECTION_OFFSET = 744.5625
  SECOND_STANDARD_PARALLEL = "N/A"
  WESTERNMOST_LONGITUDE = 324.792
END_OBJECT = IMAGE_MAP_PROJECTION
/* The JPEG2000 image data file associated with this label. */
OBJECT = COMPRESSED_FILE
  FILE_NAME = "H3158_0000_GR3.JP2"
  RECORD_TYPE = UNDEFINED
  FILE_RECORDS = UNK
  ENCODING_TYPE = "JP2"
  INTERCHANGE_FORMAT = BINARY
  UNCOMPRESSED_FILE_NAME = "H3158_0000_GR3.IMG"
  REQUIRED_STORAGE_BYTES = "5148254"
  ^DESCRIPTION = "JP2INFO.TXT"
END_OBJECT = COMPRESSED_FILE
END
