PDS_VERSION_ID = PDS3
/* FILE DATA ELEMENTS */
RECORD_TYPE = STREAM
/* POINTERS TO DATA OBJECTS */
^COMPRESSED_FILE = "H3183_0000_BL3.JP2"
/* IDENTIFICATION DATA ELEMENTS */
DATA_SET_ID = "MEX-M-HRSC-5-REFDR-MAPPROJECTED-V3.0"
DATA_SET_NAME = "MARS EXPRESS HRSC MAP PROJECTED REFDR V3.0"
DETECTOR_ID = MEX_HRSC_BLUE
EVENT_TYPE = "MARS-REGIONAL-MAPPING-Im"
INSTRUMENT_HOST_ID = MEX
INSTRUMENT_HOST_NAME = "MARS EXPRESS"
INSTRUMENT_ID = HRSC
INSTRUMENT_NAME = "HIGH RESOLUTION STEREO CAMERA"
MISSION_NAME = "MARS EXPRESS"
MISSION_PHASE_NAME = ME_Phase_3
PROCESSING_LEVEL_ID = 3
PRODUCT_CREATION_TIME = 2016-04-09T01:52:00.000Z
PRODUCT_ID = "H3183_0000_BL3.JP2"
RELEASE_ID = 0039
REVISION_ID = 0000
/* QUALITY DATA ELEMENTS */
DATA_QUALITY_ID = 2
DATA_QUALITY_DESC = "Data calculated based on photogrammetrically improved orbit and attitude data"
/* TIME DATA ELEMENTS */
SPACECRAFT_CLOCK_START_COUNT = "1/0099959456.08262"
SPACECRAFT_CLOCK_STOP_COUNT = "1/0099959688.65125"
START_TIME = 2006-07-02T22:32:12.784Z
STOP_TIME = 2006-07-02T22:34:19.033Z
/* ORBITAL DATA ELEMENTS */
ASCENDING_NODE_LONGITUDE = 161.43
MAXIMUM_RESOLUTION = 145
FOOTPRINT_POINT_LATITUDE = (54.1859,54.1813,54.1716,54.1602,54.147 ,54.1322,54.1157,54.1033,53.9453, 53.7806,53.6156,53.4504,53.2863,53.124, 52.9616,52.7989,52.637,52.4769,52.2368, 52.0763,51.8384,51.682,51.5252,51.3683, 51.2111,51.0557,50.8996,50.7445,50.5902 ,50.437,50.2862,50.1342,49.9819,49.8291 ,49.6766,49.5274,49.3776,49.1538, 49.0044,48.7813,48.6335,48.485,48.2639, 48.1166,47.9714,47.8273,47.6831,47.5387 ,47.3941,47.1776,46.8236,46.4726,46.484 ,46.4918,46.5041,46.512,46.5164,46.5205 ,46.6706,46.9553,47.2395,47.4567, 47.6018,47.7469,47.8916,48.1085,48.2555 ,48.4036,48.6257,48.7739,48.9968, 49.1479,49.2987,49.4493,49.5993,49.7491 ,49.9014,50.0542,50.2836,50.5131, 50.7466,50.9024,51.0581,51.213,51.37, 51.5278,51.7652,51.9234,52.1635,52.3247 ,52.4856,52.7269,52.8901,53.0537, 53.2172,53.3806,53.6291,53.7952,54.0444 ,54.1859)
FOOTPRINT_POINT_LONGITUDE = (30.8089,30.5389,30.0615,29.5863, 29.1134,28.6434,28.1753,27.8542,27.6662 ,27.6919,27.7173,27.7425,27.7672, 27.7913,27.8151,27.8386,27.8618,27.8847 ,27.9183,27.9406,27.9726,27.9923, 28.0123,28.0319,28.052,28.0724,28.0933, 28.1126,28.1308,28.1482,28.1651,28.1828 ,28.2006,28.2185,28.2367,28.2533, 28.2703,28.2941,28.31,28.3348,28.3512, 28.3679,28.3909,28.406,28.4208,28.435, 28.4491,28.4631,28.4771,28.4979,28.531, 28.5635,28.8977,29.1739,29.6649,30.0306 ,30.2472,30.486,30.8504,30.8522,30.8539 ,30.8552,30.8559,30.8568,30.8568,30.857 ,30.8566,30.858,30.8609,30.8641,30.8695 ,30.872,30.8738,30.875,30.8746,30.874, 30.8735,30.8727,30.8728,30.8747,30.8769 ,30.8776,30.8784,30.8765,30.8781, 30.8762,30.8765,30.8774,30.8804,30.8815 ,30.8823,30.8841,30.8853,30.8859, 30.8866,30.8877,30.8889,30.8896,30.8915 ,30.8089)
ORBIT_NUMBER = 3183
ORBITAL_ECCENTRICITY = 0.57
ORBITAL_INCLINATION = 86.67
ORBITAL_SEMIMAJOR_AXIS = 8615.61
PERIAPSIS_ALTITUDE = 314.72
PERIAPSIS_ARGUMENT_ANGLE = 158.59
PERIAPSIS_TIME = 2006-07-02T22:40:43.000Z
SPACECRAFT_ORIENTATION = (0.0,-1.0,0.0)
^MEX_ORIENTATION_DESC = "MEX_ORIENTATION_DESC.TXT"
SPACECRAFT_POINTING_MODE = ACROSSTRACK
^MEX_POINTING_DESC = "MEX_POINTING_DESC.TXT"
RIGHT_ASCENSION = -1e+32
DECLINATION = -1e+32
OFFSET_ANGLE = 0.5
SPACECRAFT_SOLAR_DISTANCE = 2.49199e+08
TARGET_NAME = MARS
/* CAMERA DATA ELEMENTS */
DETECTOR_TEMPERATURE = 18.3705
FOCAL_PLANE_TEMPERATURE = 8.3794
INST_CMPRS_NAME = "DISCRETE COSINE TRANSFORMATION (DCT)"
INST_CMPRS_RATIO = 24.1646
INST_CMPRS_QUALITY = 0
INST_CMPRS_QUANTZ_TBL_ID = 0
INSTRUMENT_TEMPERATURE = 11.234
LENS_TEMPERATURE = 8.7872
MACROPIXEL_SIZE = 8
MISSING_FRAMES = 0
PIXEL_SUBSAMPLING_FLAG = N
SIGNAL_CHAIN_ID = 2
/* RADIOMETRIC DATA ELEMENTS */
BANDWIDTH = 76.0
CENTER_FILTER_WAVELENGTH = 444.0
RADIANCE_OFFSET = 0.569925
RADIANCE_SCALING_FACTOR = 0.00161608
REFLECTANCE_SCALING_FACTOR = 0.000103112
MEX:REFLECTANCE_OFFSET = 0.0363635
/* IMAGE OBJECT DEFINITIONS */
OBJECT = IMAGE
  INTERCHANGE_FORMAT = BINARY
  LINES = 4571
  LINE_SAMPLES = 1203
  SAMPLE_TYPE = UNSIGNED_INTEGER
  SAMPLE_BITS = 8
  BANDS = 1
  BAND_STORAGE_TYPE = BAND_SEQUENTIAL
  MAXIMUM = 255
  MEAN = 113.732
  MINIMUM = 1
  STANDARD_DEVIATION = 27.262
END_OBJECT = IMAGE
/* MAP OBJECT DEFINITIONS */
OBJECT = IMAGE_MAP_PROJECTION
  ^DATA_SET_MAP_PROJECTION_CATALOG= "DSMAP.CAT"
  A_AXIS_RADIUS = 3396.0
  B_AXIS_RADIUS = 3396.0
  C_AXIS_RADIUS = 3396.0
  CENTER_LATITUDE = 0.0
  CENTER_LONGITUDE = 30.0
  COORDINATE_SYSTEM_NAME = PLANETOGRAPHIC
  COORDINATE_SYSTEM_TYPE = "BODY-FIXED ROTATING"
  EASTERNMOST_LONGITUDE = 30.8915
  FIRST_STANDARD_PARALLEL = "N/A"
  LINE_FIRST_PIXEL = 1
  LINE_LAST_PIXEL = 4571
  LINE_PROJECTION_OFFSET = 32126.4375
  MAP_PROJECTION_ROTATION = 0.0
  MAP_PROJECTION_TYPE = SINUSOIDAL
  MAP_RESOLUTION = 592.713803866667
  MAP_SCALE = 0.1
  MAXIMUM_LATITUDE = 54.1859
  MINIMUM_LATITUDE = 46.4726
  POSITIVE_LONGITUDE_DIRECTION = EAST
  REFERENCE_LATITUDE = "N/A"
  REFERENCE_LONGITUDE = "N/A"
  SAMPLE_FIRST_PIXEL = 1
  SAMPLE_LAST_PIXEL = 1203
  SAMPLE_PROJECTION_OFFSET = 839.5625
  SECOND_STANDARD_PARALLEL = "N/A"
  WESTERNMOST_LONGITUDE = 27.6662
END_OBJECT = IMAGE_MAP_PROJECTION
/* The JPEG2000 image data file associated with this label. */
OBJECT = COMPRESSED_FILE
  FILE_NAME = "H3183_0000_BL3.JP2"
  RECORD_TYPE = UNDEFINED
  FILE_RECORDS = UNK
  ENCODING_TYPE = "JP2"
  INTERCHANGE_FORMAT = BINARY
  UNCOMPRESSED_FILE_NAME = "H3183_0000_BL3.IMG"
  REQUIRED_STORAGE_BYTES = "5516958"
  ^DESCRIPTION = "JP2INFO.TXT"
END_OBJECT = COMPRESSED_FILE
END
